Report for WWW-Shorten-Yourls-1.001

Back
From: metabase:user:30977d10-2aae-11df-837a-5e0a49663a4f
Subject: PASS WWW-Shorten-Yourls-1.001 v5.22.2 SunOS/Solaris
Date: 2017-02-22T06:05:56Z

This distribution has been tested as part of the CPAN Testers
project, supporting the Perl programming language.  See
http://wiki.cpantesters.org/ for more information or email
questions to cpan-testers-discuss@perl.org


--
Dear Chase Whitener,

This is a computer-generated report for WWW-Shorten-Yourls-1.001
on perl 5.22.2, created by CPAN-Reporter-1.2018.

Thank you for uploading your work to CPAN.  Congratulations!
All tests were successful.

Sections of this report:

    * Tester comments
    * Program output
    * Prerequisites
    * Environment and other context

------------------------------
TESTER COMMENTS
------------------------------

Additional comments from tester:

this report is from an automated smoke testing program
and was not reviewed by a human for accuracy

------------------------------
PROGRAM OUTPUT
------------------------------

Output from '/usr/bin/make test':

PERL_DL_NONLAZY=1 "/home/stro/perl/5.22.2t/bin/perl" "-MExtUtils::Command::MM" "-MTest::Harness" "-e" "undef *Test::Harness::Switches; test_harness(0, 'blib/lib', 'blib/arch')" t/*.t
# 
# Versions for all modules listed in MYMETA.json (including optional ones):
# 
# === Configure Requires ===
# 
#     Module              Want Have
#     ------------------- ---- ----
#     ExtUtils::MakeMaker  any 7.24
# 
# === Build Requires ===
# 
#     Module              Want Have
#     ------------------- ---- ----
#     ExtUtils::MakeMaker  any 7.24
# 
# === Test Requires ===
# 
#     Module              Want     Have
#     ------------------- ---- --------
#     ExtUtils::MakeMaker  any     7.24
#     File::HomeDir       1.00     1.00
#     File::Spec           any  3.56_01
#     Path::Tiny           any    0.100
#     Test::More          0.88 1.302075
#     Try::Tiny           0.24     0.28
#     URI                 1.58     1.71
# 
# === Test Recommends ===
# 
#     Module         Want     Have
#     ---------- -------- --------
#     CPAN::Meta 2.120900 2.150010
# 
# === Runtime Requires ===
# 
#     Module               Want     Have
#     -------------------- ---- --------
#     Carp                  any     1.38
#     Exporter              any     5.72
#     File::HomeDir        1.00     1.00
#     File::Spec            any  3.56_01
#     JSON::MaybeXS         any 1.003008
#     LWP::Protocol::https  any     6.06
#     Path::Tiny            any    0.100
#     Scalar::Util          any     1.47
#     URI                  1.58     1.71
#     WWW::Shorten         3.09    3.093
#     base                  any     2.22
#     constant              any     1.33
#     strict                any     1.09
#     warnings              any     1.34
# 
t/00-report-prereqs.t .. ok
t/01-use.t ............. ok
t/01-use2.t ............ ok
t/02-attrs.t ........... ok
t/02-attrs2.t .......... ok
All tests successful.
Files=5, Tests=58,  1 wallclock secs ( 0.03 usr  0.01 sys +  0.54 cusr  0.08 csys =  0.66 CPU)
Result: PASS

------------------------------
PREREQUISITES
------------------------------

Prerequisite modules loaded:

requires:

    Module               Need     Have    
    -------------------- -------- --------
    base                 0        2.22    
    Carp                 0        1.38    
    constant             0        1.33    
    Exporter             0        5.72    
    File::HomeDir        1.00     1.00    
    File::Spec           0        3.56_01 
    JSON::MaybeXS        0        1.003008
    LWP::Protocol::https 0        6.06    
    Path::Tiny           0        0.100   
    perl                 5.008001 5.022002
    Scalar::Util         0        1.47    
    strict               0        1.09    
    URI                  1.58     1.71    
    warnings             0        1.34    
    WWW::Shorten         3.09     3.093   

build_requires:

    Module               Need     Have    
    -------------------- -------- --------
    ExtUtils::MakeMaker  0        7.24    
    File::HomeDir        1.00     1.00    
    File::Spec           0        3.56_01 
    Path::Tiny           0        0.100   
    Test::More           0.88     1.302075
    Try::Tiny            0.24     0.28    
    URI                  1.58     1.71    

configure_requires:

    Module               Need     Have    
    -------------------- -------- --------
    ExtUtils::MakeMaker  0        7.24    

opt_build_requires:

    Module               Need     Have    
    -------------------- -------- --------
    CPAN::Meta           2.120900 2.150010


------------------------------
ENVIRONMENT AND OTHER CONTEXT
------------------------------

Environment variables:

    AUTOMATED_TESTING = 1
    LANG = en_US.UTF-8
    PATH = /usr/gnu/bin:/usr/bin:/usr/sbin:/sbin:/usr/sfw/bin:
    PERL5LIB = 
    PERL5OPT = 
    PERL5_CPANPLUS_IS_RUNNING = 10291
    PERL5_CPAN_IS_RUNNING = 10291
    PERL5_CPAN_IS_RUNNING_IN_RECURSION = 20954,10291
    PERL_CR_SMOKER_CURRENT = WWW-Shorten-Yourls-1.001
    PERL_EXTUTILS_AUTOINSTALL = --defaultdeps
    PERL_MM_USE_DEFAULT = 1
    SHELL = /bin/bash
    TERM = xterm

Perl special variables (and OS-specific diagnostics, for MSWin32):

    $^X = /home/stro/perl/5.22.2t/bin/perl
    $UID/$EUID = 101 / 101
    $GID = 10 10
    $EGID = 10 10

Perl module toolchain versions installed:

    Module              Have    
    ------------------- --------
    CPAN                2.14    
    CPAN::Meta          2.150010
    Cwd                 3.56_01 
    ExtUtils::CBuilder  0.280221
    ExtUtils::Command   7.24    
    ExtUtils::Install   2.04    
    ExtUtils::MakeMaker 7.24    
    ExtUtils::Manifest  1.70    
    ExtUtils::ParseXS   3.28    
    File::Spec          3.56_01 
    JSON                2.90    
    JSON::PP            2.27400 
    Module::Build       0.4220  
    Module::Signature   0.81    
    Parse::CPAN::Meta   2.150010
    Test::Harness       3.35    
    Test::More          1.302075
    YAML                1.21    
    YAML::Syck          1.29    
    version             0.9909  


--

Summary of my perl5 (revision 5 version 22 subversion 2) configuration:
   
  Platform:
    osname=solaris, osvers=2.11, archname=i86pc-solaris-thread-multi
    uname='sunos vm-openindiana-001 5.11 illumos-2816291 i86pc i386 i86pc '
    config_args='-Dcc=gcc'
    hint=recommended, useposix=true, d_sigaction=define
    useithreads=define, usemultiplicity=define
    use64bitint=undef, use64bitall=undef, uselongdouble=undef
    usemymalloc=n, bincompat5005=undef
  Compiler:
    cc='gcc', ccflags ='-D_REENTRANT -fno-strict-aliasing -pipe -I/usr/gnu/include -D_LARGEFILE_SOURCE -D_FILE_OFFSET_BITS=64 -DPERL_USE_SAFE_PUTENV',
    optimize='-O',
    cppflags='-D_REENTRANT -fno-strict-aliasing -pipe -I/usr/gnu/include'
    ccversion='', gccversion='3.4.3 (csl-sol210-3_4-20050802)', gccosandvers='solaris2.11'
    intsize=4, longsize=4, ptrsize=4, doublesize=8, byteorder=1234, doublekind=3
    d_longlong=define, longlongsize=8, d_longdbl=define, longdblsize=12, longdblkind=3
    ivtype='long', ivsize=4, nvtype='double', nvsize=8, Off_t='off_t', lseeksize=8
    alignbytes=4, prototype=define
  Linker and Libraries:
    ld='gcc', ldflags =' -L/usr/gnu/lib '
    libpth=/usr/gcc/3.4/lib /usr/lib /usr/gnu/lib /usr/ccs/lib
    libs=-lpthread -lsocket -lnsl -lgdbm -ldb -ldl -lm -lc
    perllibs=-lpthread -lsocket -lnsl -ldl -lm -lc
    libc=/lib/libc.so, so=so, useshrplib=false, libperl=libperl.a
    gnulibc_version=''
  Dynamic Linking:
    dlsrc=dl_dlopen.xs, dlext=so, d_dlsymun=undef, ccdlflags=' '
    cccdlflags='-fPIC', lddlflags='-shared -L/usr/gnu/lib'


Characteristics of this binary (from libperl): 
  Compile-time options: HAS_TIMES MULTIPLICITY PERLIO_LAYERS
                        PERL_DONT_CREATE_GVSV
                        PERL_HASH_FUNC_ONE_AT_A_TIME_HARD
                        PERL_IMPLICIT_CONTEXT PERL_MALLOC_WRAP
                        PERL_NEW_COPY_ON_WRITE PERL_PRESERVE_IVUV
                        PERL_USE_SAFE_PUTENV USE_ITHREADS USE_LARGE_FILES
                        USE_LOCALE USE_LOCALE_COLLATE USE_LOCALE_CTYPE
                        USE_LOCALE_NUMERIC USE_LOCALE_TIME USE_PERLIO
                        USE_PERL_ATOF USE_REENTRANT_API
  Built under solaris
  Compiled at Dec 24 2016 02:34:52
  %ENV:
    PERL5LIB=""
    PERL5OPT=""
    PERL5_CPANPLUS_IS_RUNNING="10291"
    PERL5_CPAN_IS_RUNNING="10291"
    PERL5_CPAN_IS_RUNNING_IN_RECURSION="20954,10291"
    PERL_CR_SMOKER_CURRENT="WWW-Shorten-Yourls-1.001"
    PERL_EXTUTILS_AUTOINSTALL="--defaultdeps"
    PERL_MM_USE_DEFAULT="1"
  @INC:
    /home/stro/perl/5.22.2t/lib/site_perl/5.22.2/i86pc-solaris-thread-multi
    /home/stro/perl/5.22.2t/lib/site_perl/5.22.2
    /home/stro/perl/5.22.2t/lib/5.22.2/i86pc-solaris-thread-multi
    /home/stro/perl/5.22.2t/lib/5.22.2
    .