Report for Net-Statsd-Server-0.12

Back
From: metabase:user:314402c4-2aae-11df-837a-5e0a49663a4f
Subject: PASS Net-Statsd-Server-0.12 v5.18.2 RC4 FreeBSD
Date: 2013-12-30T22:37:34Z

This distribution has been tested as part of the CPAN Testers
project, supporting the Perl programming language.  See
http://wiki.cpantesters.org/ for more information or email
questions to cpan-testers-discuss@perl.org


--
Dear Cosimo Streppone,

This is a computer-generated report for Net-Statsd-Server-0.12
on perl 5.18.2, created by CPAN-Reporter-1.2010.

Thank you for uploading your work to CPAN.  Congratulations!
All tests were successful.

Sections of this report:

    * Tester comments
    * Program output
    * Prerequisites
    * Environment and other context

------------------------------
TESTER COMMENTS
------------------------------

Additional comments from tester:

none provided

------------------------------
PROGRAM OUTPUT
------------------------------

Output from '/usr/bin/make test':

PERL_DL_NONLAZY=1 /usr/perl5.18.2-RC4/bin/perl "-MExtUtils::Command::MM" "-MTest::Harness" "-e" "undef *Test::Harness::Switches; test_harness(0, 'blib/lib', 'blib/arch')" t/*.t t/integration-tests/*.t
t/000-sanity.t .......................... ok
t/graphite.t ............................ ok
2013-12-30 23:24:24.000000 +0100 note  Net::Statsd::Server: Initializing Net::Statsd::Server::Backend::Console backend
2013-12-30 23:24:24.000000 +0100 note  Net::Statsd::Server: Initializing Net::Statsd::Server::Backend::Graphite backend
2013-12-30 23:24:24.000000 +0100 info  AnyEvent: Autoloaded model 'AnyEvent::Impl::EV', using it.
Couldn't set SO_RCVBUF: No buffer space available at /home/cpansand/.cpan/build/Net-Statsd-Server-0.12-ukkPV4/bin/../lib/Net/Statsd/Server.pm line 711.
2013-12-30 23:24:24.523260 +0100 note  Net::Statsd::Server: statsd server started on 0.0.0.0:40001 (v0.12)
2013-12-30 23:24:24.523365 +0100 note  Net::Statsd::Server: manager interface started on 0.0.0.0:40002
2013-12-30 23:24:24.523498 +0100 note  Net::Statsd::Server: metrics flush will happen every 1s
2013-12-30 23:24:24.845679 +0100 warn  Net::Statsd::Server: Bad line: 1 in msg "a_bad_test_value|z"
2013-12-30 23:24:25.530615 +0100 note  Net::Statsd::Server: flushing metrics
Flushing stats at Mon Dec 30 23:24:25 2013
{"pctThreshold":[90],"sets":null,"counters":{"statsd.packets_received":1,"statsd.bad_lines_seen":1},"counter_rates":{"statsd.bad_lines_seen":1,"statsd.packets_received":1},"timers":{},"gauges":{},"timer_data":{}}
t/integration-tests/bad-message.t ....... ok
2013-12-30 23:24:25.000000 +0100 note  Net::Statsd::Server: Initializing Net::Statsd::Server::Backend::Console backend
2013-12-30 23:24:25.000000 +0100 note  Net::Statsd::Server: Initializing Net::Statsd::Server::Backend::Graphite backend
2013-12-30 23:24:25.000000 +0100 info  AnyEvent: Autoloaded model 'AnyEvent::Impl::EV', using it.
Couldn't set SO_RCVBUF: No buffer space available at /home/cpansand/.cpan/build/Net-Statsd-Server-0.12-ukkPV4/bin/../lib/Net/Statsd/Server.pm line 711.
2013-12-30 23:24:25.815459 +0100 note  Net::Statsd::Server: statsd server started on 0.0.0.0:40001 (v0.12)
2013-12-30 23:24:25.815849 +0100 note  Net::Statsd::Server: manager interface started on 0.0.0.0:40002
2013-12-30 23:24:25.816167 +0100 note  Net::Statsd::Server: metrics flush will happen every 1s
2013-12-30 23:24:26.816926 +0100 note  Net::Statsd::Server: flushing metrics
Flushing stats at Mon Dec 30 23:24:26 2013
{"counters":{"statsd.bad_lines_seen":0,"statsd.packets_received":1,"a_test_value":100},"timer_data":{},"sets":null,"pctThreshold":[90],"counter_rates":{"statsd.bad_lines_seen":0,"statsd.packets_received":1,"a_test_value":100},"timers":{},"gauges":{}}
# stats.counters.statsd.bad_lines_seen.rate 0.000000 1388442266
# stats.counters.statsd.bad_lines_seen.count 0 1388442266
# stats.counters.statsd.packets_received.rate 1.000000 1388442266
# stats.counters.statsd.packets_received.count 1 1388442266
# stats.counters.a_test_value.rate 100.000000 1388442266
# stats.counters.a_test_value.count 100 1388442266
# stats.statsd.numStats 3 1388442266
# stats.statsd.graphiteStats.calculationtime 0.066000 1388442266
# stats.statsd.processing_time 0.03 1388442266
# stats.statsd.graphiteStats.last_exception 666922352 1388442266
# stats.statsd.graphiteStats.last_flush 666922352 1388442266
t/integration-tests/counts-are-valid.t .. ok
2013-12-30 23:24:27.000000 +0100 note  Net::Statsd::Server: Initializing Net::Statsd::Server::Backend::Console backend
2013-12-30 23:24:27.000000 +0100 note  Net::Statsd::Server: Initializing Net::Statsd::Server::Backend::Graphite backend
2013-12-30 23:24:27.000000 +0100 info  AnyEvent: Autoloaded model 'AnyEvent::Impl::EV', using it.
Couldn't set SO_RCVBUF: No buffer space available at /home/cpansand/.cpan/build/Net-Statsd-Server-0.12-ukkPV4/bin/../lib/Net/Statsd/Server.pm line 711.
2013-12-30 23:24:27.089060 +0100 note  Net::Statsd::Server: statsd server started on 0.0.0.0:40001 (v0.12)
2013-12-30 23:24:27.089477 +0100 note  Net::Statsd::Server: manager interface started on 0.0.0.0:40002
2013-12-30 23:24:27.089808 +0100 note  Net::Statsd::Server: metrics flush will happen every 1s
2013-12-30 23:24:28.093163 +0100 note  Net::Statsd::Server: flushing metrics
Flushing stats at Mon Dec 30 23:24:28 2013
{"timers":{"a_test_value":["100"]},"sets":null,"timer_data":{"a_test_value":{"sum":"100","mean":100,"std":0,"mean_90":"100","upper_90":"100","sum_90":"100","upper":"100","count":1,"lower":"100"}},"gauges":{},"pctThreshold":["90"],"counters":{"statsd.packets_received":1,"statsd.bad_lines_seen":0},"counter_rates":{"statsd.bad_lines_seen":0,"statsd.packets_received":1}}
# stats.counters.statsd.packets_received.rate 1.000000 1388442268
# stats.counters.statsd.packets_received.count 1 1388442268
# stats.counters.statsd.bad_lines_seen.rate 0.000000 1388442268
# stats.counters.statsd.bad_lines_seen.count 0 1388442268
# stats.timers.a_test_value.sum 100.000000 1388442268
# stats.timers.a_test_value.mean 100.000000 1388442268
# stats.timers.a_test_value.std 0.000000 1388442268
# stats.timers.a_test_value.mean_90 100.000000 1388442268
# stats.timers.a_test_value.upper_90 100.000000 1388442268
# stats.timers.a_test_value.sum_90 100.000000 1388442268
# stats.timers.a_test_value.upper 100.000000 1388442268
# stats.timers.a_test_value.count 1.000000 1388442268
# stats.timers.a_test_value.lower 100.000000 1388442268
# stats.statsd.numStats 3 1388442268
# stats.statsd.graphiteStats.calculationtime 0.114000 1388442268
# stats.statsd.processing_time 0.064 1388442268
# stats.statsd.graphiteStats.last_exception 666922352 1388442268
# stats.statsd.graphiteStats.last_flush 666922352 1388442268
t/integration-tests/timers-are-valid.t .. ok
t/process-metrics.t ..................... ok
All tests successful.
Files=6, Tests=48,  5 wallclock secs ( 0.05 usr  0.01 sys +  0.56 cusr  0.10 csys =  0.72 CPU)
Result: PASS

------------------------------
PREREQUISITES
------------------------------

Prerequisite modules loaded:

requires:

    Module                Need Have 
    --------------------- ---- -----
    AnyEvent::Handle::UDP 0    0.043
    IO::Socket::INET      0    1.33 
    JSON::XS              0    3.01 

build_requires:

    Module                Need Have 
    --------------------- ---- -----
    ExtUtils::MakeMaker   0    6.84 

configure_requires:

    Module                Need Have 
    --------------------- ---- -----
    ExtUtils::MakeMaker   0    6.84 


------------------------------
ENVIRONMENT AND OTHER CONTEXT
------------------------------

Environment variables:

    DBIC_NO_WARN_BAD_PERL = 1
    PATH = /usr/local/bin:/usr/bin:/bin:/usr/local/sbin:/usr/sbin:/sbin:/home/cpansand/bin/freebsd10.0:/home/cpansand/bin/sh:/home/cpansand/bin:/usr/games:/home/cpansand/devel:/home/eserte/src/srezic-misc/scripts
    PERL5LIB = 
    PERL5OPT = 
    PERL5_CPANPLUS_IS_RUNNING = 74558
    PERL5_CPAN_IS_RUNNING = 74558
    PERL5_CPAN_IS_RUNNING_IN_RECURSION = 74542,74558
    PERLDOC = -MPod::Perldoc::ToTextOverstrike
    PERL_BATCH = yes
    PERL_CPAN_REPORTER_CONFIG = /var/tmp/cpansmoker-1023/FqYmmf1tko_config.ini
    PERL_EXTUTILS_AUTOINSTALL = --defaultdeps
    PERL_HTML_DISPLAY_CLASS = HTML::Display::Mozilla
    SHELL = /usr/local/bin/zsh
    TERM = screen
    TMPDIR = /var/tmp/cpansmoker-1023

Perl special variables (and OS-specific diagnostics, for MSWin32):

    $^X = /usr/perl5.18.2-RC4/bin/perl
    $UID/$EUID = 1023 / 1023
    $GID = 1023 1023
    $EGID = 1023 1023

Perl module toolchain versions installed:

    Module              Have    
    ------------------- --------
    CPAN                2.00    
    CPAN::Meta          2.133380
    Cwd                 3.40    
    ExtUtils::CBuilder  0.280210
    ExtUtils::Command   1.17    
    ExtUtils::Install   1.59    
    ExtUtils::MakeMaker 6.84    
    ExtUtils::Manifest  1.63    
    ExtUtils::ParseXS   3.22    
    File::Spec          3.40    
    JSON                2.90    
    JSON::PP            2.27203 
    Module::Build       0.4203  
    Module::Signature   n/a     
    Parse::CPAN::Meta   1.4405  
    Test::Harness       3.30    
    Test::More          1.001002
    YAML                0.88    
    YAML::Syck          1.27    
    version             0.9904  


--

Summary of my perl5 (revision 5 version 18 subversion 2) configuration:
   
  Platform:
    osname=freebsd, osvers=10.0-rc3, archname=i386-freebsd
    uname='freebsd cvrsnica-freebsd-10.herceg.de 10.0-rc3 freebsd 10.0-rc3 #0 r259778: tue dec 24 04:35:46 utc 2013 root@snap.freebsd.org:usrobjusrsrcsysgeneric i386 '
    config_args='-ds -e -Dprefix=/usr/perl5.18.2-RC4'
    hint=recommended, useposix=true, d_sigaction=define
    useithreads=undef, usemultiplicity=undef
    useperlio=define, d_sfio=undef, uselargefiles=define, usesocks=undef
    use64bitint=undef, use64bitall=undef, uselongdouble=undef
    usemymalloc=n, bincompat5005=undef
  Compiler:
    cc='cc', ccflags ='-DHAS_FPSETMASK -DHAS_FLOATINGPOINT_H -fno-strict-aliasing -pipe -fstack-protector -I/usr/local/include',
    optimize='-O',
    cppflags='-DHAS_FPSETMASK -DHAS_FLOATINGPOINT_H -fno-strict-aliasing -pipe -fstack-protector -I/usr/local/include'
    ccversion='', gccversion='4.2.1 Compatible FreeBSD Clang 3.3 (tags/RELEASE_33/final 183502)', gccosandvers=''
    intsize=4, longsize=4, ptrsize=4, doublesize=8, byteorder=1234
    d_longlong=define, longlongsize=8, d_longdbl=define, longdblsize=12
    ivtype='long', ivsize=4, nvtype='double', nvsize=8, Off_t='off_t', lseeksize=8
    alignbytes=4, prototype=define
  Linker and Libraries:
    ld='cc', ldflags ='-Wl,-E  -fstack-protector -L/usr/local/lib'
    libpth=/usr/lib /usr/local/lib
    libs=-lm -lcrypt -lutil -lc
    perllibs=-lm -lcrypt -lutil -lc
    libc=, so=so, useshrplib=false, libperl=libperl.a
    gnulibc_version=''
  Dynamic Linking:
    dlsrc=dl_dlopen.xs, dlext=so, d_dlsymun=undef, ccdlflags=' '
    cccdlflags='-DPIC -fPIC', lddlflags='-shared  -L/usr/local/lib -fstack-protector'


Characteristics of this binary (from libperl): 
  Compile-time options: HAS_TIMES PERLIO_LAYERS PERL_DONT_CREATE_GVSV
                        PERL_HASH_FUNC_ONE_AT_A_TIME_HARD PERL_MALLOC_WRAP
                        PERL_PRESERVE_IVUV PERL_SAWAMPERSAND USE_LARGE_FILES
                        USE_LOCALE USE_LOCALE_COLLATE USE_LOCALE_CTYPE
                        USE_LOCALE_NUMERIC USE_PERLIO USE_PERL_ATOF
  Locally applied patches:
	RC4
  Built under freebsd
  Compiled at Dec 29 2013 11:55:51
  %ENV:
    PERL5LIB=""
    PERL5OPT=""
    PERL5_CPANPLUS_IS_RUNNING="74558"
    PERL5_CPAN_IS_RUNNING="74558"
    PERL5_CPAN_IS_RUNNING_IN_RECURSION="74542,74558"
    PERLDOC="-MPod::Perldoc::ToTextOverstrike"
    PERL_BATCH="yes"
    PERL_CPAN_REPORTER_CONFIG="/var/tmp/cpansmoker-1023/FqYmmf1tko_config.ini"
    PERL_EXTUTILS_AUTOINSTALL="--defaultdeps"
    PERL_HTML_DISPLAY_CLASS="HTML::Display::Mozilla"
  @INC:
    /usr/perl5.18.2-RC4/lib/site_perl/5.18.2/i386-freebsd
    /usr/perl5.18.2-RC4/lib/site_perl/5.18.2
    /usr/perl5.18.2-RC4/lib/5.18.2/i386-freebsd
    /usr/perl5.18.2-RC4/lib/5.18.2
    .