Report for String-Unescape-v0.0.3

Back
From: metabase:user:320bfe00-2aae-11df-837a-5e0a49663a4f
Subject: PASS String-Unescape-v0.0.3 v5.20.2 GNU/Linux
Date: 2016-01-03T08:28:33Z

This distribution has been tested as part of the CPAN Testers
project, supporting the Perl programming language.  See
http://wiki.cpantesters.org/ for more information or email
questions to cpan-testers-discuss@perl.org


--
Dear Yasutaka ATARASHI,

This is a computer-generated report for String-Unescape-v0.0.3
on perl 5.20.2, created by CPAN-Reporter-1.2015.

Thank you for uploading your work to CPAN.  Congratulations!
All tests were successful.

Sections of this report:

    * Tester comments
    * Program output
    * Prerequisites
    * Environment and other context

------------------------------
TESTER COMMENTS
------------------------------

Additional comments from tester:

this report is from an automated smoke testing program
and was not reviewed by a human for accuracy

------------------------------
PROGRAM OUTPUT
------------------------------

Output from '/usr/bin/make test':

PERL_DL_NONLAZY=1 "/tmp/basesmoker-reloperl-JBPh/bin/perl" "-MExtUtils::Command::MM" "-MTest::Harness" "-e" "undef *Test::Harness::Switches; test_harness(0, 'blib/lib', 'blib/arch')" t/*.t
t/00-compile.t ............ ok
t/author-critic.t ......... skipped: these tests are for testing by the author
Character following "\c" must be printable ASCII at (eval 12) line 1.
Character following "\c" must be printable ASCII at (eval 12) line 1.
Character following "\c" must be printable ASCII at (eval 12) line 1.
Character following "\c" must be printable ASCII at (eval 12) line 1.
Character following "\c" must be printable ASCII at (eval 12) line 1.
Character following "\c" must be printable ASCII at (eval 12) line 1.
Character following "\c" must be printable ASCII at (eval 12) line 1.
Character following "\c" must be printable ASCII at (eval 12) line 1.
Character following "\c" must be printable ASCII at (eval 12) line 1.
Character following "\c" must be printable ASCII at (eval 12) line 1.
Character following "\c" must be printable ASCII at (eval 12) line 1.
Character following "\c" must be printable ASCII at (eval 12) line 1.
Character following "\c" must be printable ASCII at (eval 12) line 1.
Character following "\c" must be printable ASCII at (eval 12) line 1.
Character following "\c" must be printable ASCII at (eval 12) line 1.
Character following "\c" must be printable ASCII at (eval 12) line 1.
Character following "\c" must be printable ASCII at (eval 12) line 1.
Character following "\c" must be printable ASCII at (eval 12) line 1.
Character following "\c" must be printable ASCII at (eval 12) line 1.
Character following "\c" must be printable ASCII at (eval 12) line 1.
Character following "\c" must be printable ASCII at (eval 12) line 1.
Character following "\c" must be printable ASCII at (eval 12) line 1.
Character following "\c" must be printable ASCII at (eval 12) line 1.
Character following "\c" must be printable ASCII at (eval 12) line 1.
Character following "\c" must be printable ASCII at (eval 12) line 1.
Character following "\c" must be printable ASCII at (eval 12) line 1.
Character following "\c" must be printable ASCII at (eval 12) line 1.
Character following "\c" must be printable ASCII at (eval 12) line 1.
Character following "\c" must be printable ASCII at (eval 12) line 1.
Character following "\c" must be printable ASCII at (eval 12) line 1.
Character following "\c" must be printable ASCII at (eval 12) line 1.
Character following "\c" must be printable ASCII at (eval 12) line 1.
Character following "\c" must be printable ASCII at (eval 12) line 1.
t/basic.t ................. ok
t/case_and_meta.t ......... ok
t/exceptional.t ........... ok
t/limitation.t ............ ok
t/quirks_in_perl.t ........ ok
t/release-kwalitee.t ...... skipped: these tests are for release candidate testing
t/release-pod-coverage.t .. skipped: these tests are for release candidate testing
t/release-pod-syntax.t .... skipped: these tests are for release candidate testing
All tests successful.
Files=10, Tests=50,  1 wallclock secs ( 0.06 usr  0.05 sys +  0.34 cusr  0.10 csys =  0.55 CPU)
Result: PASS

------------------------------
PREREQUISITES
------------------------------

Prerequisite modules loaded:

build_requires:

    Module              Need Have    
    ------------------- ---- --------
    File::Spec          0    3.60    
    IO::Handle          0    1.35    
    IPC::Open3          0    1.16    
    Test::Exception     0    0.43    
    Test::More          0    1.001014

configure_requires:

    Module              Need Have    
    ------------------- ---- --------
    ExtUtils::MakeMaker 6.30 7.10    


------------------------------
ENVIRONMENT AND OTHER CONTEXT
------------------------------

Environment variables:

    AUTOMATED_TESTING = 1
    LANG = en_US.UTF-8
    LANGUAGE = en_US:en
    PATH = /home/sand/bin:/usr/local/bin:/usr/bin:/bin:/usr/games:/usr/local/perl/bin:/usr/X11/bin:/sbin:/usr/sbin
    PERL5LIB = /tmp/loop_over_bdir-8855-7WwY9u/Alien-ActiveMQ-0.00005-0/blib/arch:/tmp/loop_over_bdir-8855-7WwY9u/Alien-ActiveMQ-0.00005-0/blib/lib
    PERL5OPT = 
    PERL5_CPANPLUS_IS_RUNNING = 24708
    PERL5_CPAN_IS_RUNNING = 24708
    PERL_MM_USE_DEFAULT = 1
    SHELL = /usr/bin/zsh
    TERM = screen

Perl special variables (and OS-specific diagnostics, for MSWin32):

    $^X = /tmp/basesmoker-reloperl-JBPh/bin/perl
    $UID/$EUID = 1005 / 1005
    $GID = 1005 1005
    $EGID = 1005 1005

Perl module toolchain versions installed:

    Module              Have    
    ------------------- --------
    CPAN                2.12    
    CPAN::Meta          2.150005
    Cwd                 3.60    
    ExtUtils::CBuilder  0.280224
    ExtUtils::Command   7.10    
    ExtUtils::Install   1.67    
    ExtUtils::MakeMaker 7.10    
    ExtUtils::Manifest  1.70    
    ExtUtils::ParseXS   3.24    
    File::Spec          3.60    
    JSON                2.90    
    JSON::PP            2.27300 
    Module::Build       0.4214  
    Module::Signature   0.79    
    Parse::CPAN::Meta   1.4417  
    Test::Harness       3.36    
    Test::More          1.001014
    YAML                1.15    
    YAML::Syck          1.29    
    version             0.9909  


--

Summary of my perl5 (revision 5 version 20 subversion 2) configuration:
  Derived from: c05ce579b6dae0f955ff8922469d49f95f4bf6fd
  Platform:
    osname=linux, osvers=4.3.0-1-amd64, archname=x86_64-linux-thread-multi
    uname='linux k83 4.3.0-1-amd64 #1 smp debian 4.3.3-2 (2015-12-17) x86_64 gnulinux '
    config_args='-Dprefix=/home/sand/src/perl/repoperls/installed-perls/perl/v5.20.2/f7bf -Dmyhostname=k83 -Dinstallusrbinperl=n -Uversiononly -Dusedevel -des -Ui_db -Dlibswanted=cl pthread socket inet nsl gdbm dbm malloc dl ld sun m crypt sec util c cposix posix ucb BSD gdbm_compat -Duseithreads -Uuselongdouble -DDEBUGGING=-g'
    hint=recommended, useposix=true, d_sigaction=define
    useithreads=define, usemultiplicity=define
    use64bitint=define, use64bitall=define, uselongdouble=undef
    usemymalloc=n, bincompat5005=undef
  Compiler:
    cc='cc', ccflags ='-D_REENTRANT -D_GNU_SOURCE -fwrapv -fno-strict-aliasing -pipe -fstack-protector -I/usr/local/include -D_LARGEFILE_SOURCE -D_FILE_OFFSET_BITS=64',
    optimize='-O2 -g',
    cppflags='-D_REENTRANT -D_GNU_SOURCE -fwrapv -fno-strict-aliasing -pipe -fstack-protector -I/usr/local/include'
    ccversion='', gccversion='5.3.1 20160101', gccosandvers=''
    intsize=4, longsize=8, ptrsize=8, doublesize=8, byteorder=12345678
    d_longlong=define, longlongsize=8, d_longdbl=define, longdblsize=16
    ivtype='long', ivsize=8, nvtype='double', nvsize=8, Off_t='off_t', lseeksize=8
    alignbytes=8, prototype=define
  Linker and Libraries:
    ld='cc', ldflags =' -fstack-protector -L/usr/local/lib'
    libpth=/usr/local/lib /usr/lib/gcc/x86_64-linux-gnu/5/include-fixed /usr/include/x86_64-linux-gnu /usr/lib /lib/x86_64-linux-gnu /lib/../lib /usr/lib/x86_64-linux-gnu /usr/lib/../lib /lib
    libs=-lpthread -lnsl -lgdbm -ldl -lm -lcrypt -lutil -lc -lgdbm_compat
    perllibs=-lpthread -lnsl -ldl -lm -lcrypt -lutil -lc
    libc=libc-2.21.so, so=so, useshrplib=false, libperl=libperl.a
    gnulibc_version='2.21'
  Dynamic Linking:
    dlsrc=dl_dlopen.xs, dlext=so, d_dlsymun=undef, ccdlflags='-Wl,-E'
    cccdlflags='-fPIC', lddlflags='-shared -O2 -g -L/usr/local/lib -fstack-protector'


Characteristics of this binary (from libperl): 
  Compile-time options: HAS_TIMES MULTIPLICITY PERLIO_LAYERS
                        PERL_DONT_CREATE_GVSV
                        PERL_HASH_FUNC_ONE_AT_A_TIME_HARD
                        PERL_IMPLICIT_CONTEXT PERL_MALLOC_WRAP
                        PERL_NEW_COPY_ON_WRITE PERL_PRESERVE_IVUV
                        PERL_USE_DEVEL USE_64_BIT_ALL USE_64_BIT_INT
                        USE_ITHREADS USE_LARGE_FILES USE_LOCALE
                        USE_LOCALE_COLLATE USE_LOCALE_CTYPE
                        USE_LOCALE_NUMERIC USE_PERLIO USE_PERL_ATOF
                        USE_REENTRANT_API
  Locally applied patches:
	uncommitted-changes
	Devel::PatchPerl 1.38
  Built under linux
  Compiled at Jan  2 2016 22:07:27
  %ENV:
    PERL5LIB="/tmp/loop_over_bdir-8855-7WwY9u/Alien-ActiveMQ-0.00005-0/blib/arch:/tmp/loop_over_bdir-8855-7WwY9u/Alien-ActiveMQ-0.00005-0/blib/lib"
    PERL5OPT=""
    PERL5_CPANPLUS_IS_RUNNING="24708"
    PERL5_CPAN_IS_RUNNING="24708"
    PERL_MM_USE_DEFAULT="1"
  @INC:
    /tmp/loop_over_bdir-8855-7WwY9u/Alien-ActiveMQ-0.00005-0/blib/arch
    /tmp/loop_over_bdir-8855-7WwY9u/Alien-ActiveMQ-0.00005-0/blib/lib
    /home/sand/src/perl/repoperls/installed-perls/perl/v5.20.2/f7bf/lib/site_perl/5.20.2/x86_64-linux-thread-multi
    /home/sand/src/perl/repoperls/installed-perls/perl/v5.20.2/f7bf/lib/site_perl/5.20.2
    /home/sand/src/perl/repoperls/installed-perls/perl/v5.20.2/f7bf/lib/5.20.2/x86_64-linux-thread-multi
    /home/sand/src/perl/repoperls/installed-perls/perl/v5.20.2/f7bf/lib/5.20.2
    .