Report for Catalyst-Engine-Stomp-0.17

Back
From: metabase:user:e7b34f46-36ca-11e0-a826-945c7ca43f85
Subject: PASS Catalyst-Engine-Stomp-0.17 v5.14.2 GNU/Linux
Date: 2011-10-27T04:48:55Z

This distribution has been tested as part of the CPAN Testers
project, supporting the Perl programming language.  See
http://wiki.cpantesters.org/ for more information or email
questions to cpan-testers-discuss@perl.org


--
Dear Paul Mooney,

This is a computer-generated report for Catalyst-Engine-Stomp-0.17
on perl 5.14.2, created by CPAN-Reporter-1.2002.

Thank you for uploading your work to CPAN.  Congratulations!
All tests were successful.

Sections of this report:

    * Tester comments
    * Program output
    * Prerequisites
    * Environment and other context

------------------------------
TESTER COMMENTS
------------------------------

Additional comments from tester:

this report is from an automated smoke testing program
and was not reviewed by a human for accuracy

------------------------------
PROGRAM OUTPUT
------------------------------

Output from '/usr/bin/make test':

PERL_DL_NONLAZY=1 /home/cpan/perl5/perlbrew/perls/perl-5.14.2/bin/perl "-MExtUtils::Command::MM" "-e" "test_harness(0, 'inc', 'blib/lib', 'blib/arch')" t/00_use.t t/01_notabs.t t/02_pod.t t/03_pod_coverage.t t/10_good-message.t t/11_bad-action.t t/12_json-message.t t/13_message-driven-request.t t/14_message-catch-error.t t/15_utf8.t t/16_old_config.t t/17_new_style_subscriptions.t t/18_jmstype.t
t/00_use.t ...................... ok
t/01_notabs.t ................... skipped: NoTabs test only for developers.
t/02_pod.t ...................... skipped: set TEST_POD to enable this test
t/03_pod_coverage.t ............. skipped: set TEST_POD to enable this test
t/10_good-message.t ............. skipped: No ActiveMQ server installed by Alien::ActiveMQ, try running the "install-activemq" command
t/11_bad-action.t ............... skipped: No ActiveMQ server installed by Alien::ActiveMQ, try running the "install-activemq" command
t/12_json-message.t ............. skipped: No ActiveMQ server installed by Alien::ActiveMQ, try running the "install-activemq" command
Use of uninitialized value in string eq at /home/cpan/perl5/perlbrew/perls/perl-5.14.2/lib/site_perl/5.14.2/Catalyst/Engine.pm line 481.
Use of uninitialized value in string eq at /home/cpan/perl5/perlbrew/perls/perl-5.14.2/lib/site_perl/5.14.2/Catalyst.pm line 1793.
Use of uninitialized value in string eq at /home/cpan/perl5/perlbrew/perls/perl-5.14.2/lib/site_perl/5.14.2/Catalyst/Engine.pm line 481.
Use of uninitialized value in string eq at /home/cpan/perl5/perlbrew/perls/perl-5.14.2/lib/site_perl/5.14.2/Catalyst.pm line 1793.
[error] no message type specified
t/13_message-driven-request.t ... ok
Use of uninitialized value in string eq at /home/cpan/perl5/perlbrew/perls/perl-5.14.2/lib/site_perl/5.14.2/Catalyst/Engine.pm line 481.
Use of uninitialized value in string eq at /home/cpan/perl5/perlbrew/perls/perl-5.14.2/lib/site_perl/5.14.2/Catalyst.pm line 1793.
Use of uninitialized value in string eq at /home/cpan/perl5/perlbrew/perls/perl-5.14.2/lib/site_perl/5.14.2/Catalyst/Engine.pm line 481.
Use of uninitialized value in string eq at /home/cpan/perl5/perlbrew/perls/perl-5.14.2/lib/site_perl/5.14.2/Catalyst.pm line 1793.
[error] Exception thrown: StompTestApp::Error=HASH(0x34a2ba8)
t/14_message-catch-error.t ...... ok
t/15_utf8.t ..................... skipped: No ActiveMQ server installed by Alien::ActiveMQ, try running the "install-activemq" command
t/16_old_config.t ............... skipped: No ActiveMQ server installed by Alien::ActiveMQ, try running the "install-activemq" command
t/17_new_style_subscriptions.t .. skipped: No ActiveMQ server installed by Alien::ActiveMQ, try running the "install-activemq" command
t/18_jmstype.t .................. skipped: No ActiveMQ server installed by Alien::ActiveMQ, try running the "install-activemq" command
All tests successful.
Files=13, Tests=12,  4 wallclock secs ( 0.06 usr  0.03 sys +  3.48 cusr  0.37 csys =  3.94 CPU)
Result: PASS

------------------------------
PREREQUISITES
------------------------------

Prerequisite modules loaded:

requires:

    Module                         Need    Have    
    ------------------------------ ------- --------
    Alien::ActiveMQ                0.00003 0.00004 
    Catalyst::Engine::Embeddable   v0.0.1  0.000003
    Catalyst::Plugin::ConfigLoader 0       0.30    
    Catalyst::Runtime              5.80004 5.90006 
    Data::Serializer               0.49    0.59    
    Moose                          0       2.0301  
    MooseX::Types                  0       0.30    
    MooseX::Workers                0.05    0.16    
    namespace::autoclean           0.05    0.13    
    Net::Stomp                     0.34    0.42    
    YAML                           0       0.77    
    YAML::XS                       0.32    0.37    

build_requires:

    Module                         Need    Have    
    ------------------------------ ------- --------
    Alien::ActiveMQ                0.00003 0.00004 
    Catalyst::Plugin::ConfigLoader 0       0.30    
    ExtUtils::MakeMaker            6.42    6.62    

configure_requires:

    Module                         Need    Have    
    ------------------------------ ------- --------
    ExtUtils::MakeMaker            6.42    6.62    


------------------------------
ENVIRONMENT AND OTHER CONTEXT
------------------------------

Environment variables:

    AUTOMATED_TESTING = 1
    LANG = en_GB.UTF-8
    LANGUAGE = en_GB:en
    PATH = /home/cpan/perl5/perlbrew/bin:/home/cpan/perl5/perlbrew/perls/perl-5.14.2/bin:/usr/local/sbin:/usr/local/bin:/usr/sbin:/usr/bin:/sbin:/bin:/usr/games
    PATH_WITHOUT_PERLBREW = /usr/local/sbin:/usr/local/bin:/usr/sbin:/usr/bin:/sbin:/bin:/usr/games
    PERL5LIB = /home/cpan/.cpan/build/Alien-ActiveMQ-0.00004-NhE7Ou/blib/arch:/home/cpan/.cpan/build/Alien-ActiveMQ-0.00004-NhE7Ou/blib/lib
    PERL5OPT = 
    PERL5_CPANPLUS_IS_RUNNING = 27907
    PERL5_CPAN_IS_RUNNING = 27907
    PERL5_CPAN_IS_RUNNING_IN_RECURSION = 1958,27907
    PERLBREW_BASHRC_VERSION = 0.30
    PERLBREW_HOME = /home/cpan/.perlbrew
    PERLBREW_PATH = /home/cpan/perl5/perlbrew/bin:/home/cpan/perl5/perlbrew/perls/perl-5.14.2/bin
    PERLBREW_PERL = perl-5.14.2
    PERLBREW_ROOT = /home/cpan/perl5/perlbrew
    PERLBREW_VERSION = 0.30
    PERL_CR_SMOKER_CURRENT = Catalyst-Engine-Stomp-0.17
    PERL_EXTUTILS_AUTOINSTALL = --defaultdeps
    PERL_MM_USE_DEFAULT = 1
    SHELL = /bin/bash
    TERM = xterm

Perl special variables (and OS-specific diagnostics, for MSWin32):

    $^X = /home/cpan/perl5/perlbrew/perls/perl-5.14.2/bin/perl
    $UID/$EUID = 1000 / 1000
    $GID = 1000 4 20 24 46 116 118 124 1000
    $EGID = 1000 4 20 24 46 116 118 124 1000

Perl module toolchain versions installed:

    Module              Have     
    ------------------- ---------
    CPAN                1.9600_01
    CPAN::Meta          2.112621 
    Cwd                 3.33     
    ExtUtils::CBuilder  0.280203 
    ExtUtils::Command   1.17     
    ExtUtils::Install   1.56     
    ExtUtils::MakeMaker 6.62     
    ExtUtils::Manifest  1.58     
    ExtUtils::ParseXS   2.2210   
    File::Spec          3.33     
    JSON                2.53     
    JSON::PP            2.27200  
    Module::Build       0.3800   
    Module::Signature   0.68     
    Parse::CPAN::Meta   1.4401   
    Test::Harness       3.23     
    Test::More          0.98     
    YAML                0.77     
    YAML::Syck          1.17     
    version             0.88     


--

Summary of my perl5 (revision 5 version 14 subversion 2) configuration:
   
  Platform:
    osname=linux, osvers=3.0.0-12-generic, archname=x86_64-linux
    uname='linux oneiric-cpan 3.0.0-12-generic #20-ubuntu smp fri oct 7 14:56:25 utc 2011 x86_64 x86_64 x86_64 gnulinux '
    config_args='-de -Dprefix=/home/cpan/perl5/perlbrew/perls/perl-5.14.2'
    hint=recommended, useposix=true, d_sigaction=define
    useithreads=undef, usemultiplicity=undef
    useperlio=define, d_sfio=undef, uselargefiles=define, usesocks=undef
    use64bitint=define, use64bitall=define, uselongdouble=undef
    usemymalloc=n, bincompat5005=undef
  Compiler:
    cc='cc', ccflags ='-fno-strict-aliasing -pipe -fstack-protector -I/usr/local/include -D_LARGEFILE_SOURCE -D_FILE_OFFSET_BITS=64',
    optimize='-O2',
    cppflags='-fno-strict-aliasing -pipe -fstack-protector -I/usr/local/include'
    ccversion='', gccversion='4.6.1', gccosandvers=''
    intsize=4, longsize=8, ptrsize=8, doublesize=8, byteorder=12345678
    d_longlong=define, longlongsize=8, d_longdbl=define, longdblsize=16
    ivtype='long', ivsize=8, nvtype='double', nvsize=8, Off_t='off_t', lseeksize=8
    alignbytes=8, prototype=define
  Linker and Libraries:
    ld='cc', ldflags =' -fstack-protector -L/usr/local/lib'
    libpth=/usr/local/lib /lib/x86_64-linux-gnu /lib/../lib /usr/lib/x86_64-linux-gnu /usr/lib/../lib /lib /usr/lib
    libs=-lnsl -ldl -lm -lcrypt -lutil -lc
    perllibs=-lnsl -ldl -lm -lcrypt -lutil -lc
    libc=, so=so, useshrplib=false, libperl=libperl.a
    gnulibc_version='2.13'
  Dynamic Linking:
    dlsrc=dl_dlopen.xs, dlext=so, d_dlsymun=undef, ccdlflags='-Wl,-E'
    cccdlflags='-fPIC', lddlflags='-shared -O2 -L/usr/local/lib -fstack-protector'


Characteristics of this binary (from libperl): 
  Compile-time options: PERL_DONT_CREATE_GVSV PERL_MALLOC_WRAP
                        PERL_PRESERVE_IVUV USE_64_BIT_ALL USE_64_BIT_INT
                        USE_LARGE_FILES USE_PERLIO USE_PERL_ATOF
  Built under linux
  Compiled at Oct 24 2011 04:16:55
  %ENV:
    PERL5LIB="/home/cpan/.cpan/build/Alien-ActiveMQ-0.00004-NhE7Ou/blib/arch:/home/cpan/.cpan/build/Alien-ActiveMQ-0.00004-NhE7Ou/blib/lib"
    PERL5OPT=""
    PERL5_CPANPLUS_IS_RUNNING="27907"
    PERL5_CPAN_IS_RUNNING="27907"
    PERL5_CPAN_IS_RUNNING_IN_RECURSION="1958,27907"
    PERLBREW_BASHRC_VERSION="0.30"
    PERLBREW_HOME="/home/cpan/.perlbrew"
    PERLBREW_PATH="/home/cpan/perl5/perlbrew/bin:/home/cpan/perl5/perlbrew/perls/perl-5.14.2/bin"
    PERLBREW_PERL="perl-5.14.2"
    PERLBREW_ROOT="/home/cpan/perl5/perlbrew"
    PERLBREW_VERSION="0.30"
    PERL_CR_SMOKER_CURRENT="Catalyst-Engine-Stomp-0.17"
    PERL_EXTUTILS_AUTOINSTALL="--defaultdeps"
    PERL_MM_USE_DEFAULT="1"
  @INC:
    /home/cpan/.cpan/build/Alien-ActiveMQ-0.00004-NhE7Ou/blib/arch
    /home/cpan/.cpan/build/Alien-ActiveMQ-0.00004-NhE7Ou/blib/lib
    /home/cpan/perl5/perlbrew/perls/perl-5.14.2/lib/site_perl/5.14.2/x86_64-linux
    /home/cpan/perl5/perlbrew/perls/perl-5.14.2/lib/site_perl/5.14.2
    /home/cpan/perl5/perlbrew/perls/perl-5.14.2/lib/5.14.2/x86_64-linux
    /home/cpan/perl5/perlbrew/perls/perl-5.14.2/lib/5.14.2
    .