Dist-Zilla-Plugin-CopyFilesFromBuild v0.170880 Perl 5 v5.26.1 x86_64-linux-thread-multi
- Status
- Pass
- From
- E. Choroba
- Dist
-
Dist-Zilla-Plugin-CopyFilesFromBuild v0.170880
- Platform
- Perl 5 v5.26.1 x86_64-linux-thread-multi
- Date
- 2019-11-03 00:07:51
- ID
- fa1d73d6-fdcd-11e9-a8d7-94346c06bc9c
This distribution has been tested as part of the CPAN Testers
project, supporting the Perl programming language. See
http://wiki.cpantesters.org/ for more information or email
questions to cpan-testers-discuss@perl.org
--
Dear Ryan C. Thompson,
This is a computer-generated report for Dist-Zilla-Plugin-CopyFilesFromBuild-0.170880
on perl 5.26.1, created by CPAN-Reporter-1.2018.
Thank you for uploading your work to CPAN. Congratulations!
All tests were successful.
Sections of this report:
* Tester comments
* Program output
* Prerequisites
* Environment and other context
------------------------------
TESTER COMMENTS
------------------------------
Additional comments from tester:
none provided
------------------------------
PROGRAM OUTPUT
------------------------------
Output from '/usr/bin/make test':
PERL_DL_NONLAZY=1 "/usr/bin/perl" "-MExtUtils::Command::MM" "-MTest::Harness" "-e" "undef *Test::Harness::Switches; test_harness(0, 'blib/lib', 'blib/arch')" t/*.t
t/00-compile.t ........... ok
# Testing with Perl 5.026001, /usr/bin/perl
# Carp version is 1.42
# Dist::Zilla::Plugin::ReadmeAnyFromPod version is 0.163250
# Dist::Zilla::Role::AfterBuild version is 6.012
# ExtUtils::MakeMaker version is 7.24
# File::Copy version is 2.32
# File::Spec version is 3.67
# IO::File version is 1.16
# IO::Handle version is 1.36
# IPC::Open3 version is 1.20
# List::Util version is 1.4602
# Moose version is 2.2011
# MooseX::Has::Sugar version is 1.000006
# Path::Tiny version is 0.108
# Scalar::Util version is 1.4602
# Set::Scalar version is 1.29
# Test::DZil version is 6.012
# Test::Exception version is 0.43
# Test::More version is 1.302164
# Test::Most version is 0.35
# autodie version is 2.29
# blib version is 1.06
# strict version is 1.11
# utf8 version is 1.19
# warnings version is 1.37
t/000-report-versions.t .. ok
t/author-critic.t ........ skipped: these tests are for testing by the author
t/author-pod-coverage.t .. skipped: these tests are for testing by the author
t/author-pod-syntax.t .... skipped: these tests are for testing by the author
t/basic.t ................ ok
t/release-has-version.t .. skipped: these tests are for release candidate testing
t/release-kwalitee.t ..... skipped: these tests are for release candidate testing
t/release-portability.t .. skipped: these tests are for release candidate testing
t/release-unused-vars.t .. skipped: these tests are for release candidate testing
All tests successful.
Files=10, Tests=34, 1 wallclock secs ( 0.03 usr 0.01 sys + 1.48 cusr 0.10 csys = 1.62 CPU)
Result: PASS
------------------------------
PREREQUISITES
------------------------------
Prerequisite modules loaded:
requires:
Module Need Have
------------------------------------- ----- --------
Dist::Zilla::Role::AfterBuild 0 6.012
File::Copy 0 2.32
IO::File 0 1.16
List::Util 1.33 1.46_02
Moose 0 2.2011
MooseX::Has::Sugar 0 1.000006
Path::Tiny 0 0.108
perl 5.008 5.026001
Set::Scalar 0 1.29
strict 0 1.11
utf8 0 1.19
warnings 0 1.37
build_requires:
Module Need Have
------------------------------------- ----- --------
autodie 0 2.29
blib 1.01 1.06
Carp 0 1.42
Dist::Zilla::Plugin::ReadmeAnyFromPod 0 0.163250
ExtUtils::MakeMaker 0 7.24
File::Spec 0 3.67
IO::Handle 0 1.36
IPC::Open3 0 1.20
Scalar::Util 0 1.46_02
Test::DZil 0 6.012
Test::Exception 0 0.43
Test::More 0.94 1.302164
Test::Most 0 0.35
configure_requires:
Module Need Have
------------------------------------- ----- --------
ExtUtils::MakeMaker 0 7.24
perl 5.008 5.026001
------------------------------
ENVIRONMENT AND OTHER CONTEXT
------------------------------
Environment variables:
LANG = en_US.UTF-8
NONINTERACTIVE_TESTING = 1
PATH = /home/choroba/perl5/bin:/home/choroba/bin:/bin:/sbin:/usr/bin:/usr/local/bin:/usr/games:/usr/X11R6/bin:/opt/gnome/bin:.
PERL5LIB = /home/choroba/perl5/lib/perl5/x86_64-linux-thread-multi:/home/choroba/perl5/lib/perl5
PERL5OPT =
PERL5_CPANPLUS_IS_RUNNING = 14748
PERL5_CPAN_IS_RUNNING = 14748
PERL_LOCAL_LIB_ROOT = /home/choroba/perl5
PERL_MB_OPT = --install_base /home/choroba/perl5
PERL_MM_OPT = INSTALL_BASE=/home/choroba/perl5
PERL_MM_USE_DEFAULT = 1
PERL_USE_UNSAFE_INC = 1
SHELL = /bin/bash
TERM = xterm
Perl special variables (and OS-specific diagnostics, for MSWin32):
$^X = /usr/bin/perl
$UID/$EUID = 1000 / 1000
$GID = 100 100
$EGID = 100 100
Perl module toolchain versions installed:
Module Have
------------------- ----------
CPAN 2.18
CPAN::Meta 2.150010
Cwd 3.67
ExtUtils::CBuilder 0.280225
ExtUtils::Command 7.24
ExtUtils::Install 2.04
ExtUtils::MakeMaker 7.24
ExtUtils::Manifest 1.70
ExtUtils::ParseXS 3.34
File::Spec 3.67
JSON 4.02
JSON::PP 2.27400_02
Module::Build 0.4229
Module::Signature n/a
Parse::CPAN::Meta 2.150010
Test::Harness 3.38
Test::More 1.302164
YAML 1.29
YAML::Syck n/a
version 0.9917
--
Summary of my perl5 (revision 5 version 26 subversion 1) configuration:
Platform:
osname=linux
osvers=4.12.14-lp151.24-default
archname=x86_64-linux-thread-multi
uname='reproducible'
config_args='-ds -e -Dprefix=/usr -Dvendorprefix=/usr -Dinstallusrbinperl -Dusethreads -Di_db -Di_dbm -Di_ndbm -Di_gdbm -Dd_dbm_open -Duseshrplib=true -Doptimize=-fmessage-length=0 -grecord-gcc-switches -O2 -Wall -D_FORTIFY_SOURCE=2 -fstack-protector-strong -funwind-tables -fasynchronous-unwind-tables -fstack-clash-protection -g -Wall -pipe -Accflags=-DPERL_USE_SAFE_PUTENV -Dotherlibdirs=/usr/lib/perl5/site_perl -Dinc_version_list=none'
hint=recommended
useposix=true
d_sigaction=define
useithreads=define
usemultiplicity=define
use64bitint=define
use64bitall=define
uselongdouble=undef
usemymalloc=n
default_inc_excludes_dot=define
bincompat5005=undef
Compiler:
cc='cc'
ccflags ='-D_REENTRANT -D_GNU_SOURCE -DPERL_USE_SAFE_PUTENV -fwrapv -fno-strict-aliasing -pipe -fstack-protector-strong -D_LARGEFILE_SOURCE -D_FILE_OFFSET_BITS=64'
optimize='-fmessage-length=0 -grecord-gcc-switches -O2 -Wall -D_FORTIFY_SOURCE=2 -fstack-protector-strong -funwind-tables -fasynchronous-unwind-tables -fstack-clash-protection -g -Wall -pipe'
cppflags='-D_REENTRANT -D_GNU_SOURCE -DPERL_USE_SAFE_PUTENV -fwrapv -fno-strict-aliasing -pipe -fstack-protector-strong'
ccversion=''
gccversion='7.4.0'
gccosandvers=''
intsize=4
longsize=8
ptrsize=8
doublesize=8
byteorder=12345678
doublekind=3
d_longlong=define
longlongsize=8
d_longdbl=define
longdblsize=16
longdblkind=3
ivtype='long'
ivsize=8
nvtype='double'
nvsize=8
Off_t='off_t'
lseeksize=8
alignbytes=8
prototype=define
Linker and Libraries:
ld='cc'
ldflags =' -L/usr/local/lib64 -fstack-protector-strong'
libpth=/usr/local/lib /usr/lib64/gcc/x86_64-suse-linux/7/include-fixed /usr/lib64/gcc/x86_64-suse-linux/7/../../../../x86_64-suse-linux/lib /usr/lib /lib/../lib64 /usr/lib/../lib64 /lib /lib64 /usr/lib64 /usr/local/lib64
libs=-lm -ldl -lcrypt -lpthread
perllibs=-lm -ldl -lcrypt -lpthread
libc=/lib64/libc-2.26.so
so=so
useshrplib=true
libperl=libperl.so
gnulibc_version='2.26'
Dynamic Linking:
dlsrc=dl_dlopen.xs
dlext=so
d_dlsymun=undef
ccdlflags='-Wl,-E -Wl,-rpath,/usr/lib/perl5/5.26.1/x86_64-linux-thread-multi/CORE'
cccdlflags='-fPIC'
lddlflags='-shared -L/usr/local/lib64 -fstack-protector-strong'
Characteristics of this binary (from libperl):
Compile-time options:
HAS_TIMES
MULTIPLICITY
PERLIO_LAYERS
PERL_COPY_ON_WRITE
PERL_DONT_CREATE_GVSV
PERL_IMPLICIT_CONTEXT
PERL_MALLOC_WRAP
PERL_OP_PARENT
PERL_PRESERVE_IVUV
PERL_USE_SAFE_PUTENV
USE_64_BIT_ALL
USE_64_BIT_INT
USE_ITHREADS
USE_LARGE_FILES
USE_LOCALE
USE_LOCALE_COLLATE
USE_LOCALE_CTYPE
USE_LOCALE_NUMERIC
USE_LOCALE_TIME
USE_PERLIO
USE_PERL_ATOF
USE_REENTRANT_API
Built under linux
Compiled at Nov 21 2018 12:00:00
%ENV:
PERL5LIB="/home/choroba/perl5/lib/perl5/x86_64-linux-thread-multi:/home/choroba/perl5/lib/perl5"
PERL5OPT=""
PERL5_CPANPLUS_IS_RUNNING="14748"
PERL5_CPAN_IS_RUNNING="14748"
PERL_LOCAL_LIB_ROOT="/home/choroba/perl5"
PERL_MB_OPT="--install_base /home/choroba/perl5"
PERL_MM_OPT="INSTALL_BASE=/home/choroba/perl5"
PERL_MM_USE_DEFAULT="1"
PERL_USE_UNSAFE_INC="1"
@INC:
/home/choroba/perl5/lib/perl5/x86_64-linux-thread-multi
/home/choroba/perl5/lib/perl5/x86_64-linux-thread-multi
/home/choroba/perl5/lib/perl5
/usr/lib/perl5/site_perl/5.26.1/x86_64-linux-thread-multi
/usr/lib/perl5/site_perl/5.26.1
/usr/lib/perl5/vendor_perl/5.26.1/x86_64-linux-thread-multi
/usr/lib/perl5/vendor_perl/5.26.1
/usr/lib/perl5/5.26.1/x86_64-linux-thread-multi
/usr/lib/perl5/5.26.1
/usr/lib/perl5/site_perl
.