Report for DBIx-Connector-0.53

Back
From: metabase:user:43459557-6c05-1014-b21f-d9eebe8d1a5a
Subject: PASS DBIx-Connector-0.53 v5.16.3 GNU/Linux
Date: 2014-06-14T13:29:57Z

This distribution has been tested as part of the CPAN Testers
project, supporting the Perl programming language.  See
http://wiki.cpantesters.org/ for more information or email
questions to cpan-testers-discuss@perl.org


--
Dear David E. Wheeler,

This is a computer-generated report for DBIx-Connector-0.53
on perl 5.16.3, created by CPAN-Reporter-1.2011.

Thank you for uploading your work to CPAN.  Congratulations!
All tests were successful.

Sections of this report:

    * Tester comments
    * Program output
    * Prerequisites
    * Environment and other context

------------------------------
TESTER COMMENTS
------------------------------

Additional comments from tester:

none provided

------------------------------
PROGRAM OUTPUT
------------------------------

Output from './Build test':

t/base.t .......... ok
t/driver.t ........ ok
t/load.t .......... ok
t/pod-coverage.t .. ok
t/pod.t ........... ok
t/run.t ........... ok
t/run_fixup.t ..... ok
t/run_ping.t ...... ok
t/svp.t ........... ok
t/svp_fixup.t ..... ok
t/svp_live.t ...... skipped: Set DBICTEST_DSN _USER and _PASS to run savepoint tests
t/svp_ping.t ...... ok
t/txn.t ........... ok
t/txn_fixup.t ..... ok
t/txn_ping.t ...... ok
All tests successful.
Files=15, Tests=770,  3 wallclock secs ( 0.34 usr  0.08 sys +  2.12 cusr  0.34 csys =  2.88 CPU)
Result: PASS

------------------------------
PREREQUISITES
------------------------------

Prerequisite modules loaded:

requires:

    Module              Need     Have    
    ------------------- -------- --------
    DBI                 1.605    1.631   
    perl                5.006002 5.016003

build_requires:

    Module              Need     Have    
    ------------------- -------- --------
    Module::Build       0.30     0.4205  
    Test::MockModule    0.05     0.05    
    Test::More          0.88     1.001003

configure_requires:

    Module              Need     Have    
    ------------------- -------- --------
    Module::Build       0.30     0.4205  

opt_requires:

    Module              Need     Have    
    ------------------- -------- --------
    DBI                 1.614    1.631   
    Test::Pod           1.41     1.48    
    Test::Pod::Coverage 1.06     1.08    


------------------------------
ENVIRONMENT AND OTHER CONTEXT
------------------------------

Environment variables:

    LANG = en_US.utf8
    PATH = /opt/heroku/bin:/home/titan/perl5/perlbrew/bin:/home/titan/perl5/perlbrew/perls/perl-5.16.3/bin:/usr/local/bin:/usr/bin:/bin:/opt/bin:/usr/x86_64-pc-linux-gnu/gcc-bin/4.7.3
    PERL5LIB = 
    PERL5OPT = 
    PERL5_CPANPLUS_IS_RUNNING = 27040
    PERL5_CPAN_IS_RUNNING = 27040
    PERLBREW_BASHRC_VERSION = 0.68
    PERLBREW_HOME = /home/titan/.perlbrew
    PERLBREW_MANPATH = /home/titan/perl5/perlbrew/perls/perl-5.16.3/man
    PERLBREW_PATH = /home/titan/perl5/perlbrew/bin:/home/titan/perl5/perlbrew/perls/perl-5.16.3/bin
    PERLBREW_PERL = perl-5.16.3
    PERLBREW_ROOT = /home/titan/perl5/perlbrew
    PERLBREW_VERSION = 0.68
    SHELL = /bin/bash
    TERM = screen

Perl special variables (and OS-specific diagnostics, for MSWin32):

    $^X = /home/titan/perl5/perlbrew/perls/perl-5.16.3/bin/perl
    $UID/$EUID = 1000 / 1000
    $GID = 1000 10 16 100 244 245 250 1000
    $EGID = 1000 10 16 100 244 245 250 1000

Perl module toolchain versions installed:

    Module              Have    
    ------------------- --------
    CPAN                2.05    
    CPAN::Meta          2.141520
    Cwd                 3.47    
    ExtUtils::CBuilder  0.280216
    ExtUtils::Command   1.17    
    ExtUtils::Install   1.58    
    ExtUtils::MakeMaker 6.98    
    ExtUtils::Manifest  1.61    
    ExtUtils::ParseXS   3.24    
    File::Spec          3.47    
    JSON                2.90    
    JSON::PP            2.27203 
    Module::Build       0.4205  
    Module::Signature   n/a     
    Parse::CPAN::Meta   1.4414  
    Test::Harness       3.31    
    Test::More          1.001003
    YAML                0.92    
    YAML::Syck          1.27    
    version             0.99    


--

Summary of my perl5 (revision 5 version 16 subversion 3) configuration:
   
  Platform:
    osname=linux, osvers=3.13.10-hardened, archname=x86_64-linux-thread-multi-ld
    uname='linux gengoff 3.13.10-hardened #3 smp sat may 17 19:21:00 edt 2014 x86_64 amd a4-3300m apu with radeon(tm) hd graphics authenticamd gnulinux '
    config_args='-de -Dprefix=/home/titan/perl5/perlbrew/perls/perl-5.16.3 -Dusethreads -Dusemorebits -Accflags=-O2 -march=amdfam10 -mcx16 -mpopcnt -pipe -Aeval:scriptdir=/home/titan/perl5/perlbrew/perls/perl-5.16.3/bin'
    hint=recommended, useposix=true, d_sigaction=define
    useithreads=define, usemultiplicity=define
    useperlio=define, d_sfio=undef, uselargefiles=define, usesocks=undef
    use64bitint=define, use64bitall=define, uselongdouble=define
    usemymalloc=n, bincompat5005=undef
  Compiler:
    cc='cc', ccflags ='-D_REENTRANT -D_GNU_SOURCE -O2 -march=amdfam10 -mcx16 -mpopcnt -pipe -fno-strict-aliasing -fstack-protector -D_LARGEFILE_SOURCE -D_FILE_OFFSET_BITS=64',
    optimize='-O2',
    cppflags='-D_REENTRANT -D_GNU_SOURCE -O2 -march=amdfam10 -mcx16 -mpopcnt -pipe -fno-strict-aliasing -fstack-protector'
    ccversion='', gccversion='4.7.3', gccosandvers=''
    intsize=4, longsize=8, ptrsize=8, doublesize=8, byteorder=12345678
    d_longlong=define, longlongsize=8, d_longdbl=define, longdblsize=16
    ivtype='long', ivsize=8, nvtype='long double', nvsize=16, Off_t='off_t', lseeksize=8
    alignbytes=16, prototype=define
  Linker and Libraries:
    ld='cc', ldflags =' -fstack-protector -L/usr/local/lib'
    libpth=/usr/local/lib /lib/../lib64 /usr/lib/../lib64 /lib /usr/lib /lib64 /usr/lib64 /usr/local/lib64
    libs=-lnsl -lgdbm -ldb -ldl -lm -lcrypt -lutil -lpthread -lc -lgdbm_compat
    perllibs=-lnsl -ldl -lm -lcrypt -lutil -lpthread -lc
    libc=libc-2.17.so, so=so, useshrplib=false, libperl=libperl.a
    gnulibc_version='2.17'
  Dynamic Linking:
    dlsrc=dl_dlopen.xs, dlext=so, d_dlsymun=undef, ccdlflags='-Wl,-E'
    cccdlflags='-fPIC', lddlflags='-shared -O2 -L/usr/local/lib -fstack-protector'


Characteristics of this binary (from libperl): 
  Compile-time options: HAS_TIMES MULTIPLICITY PERLIO_LAYERS
                        PERL_DONT_CREATE_GVSV PERL_IMPLICIT_CONTEXT
                        PERL_MALLOC_WRAP PERL_PRESERVE_IVUV USE_64_BIT_ALL
                        USE_64_BIT_INT USE_ITHREADS USE_LARGE_FILES
                        USE_LOCALE USE_LOCALE_COLLATE USE_LOCALE_CTYPE
                        USE_LOCALE_NUMERIC USE_LONG_DOUBLE USE_PERLIO
                        USE_PERL_ATOF USE_REENTRANT_API
  Built under linux
  Compiled at Jun 10 2014 16:05:50
  %ENV:
    PERL5LIB=""
    PERL5OPT=""
    PERL5_CPANPLUS_IS_RUNNING="27040"
    PERL5_CPAN_IS_RUNNING="27040"
    PERLBREW_BASHRC_VERSION="0.68"
    PERLBREW_HOME="/home/titan/.perlbrew"
    PERLBREW_MANPATH="/home/titan/perl5/perlbrew/perls/perl-5.16.3/man"
    PERLBREW_PATH="/home/titan/perl5/perlbrew/bin:/home/titan/perl5/perlbrew/perls/perl-5.16.3/bin"
    PERLBREW_PERL="perl-5.16.3"
    PERLBREW_ROOT="/home/titan/perl5/perlbrew"
    PERLBREW_VERSION="0.68"
  @INC:
    /home/titan/perl5/perlbrew/perls/perl-5.16.3/lib/site_perl/5.16.3/x86_64-linux-thread-multi-ld
    /home/titan/perl5/perlbrew/perls/perl-5.16.3/lib/site_perl/5.16.3
    /home/titan/perl5/perlbrew/perls/perl-5.16.3/lib/5.16.3/x86_64-linux-thread-multi-ld
    /home/titan/perl5/perlbrew/perls/perl-5.16.3/lib/5.16.3
    .