Dist-Zilla-Plugin-Git-NextVersion-Sanitized v0.002003 Perl 5 v5.41.3 x86_64-dragonfly-thread-multi
- Status
- Pass
- From
- Carlos Guevara
- Dist
-
Dist-Zilla-Plugin-Git-NextVersion-Sanitized v0.002003
- Platform
- Perl 5 v5.41.3 x86_64-dragonfly-thread-multi
- Date
- 2024-08-10 13:03:46
- ID
- fa6c6c4e-5718-11ef-9a10-d3ea7f49d96f
This distribution has been tested as part of the CPAN Testers
project, supporting the Perl programming language. See
http://wiki.cpantesters.org/ for more information or email
questions to cpan-testers-discuss@perl.org
--
Dear Kent Fredric (PAUSE Custodial Account),
This is a computer-generated report for Dist-Zilla-Plugin-Git-NextVersion-Sanitized-0.002003
on perl 5.41.3, created by CPAN-Reporter-1.2019.
Thank you for uploading your work to CPAN. Congratulations!
All tests were successful.
Sections of this report:
* Tester comments
* Program output
* Prerequisites
* Environment and other context
------------------------------
TESTER COMMENTS
------------------------------
Additional comments from tester:
this report is from an automated smoke testing program
and was not reviewed by a human for accuracy
------------------------------
PROGRAM OUTPUT
------------------------------
Output from '/usr/bin/make test':
PERL_DL_NONLAZY=1 "/home/cpan/bin/perl/bin/perl5.41.3" "-MExtUtils::Command::MM" "-MTest::Harness" "-e" "undef *Test::Harness::Switches; test_harness(0, 'blib/lib', 'blib/arch')" t/*.t t/00-compile/*.t
t/00-compile/lib_Dist_Zilla_Plugin_Git_NextVersion_Sanitized_pm.t .. ok
#
# Versions for all modules listed in MYMETA.json (including optional ones):
#
# === Configure Requires ===
#
# Module Want Have
# ------------------- ---- ----
# ExtUtils::MakeMaker any 7.70
#
# === Configure Recommends ===
#
# Module Want Have
# ------------------- ---- ----
# ExtUtils::MakeMaker 7.00 7.70
#
# === Build Requires ===
#
# Module Want Have
# ------------------- ---- ----
# ExtUtils::MakeMaker any 7.70
#
# === Test Requires ===
#
# Module Want Have
# ------------------------------- -------- --------
# Dist::Zilla::Util::Test::KENTNL 1.003001 1.005014
# ExtUtils::MakeMaker any 7.70
# File::Spec any 3.92
# Git::Wrapper::Plus::Support any 0.004011
# Git::Wrapper::Plus::Tester any 0.004011
# Test::DZil any 6.032
# Test::Fatal any 0.017
# Test::More any 1.302200
#
# === Test Recommends ===
#
# Module Want Have
# ------------------- -------- --------
# CPAN::Meta 2.120900 2.150010
# ExtUtils::MakeMaker 7.00 7.70
# Test::More 0.99 1.302200
#
# === Runtime Requires ===
#
# Module Want Have
# ------------------------------------- ---- --------
# Dist::Zilla::Plugin::Git::NextVersion any 2.051
# Dist::Zilla::Role::Version::Sanitize any 0.002003
# Moose any 2.2207
# strict any 1.13
# utf8 any 1.27
# warnings any 1.70
#
# === Runtime Recommends ===
#
# Module Want Have
# ------ ----- ------
# Moose 2.000 2.2207
#
t/00-report-prereqs.t .............................................. ok
t/basic.t .......................................................... ok
t/normalise_env.t .................................................. ok
t/normalise_env_dotted.t ........................................... ok
t/normalise_env_vdotted.t .......................................... ok
All tests successful.
Files=6, Tests=14, 4 wallclock secs ( 0.03 usr 0.02 sys + 3.23 cusr 0.66 csys = 3.94 CPU)
Result: PASS
------------------------------
PREREQUISITES
------------------------------
Prerequisite modules loaded:
requires:
Module Need Have
------------------------------------- -------- --------
Dist::Zilla::Plugin::Git::NextVersion 0 2.051
Dist::Zilla::Role::Version::Sanitize 0 0.002003
Moose 0 2.2207
perl 5.008 5.041003
strict 0 1.13
utf8 0 1.27
warnings 0 1.70
build_requires:
Module Need Have
------------------------------------- -------- --------
Dist::Zilla::Util::Test::KENTNL 1.003001 1.005014
ExtUtils::MakeMaker 0 7.70
File::Spec 0 3.92
Git::Wrapper::Plus::Support 0 0.004011
Git::Wrapper::Plus::Tester 0 0.004011
Test::DZil 0 6.032
Test::Fatal 0 0.017
Test::More 0 1.302200
configure_requires:
Module Need Have
------------------------------------- -------- --------
ExtUtils::MakeMaker 0 7.70
perl 5.008 5.041003
------------------------------
ENVIRONMENT AND OTHER CONTEXT
------------------------------
Environment variables:
AUTOMATED_TESTING = 1
DATE_MANIP_TEST_DM5 = 1
LC_ALL = C
NONINTERACTIVE_TESTING = 1
NO_NETWORK_TESTING = 1
PATH = /home/cpan/bin/perl/bin:/home/cpan/bin:/sbin:/bin:/usr/sbin:/usr/bin:/usr/games:/usr/local/sbin:/usr/local/bin:/usr/pkg/sbin:/usr/pkg/bin:/home/cpan/bin
PERL5LIB =
PERL5OPT =
PERL5_CPANPLUS_IS_RUNNING = 46336
PERL5_CPAN_IS_RUNNING = 46336
PERL_MM_USE_DEFAULT = 1
PERL_USE_UNSAFE_INC = 1
SHELL = /usr/local/bin/bash
TERM = screen
TMPDIR = /home/cpan/tmp
Perl special variables (and OS-specific diagnostics, for MSWin32):
$^X = /home/cpan/bin/perl/bin/perl5.41.3
$UID/$EUID = 1002 / 1002
$GID = 1002 1002
$EGID = 1002 1002
Perl module toolchain versions installed:
Module Have
------------------- --------
CPAN 2.36
CPAN::Meta 2.150010
Cwd 3.92
ExtUtils::CBuilder 0.280240
ExtUtils::Command 7.70
ExtUtils::Install 2.22
ExtUtils::MakeMaker 7.70
ExtUtils::Manifest 1.75
ExtUtils::ParseXS 3.53
File::Spec 3.92
JSON 4.10
JSON::PP 4.16
Module::Build 0.4234
Module::Signature 0.88
Parse::CPAN::Meta 2.150010
Test2 1.302200
Test::Harness 3.48_01
Test::More 1.302200
YAML 1.31
YAML::Syck 1.34
version 0.9930
--
Summary of my perl5 (revision 5 version 41 subversion 3) configuration:
Commit id: 2c387e63aed4fdb32777f74fdbac6ec6a8e6683b
Platform:
osname=dragonfly
osvers=6.4-release
archname=x86_64-dragonfly-thread-multi
uname='dragonfly cjg-dragonfly6 6.4-release dragonfly v6.4.0-release #54: fri dec 30 09:06:50 pst 2022 root@pkgbox64.dragonflybsd.org:usrobjusrsrcsysx86_64_generic x86_64 '
config_args='-des -Dprefix=/home/cpan/bin/perl -Dscriptdir=/home/cpan/bin/perl/bin -Dusedevel -Duse64bitall -Duseithreads'
hint=recommended
useposix=true
d_sigaction=define
useithreads=define
usemultiplicity=define
use64bitint=define
use64bitall=define
uselongdouble=undef
usemymalloc=n
default_inc_excludes_dot=define
Compiler:
cc='cc'
ccflags ='-DHAS_FPSETMASK -DHAS_FLOATINGPOINT_H -DNO_POSIX_2008_LOCALE -fwrapv -fno-strict-aliasing -pipe -fstack-protector-strong -I/usr/local/include -D_FORTIFY_SOURCE=2'
optimize='-O2'
cppflags='-DHAS_FPSETMASK -DHAS_FLOATINGPOINT_H -DNO_POSIX_2008_LOCALE -fwrapv -fno-strict-aliasing -pipe -fstack-protector-strong -I/usr/local/include'
ccversion=''
gccversion='8.3 [DragonFly] Release/2019-02-22'
gccosandvers=''
intsize=4
longsize=8
ptrsize=8
doublesize=8
byteorder=12345678
doublekind=3
d_longlong=define
longlongsize=8
d_longdbl=define
longdblsize=16
longdblkind=3
ivtype='long'
ivsize=8
nvtype='double'
nvsize=8
Off_t='off_t'
lseeksize=8
alignbytes=8
prototype=define
Linker and Libraries:
ld='cc'
ldflags ='-pthread -Wl,-E -fstack-protector-strong -L/usr/local/lib'
libpth=/usr/lib /usr/local/lib
libs=-lpthread -lgdbm -ldl -lm -lcrypt -lutil -lc
perllibs=-lpthread -ldl -lm -lcrypt -lutil -lc
libc=
so=so
useshrplib=false
libperl=libperl.a
gnulibc_version=''
Dynamic Linking:
dlsrc=dl_dlopen.xs
dlext=so
d_dlsymun=undef
ccdlflags=' '
cccdlflags='-DPIC -fPIC'
lddlflags='-shared -L/usr/local/lib -fstack-protector-strong'
Characteristics of this binary (from libperl):
Compile-time options:
HAS_LONG_DOUBLE
HAS_STRTOLD
HAS_TIMES
MULTIPLICITY
PERLIO_LAYERS
PERL_COPY_ON_WRITE
PERL_DONT_CREATE_GVSV
PERL_HASH_FUNC_SIPHASH13
PERL_HASH_USE_SBOX32
PERL_MALLOC_WRAP
PERL_OP_PARENT
PERL_PRESERVE_IVUV
PERL_USE_DEVEL
PERL_USE_SAFE_PUTENV
USE_64_BIT_ALL
USE_64_BIT_INT
USE_ITHREADS
USE_LARGE_FILES
USE_LOCALE
USE_LOCALE_COLLATE
USE_LOCALE_CTYPE
USE_LOCALE_NUMERIC
USE_LOCALE_TIME
USE_PERLIO
USE_PERL_ATOF
USE_REENTRANT_API
Built under dragonfly
Compiled at Aug 9 2024 20:44:13
%ENV:
PERL5LIB=""
PERL5OPT=""
PERL5_CPANPLUS_IS_RUNNING="46336"
PERL5_CPAN_IS_RUNNING="46336"
PERL_MM_USE_DEFAULT="1"
PERL_USE_UNSAFE_INC="1"
@INC:
/home/cpan/bin/perl/lib/site_perl/5.41.3/x86_64-dragonfly-thread-multi
/home/cpan/bin/perl/lib/site_perl/5.41.3
/home/cpan/bin/perl/lib/5.41.3/x86_64-dragonfly-thread-multi
/home/cpan/bin/perl/lib/5.41.3
.