Config-IniFiles v3.000003 Perl 5 v5.8.9 OpenBSD.amd64-openbsd-thread-multi
- Status
- Pass
- From
- Chris Williams (BINGOS)
- Dist
-
Config-IniFiles v3.000003
- Platform
- Perl 5 v5.8.9 OpenBSD.amd64-openbsd-thread-multi
- Date
- 2022-01-01 01:05:58
- ID
- fa706164-6a9e-11ec-bc66-57723b537541
This distribution has been tested as part of the CPAN Testers
project, supporting the Perl programming language. See
http://wiki.cpantesters.org/ for more information or email
questions to cpan-testers-discuss@perl.org
--
Dear Shlomi Fish,
This is a computer-generated error report created automatically by
CPANPLUS, version 0.9914. Testers personal comments may appear
at the end of this report.
Thank you for uploading your work to CPAN. Congratulations!
All tests were successful.
TEST RESULTS:
Below is the error stack from stage 'make test':
t/00-compile.t ................................ ok
t/00load.t .................................... ok
t/01basic.t ................................... ok
t/02weird.t ................................... ok
t/03comments.t ................................ ok
t/04import.t .................................. ok
t/05hash.t .................................... ok
t/06oo.t ...................................... ok
t/07misc.t .................................... ok
t/08group.t ................................... ok
t/09case.t .................................... ok
t/10delta.t ................................... ok
t/11copy-ties-with-array-vals.t ............... ok
t/12open-empty-file.t ......................... ok
t/13val-in-list-context.t ..................... ok
t/14brackets-within-values.t .................. ok
t/15store-and-retrieve-here-doc-terminator.t .. ok
t/16case-sensitive-default.t .................. ok
t/17untainted-multiline-values.t .............. ok
t/18non-contiguous-groups.t ................... ok
t/19param-found-outside-section.t ............. ok
t/20allowedcommentchars.t ..................... ok
t/22trailing-comment-lines.t .................. ok
t/23scalar-ref.t .............................. ok
t/24case-sensitive-exists.t ................... ok
t/25line-endings.t ............................ ok
t/26scalar-filehandle.t ....................... ok
t/27empty-ini.t ............................... ok
t/28nomultiline.t ............................. ok
t/29end-of-line-comment.t ..................... ok
t/30parameters-with-empty-values.t ............ ok
t/31comments_with_spaces.t .................... ok
t/32mswin-outputs-contain-crs.t ............... skipped: Test is only relevant for Microsoft Windows
untie attempted while 1 inner references still exist at t/33update-using-tied-fh-w-shorter-names.t line 52.
t/33update-using-tied-fh-w-shorter-names.t .... ok
t/34trailing-comments-double-delimeter.t ...... ok
t/35reload-config-no-file.t ................... ok
t/35section-iterators.t ....................... ok
t/36php-compat.t .............................. ok
t/37here-doc-no-end-marker.t .................. ok
All tests successful.
Files=39, Tests=205, 20 wallclock secs ( 0.56 usr 0.37 sys + 13.19 cusr 3.59 csys = 17.71 CPU)
Result: PASS
PREREQUISITES:
Here is a list of prerequisites you specified and versions we
managed to load:
Module Name Have Want
Carp 1.10 0
English 1.03 0
Exporter 5.63 0
Fcntl 1.06 0
File::Basename 2.77 0
File::Spec 3.75 0
File::Temp 0.2311 0
IO::File 1.14 0
IO::Handle 1.27 0
IO::Scalar 2.113 0
IPC::Open3 1.03 0
List::Util 1.60 1.33
Module::Build 0.4231 0.28
Scalar::Util 1.60 0
Symbol 1.06 0
Test::More 1.302188 0.88
base 2.13 0
lib 0.61 0
parent 0.238 0
strict 1.03 0
vars 1.01 0
warnings 1.05_01 0
Perl module toolchain versions installed:
Module Name Have
CPANPLUS 0.9914
CPANPLUS::Dist::Build 0.90
Cwd 3.75
ExtUtils::CBuilder 0.280236
ExtUtils::Command 7.62
ExtUtils::Install 2.20
ExtUtils::MakeMaker 7.62
ExtUtils::Manifest 1.73
ExtUtils::ParseXS 3.35
File::Spec 3.75
Module::Build 0.4231
Pod::Parser 1.35
Pod::Simple 3.42
Test2 1.302188
Test::Harness 3.42
Test::More 1.302188
version 0.9929
******************************** NOTE ********************************
The comments above are created mechanically, possibly without manual
checking by the sender. As there are many people performing automatic
tests on each upload to CPAN, it is likely that you will receive
identical messages about the same problem.
If you believe that the message is mistaken, please reply to the first
one with correction and/or additional informations, and do not take
it personally. We appreciate your patience. :)
**********************************************************************
Additional comments:
This report was machine-generated by CPANPLUS::Dist::YACSmoke 1.08.
Powered by minismokebox version 0.68
CPANPLUS is prefering Build.PL
------------------------------
ENVIRONMENT AND OTHER CONTEXT
------------------------------
Environment variables:
AUTOMATED_TESTING = 1
NONINTERACTIVE_TESTING = 1
PATH = /home/cpan/bin:/bin:/sbin:/usr/bin:/usr/sbin:/usr/X11R6/bin:/usr/local/bin:/usr/local/sbin:/usr/games
PERL5LIB = /home/cpan/pit/jail/R3ghoy6fSt/lib/perl5:/home/cpan/pit/thr/conf/perl-5.8.9/.cpanplus/5.8.9/build/QGwCcCH8Vk/Config-IniFiles-3.000003/blib/lib:/home/cpan/pit/thr/conf/perl-5.8.9/.cpanplus/5.8.9/build/QGwCcCH8Vk/Config-IniFiles-3.000003/blib/arch
PERL5_CPANPLUS_IS_RUNNING = 87619
PERL5_CPANPLUS_IS_VERSION = 0.9914
PERL5_MINISMOKEBOX = 0.68
PERL5_YACSMOKE_BASE = /home/cpan/pit/thr/conf/perl-5.8.9
PERL_EXTUTILS_AUTOINSTALL = --defaultdeps
PERL_LOCAL_LIB_ROOT = /home/cpan/pit/jail/R3ghoy6fSt
PERL_MB_OPT = --install_base "/home/cpan/pit/jail/R3ghoy6fSt"
PERL_MM_OPT = INSTALL_BASE=/home/cpan/pit/jail/R3ghoy6fSt
PERL_MM_USE_DEFAULT = 1
PERL_USE_UNSAFE_INC = 1
SHELL = /usr/local/bin/bash
TERM = screen
Perl special variables (and OS-specific diagnostics, for MSWin32):
Perl: $^X = /home/cpan/pit/thr/perl-5.8.9/bin/perl
UID: $< = 1001
EUID: $> = 1001
GID: $( = 1001 1001
EGID: $) = 1001 1001
-------------------------------
--
Summary of my perl5 (revision 5 version 8 subversion 9) configuration:
Platform:
osname=openbsd, osvers=6.9, archname=OpenBSD.amd64-openbsd-thread-multi
uname='openbsd oyster.bingosnet.co.uk 6.9 generic#464 amd64 '
config_args='-des -Dprefix=/home/cpan/pit/thr/perl-5.8.9 -Dusethreads'
hint=recommended, useposix=true, d_sigaction=define
usethreads=define use5005threads=undef useithreads=define usemultiplicity=define
useperlio=define d_sfio=undef uselargefiles=define usesocks=undef
use64bitint=define use64bitall=define uselongdouble=undef
usemymalloc=n, bincompat5005=undef
Compiler:
cc='cc', ccflags ='-pthread -fno-strict-aliasing -pipe -I/usr/local/include',
optimize='-O2',
cppflags='-pthread -fno-strict-aliasing -pipe -I/usr/local/include'
ccversion='', gccversion='OpenBSD Clang 10.0.1 ', gccosandvers=''
intsize=4, longsize=8, ptrsize=8, doublesize=8, byteorder=12345678
d_longlong=define, longlongsize=8, d_longdbl=define, longdblsize=16
ivtype='long', ivsize=8, nvtype='double', nvsize=8, Off_t='off_t', lseeksize=8
alignbytes=8, prototype=define
Linker and Libraries:
ld='cc', ldflags ='-pthread -Wl,-E -L/usr/local/lib'
libpth=/usr/local/lib /usr/lib
libs=-lgdbm -lm -lutil -lc
perllibs=-lm -lutil -lc
libc=/usr/lib/libc.so.96.0, so=so, useshrplib=false, libperl=libperl.a
gnulibc_version=''
Dynamic Linking:
dlsrc=dl_dlopen.xs, dlext=so, d_dlsymun=undef, ccdlflags=' '
cccdlflags='-DPIC -fPIC ', lddlflags='-shared -fPIC -L/usr/local/lib'
Characteristics of this binary (from libperl):
Compile-time options: MULTIPLICITY PERL_IMPLICIT_CONTEXT PERL_MALLOC_WRAP
USE_64_BIT_ALL USE_64_BIT_INT USE_FAST_STDIO
USE_ITHREADS USE_LARGE_FILES USE_PERLIO
USE_REENTRANT_API
Locally applied patches:
Devel::PatchPerl 2.08
Built under openbsd
Compiled at Jun 6 2021 10:44:30
%ENV:
PERL5LIB="/home/cpan/pit/jail/R3ghoy6fSt/lib/perl5:/home/cpan/pit/thr/conf/perl-5.8.9/.cpanplus/5.8.9/build/QGwCcCH8Vk/Config-IniFiles-3.000003/blib/lib:/home/cpan/pit/thr/conf/perl-5.8.9/.cpanplus/5.8.9/build/QGwCcCH8Vk/Config-IniFiles-3.000003/blib/arch"
PERL5_CPANPLUS_IS_RUNNING="87619"
PERL5_CPANPLUS_IS_VERSION="0.9914"
PERL5_MINISMOKEBOX="0.68"
PERL5_YACSMOKE_BASE="/home/cpan/pit/thr/conf/perl-5.8.9"
PERL_EXTUTILS_AUTOINSTALL="--defaultdeps"
PERL_LOCAL_LIB_ROOT="/home/cpan/pit/jail/R3ghoy6fSt"
PERL_MB_OPT="--install_base "/home/cpan/pit/jail/R3ghoy6fSt""
PERL_MM_OPT="INSTALL_BASE=/home/cpan/pit/jail/R3ghoy6fSt"
PERL_MM_USE_DEFAULT="1"
PERL_USE_UNSAFE_INC="1"
@INC:
/home/cpan/pit/jail/R3ghoy6fSt/lib/perl5/5.8.9/OpenBSD.amd64-openbsd-thread-multi
/home/cpan/pit/jail/R3ghoy6fSt/lib/perl5/5.8.9
/home/cpan/pit/jail/R3ghoy6fSt/lib/perl5/OpenBSD.amd64-openbsd-thread-multi
/home/cpan/pit/jail/R3ghoy6fSt/lib/perl5
/home/cpan/pit/thr/conf/perl-5.8.9/.cpanplus/5.8.9/build/QGwCcCH8Vk/Config-IniFiles-3.000003/blib/lib
/home/cpan/pit/thr/conf/perl-5.8.9/.cpanplus/5.8.9/build/QGwCcCH8Vk/Config-IniFiles-3.000003/blib/arch
/home/cpan/pit/thr/perl-5.8.9/lib/5.8.9/OpenBSD.amd64-openbsd-thread-multi
/home/cpan/pit/thr/perl-5.8.9/lib/5.8.9
/home/cpan/pit/thr/perl-5.8.9/lib/site_perl/5.8.9/OpenBSD.amd64-openbsd-thread-multi
/home/cpan/pit/thr/perl-5.8.9/lib/site_perl/5.8.9
.