Report for autodie-2.29

Back
From: metabase:user:00b206ce-f23e-11e6-a165-0647bf1ed562
Subject: PASS autodie-2.29 v5.22.3 Mac OS X
Date: 2017-07-03T20:41:23Z

This distribution has been tested as part of the CPAN Testers
project, supporting the Perl programming language.  See
http://wiki.cpantesters.org/ for more information or email
questions to cpan-testers-discuss@perl.org


--
Dear PJF,

This is a computer-generated report for autodie-2.29
on perl 5.22.3, created by App::cpanminus::reporter 0.17 (1.7040).

Thank you for uploading your work to CPAN.  Congratulations!
All tests were successful.

Sections of this report:

    * Tester comments
    * Program output
    * Prerequisites
    * Environment and other context

------------------------------
TESTER COMMENTS
------------------------------

Additional comments from tester:

none provided

------------------------------
PROGRAM OUTPUT
------------------------------

Output from '':

Building and testing autodie-2.29
cp lib/autodie/exception/system.pm blib/lib/autodie/exception/system.pm
cp lib/autodie/skip.pm blib/lib/autodie/skip.pm
cp lib/autodie/hints.pm blib/lib/autodie/hints.pm
cp lib/autodie/exception.pm blib/lib/autodie/exception.pm
cp lib/autodie/Util.pm blib/lib/autodie/Util.pm
cp lib/autodie/Scope/Guard.pm blib/lib/autodie/Scope/Guard.pm
cp lib/autodie.pm blib/lib/autodie.pm
cp lib/Fatal.pm blib/lib/Fatal.pm
cp lib/autodie/Scope/GuardStack.pm blib/lib/autodie/Scope/GuardStack.pm
Manifying 9 pod documents
PERL_DL_NONLAZY=1 "/Users/marnold/perl5/perlbrew/perls/perl-5.22.3/bin/perl" "-MExtUtils::Command::MM" "-MTest::Harness" "-e" "undef *Test::Harness::Switches; test_harness(0, 'blib/lib', 'blib/arch')" t/*.t
t/00-load.t ...................... ok
t/args.t ......................... ok
t/author-critic.t ................ skipped: these tests are for testing by the author
t/autodie.t ...................... ok
t/backcompat.t ................... ok
t/basic_exceptions.t ............. ok
t/binmode.t ...................... ok
t/blog_hints.t ................... ok
t/caller.t ....................... ok
t/chmod.t ........................ ok
t/chown.t ........................ ok
t/context.t ...................... ok
t/context_lexical.t .............. ok
t/core-trampoline-slurp.t ........ ok
t/crickey.t ...................... ok
t/critic.t ....................... skipped: Author test.  Set $ENV{AUTHOR_TESTING} to true to run.
t/dbmopen.t ...................... ok
t/eval_error.t ................... ok
t/exception_class.t .............. ok
t/exceptions.t ................... ok
t/exec.t ......................... ok
t/Fatal.t ........................ ok
t/filehandles.t .................. ok
t/fileno.t ....................... ok
t/flock.t ........................ ok
t/fork.t ......................... skipped: BSD::Resource required to test fork()
t/format-clobber.t ............... ok
# Sub::Identify is loaded
t/hints.t ........................ ok
t/hints_insist.t ................. ok
t/hints_pod_examples.t ........... ok
t/hints_provider_does.t .......... ok
t/hints_provider_easy_does_it.t .. ok
t/hints_provider_isa.t ........... ok
t/import-into.t .................. skipped: Test needs Import::Into >= 1.002004
t/internal-backcompat.t .......... ok
t/internal.t ..................... ok
t/kill.t ......................... ok
t/kwalitee.t ..................... skipped: Author test.  Set $ENV{RELEASE_TESTING} to true to run.
t/lethal.t ....................... ok
t/lex58.t ........................ skipped: IPC::System::Simple required
t/mkdir.t ........................ ok
t/no_carp.t ...................... ok
t/open.t ......................... ok
t/pod-coverage.t ................. skipped: Author test.  Set $ENV{AUTHOR_TESTING} to true to run.
t/pod.t .......................... skipped: Author test.  Set $ENV{AUTHOR_TESTING} to true to run.
t/read.t ......................... ok
t/recv.t ......................... ok
t/release-pod-coverage.t ......... skipped: these tests are for release candidate testing
t/release-pod-syntax.t ........... skipped: these tests are for release candidate testing
t/repeat.t ....................... ok
t/rt-74246.t ..................... ok
t/scope_leak.t ................... ok
t/skip.t ......................... ok
t/socket.t ....................... skipped: Author test.  Set $ENV{AUTHOR_TESTING} to true to run.
t/string-eval-basic.t ............ ok
t/string-eval-leak.t ............. ok
t/sysopen.t ...................... ok
t/system.t ....................... skipped: IPC::System::Simple not installed
t/truncate.t ..................... ok
t/unlink.t ....................... ok
t/user-context.t ................. ok
t/usersub.t ...................... ok
t/utf8_open.t .................... ok
t/utime.t ........................ ok
t/version.t ...................... skipped: Release test.  Set $ENV{RELEASE_TESTING} to true to run.
t/version_tag.t .................. ok
All tests successful.
Files=66, Tests=495,  7 wallclock secs ( 0.25 usr  0.19 sys +  5.03 cusr  0.85 csys =  6.32 CPU)
Result: PASS

------------------------------
PREREQUISITES
------------------------------

Prerequisite modules loaded:

    No requirements found

------------------------------
ENVIRONMENT AND OTHER CONTEXT
------------------------------

Environment variables:

    LANG = en_US.UTF-8
    PATH = /Users/marnold/perl5/perlbrew/bin:/Users/marnold/perl5/perlbrew/perls/perl-5.22.3/bin:/usr/local/bin:/usr/bin:/bin:/usr/sbin:/sbin:/opt/X11/bin:/Library/Frameworks/Mono.framework/Versions/Current/Commands:/Users/marnold/.cabal/bin:/Volumes/Glomero/WhaleBrew/bin
    PERLBREW_BASHRC_VERSION = 0.78
    PERLBREW_HOME = /Users/marnold/.perlbrew
    PERLBREW_MANPATH = /Users/marnold/perl5/perlbrew/perls/perl-5.22.3/man
    PERLBREW_PATH = /Users/marnold/perl5/perlbrew/bin:/Users/marnold/perl5/perlbrew/perls/perl-5.22.3/bin
    PERLBREW_PERL = perl-5.22.3
    PERLBREW_ROOT = /Users/marnold/perl5/perlbrew
    PERLBREW_VERSION = 0.78
    SHELL = /bin/bash
    TERM = xterm-256color
    TMPDIR = /var/folders/0g/pr83_wm96v9f3vb974hzw0y41yv10d/T/

Perl special variables (and OS-specific diagnostics, for MSWin32):

    EGID = 1804855622 1804855622 133367111 177993679 268888280 476731084 645552154 664623591 718154294 811286895 855721911 702 1514418954 1571042302 1763419923 1846971012 2008348265
    EUID = 65897485
    EXECUTABLE_NAME = /Users/marnold/perl5/perlbrew/perls/perl-5.22.3/bin/perl
    GID = 1804855622 1804855622 133367111 177993679 268888280 476731084 645552154 664623591 718154294 811286895 855721911 702 1514418954 1571042302 1763419923 1846971012 2008348265
    UID = 65897485

Perl module toolchain versions installed:

    Module              Have    
    ------------------- --------
    CPAN                2.16    
    CPAN::Meta          2.150010
    Cwd                 3.62    
    ExtUtils::CBuilder  0.280224
    ExtUtils::Command   7.30    
    ExtUtils::Install   2.14    
    ExtUtils::MakeMaker 7.30    
    ExtUtils::Manifest  1.70    
    ExtUtils::ParseXS   3.30    
    File::Spec          3.62    
    JSON                n/a     
    JSON::PP            2.94    
    Module::Build       0.4224  
    Module::Signature   n/a     
    Parse::CPAN::Meta   2.150010
    Test::Harness       3.39    
    Test::More          1.302086
    YAML                n/a     
    YAML::Syck          n/a     
    version             0.9918  


--

Summary of my perl5 (revision 5 version 22 subversion 3) configuration:
   
  Platform:
    osname=darwin, osvers=16.4.0, archname=darwin-2level
    uname='darwin c1mrj64yg944 16.4.0 darwin kernel version 16.4.0: thu dec 22 22:53:21 pst 2016; root:xnu-3789.41.3~3release_x86_64 x86_64 '
    config_args='-de -Dprefix=/Users/marnold/perl5/perlbrew/perls/perl-5.22.3 -Aeval:scriptdir=/Users/marnold/perl5/perlbrew/perls/perl-5.22.3/bin'
    hint=recommended, useposix=true, d_sigaction=define
    useithreads=undef, usemultiplicity=undef
    use64bitint=define, use64bitall=define, uselongdouble=undef
    usemymalloc=n, bincompat5005=undef
  Compiler:
    cc='cc', ccflags ='-fno-common -DPERL_DARWIN -fno-strict-aliasing -pipe -fstack-protector-strong -I/usr/local/include',
    optimize='-O3',
    cppflags='-fno-common -DPERL_DARWIN -fno-strict-aliasing -pipe -fstack-protector-strong -I/usr/local/include'
    ccversion='', gccversion='4.2.1 Compatible Apple LLVM 8.0.0 (clang-800.0.42.1)', gccosandvers=''
    intsize=4, longsize=8, ptrsize=8, doublesize=8, byteorder=12345678, doublekind=3
    d_longlong=define, longlongsize=8, d_longdbl=define, longdblsize=16, longdblkind=3
    ivtype='long', ivsize=8, nvtype='double', nvsize=8, Off_t='off_t', lseeksize=8
    alignbytes=8, prototype=define
  Linker and Libraries:
    ld='env MACOSX_DEPLOYMENT_TARGET=10.3 cc', ldflags =' -fstack-protector-strong -L/usr/local/lib'
    libpth=/usr/local/lib /Applications/Xcode.app/Contents/Developer/Toolchains/XcodeDefault.xctoolchain/usr/bin/../lib/clang/8.0.0/lib /Applications/Xcode.app/Contents/Developer/Toolchains/XcodeDefault.xctoolchain/usr/lib /usr/lib
    libs=-lpthread -lgdbm -ldbm -ldl -lm -lutil -lc
    perllibs=-lpthread -ldl -lm -lutil -lc
    libc=, so=dylib, useshrplib=false, libperl=libperl.a
    gnulibc_version=''
  Dynamic Linking:
    dlsrc=dl_dlopen.xs, dlext=bundle, d_dlsymun=undef, ccdlflags=' '
    cccdlflags=' ', lddlflags=' -bundle -undefined dynamic_lookup -L/usr/local/lib -fstack-protector-strong'


Characteristics of this binary (from libperl): 
  Compile-time options: HAS_TIMES PERLIO_LAYERS PERL_DONT_CREATE_GVSV
                        PERL_HASH_FUNC_ONE_AT_A_TIME_HARD PERL_MALLOC_WRAP
                        PERL_NEW_COPY_ON_WRITE PERL_PRESERVE_IVUV
                        USE_64_BIT_ALL USE_64_BIT_INT USE_LARGE_FILES
                        USE_LOCALE USE_LOCALE_COLLATE USE_LOCALE_CTYPE
                        USE_LOCALE_NUMERIC USE_LOCALE_TIME USE_PERLIO
                        USE_PERL_ATOF
  Locally applied patches:
	Devel::PatchPerl 1.38
  Built under darwin
  Compiled at Feb 13 2017 15:59:02
  %ENV:
    PERLBREW_BASHRC_VERSION="0.78"
    PERLBREW_HOME="/Users/marnold/.perlbrew"
    PERLBREW_MANPATH="/Users/marnold/perl5/perlbrew/perls/perl-5.22.3/man"
    PERLBREW_PATH="/Users/marnold/perl5/perlbrew/bin:/Users/marnold/perl5/perlbrew/perls/perl-5.22.3/bin"
    PERLBREW_PERL="perl-5.22.3"
    PERLBREW_ROOT="/Users/marnold/perl5/perlbrew"
    PERLBREW_VERSION="0.78"
  @INC:
    /Users/marnold/perl5/perlbrew/perls/perl-5.22.3/lib/site_perl/5.22.3/darwin-2level
    /Users/marnold/perl5/perlbrew/perls/perl-5.22.3/lib/site_perl/5.22.3
    /Users/marnold/perl5/perlbrew/perls/perl-5.22.3/lib/5.22.3/darwin-2level
    /Users/marnold/perl5/perlbrew/perls/perl-5.22.3/lib/5.22.3
    .