Report for WWW-Curl-Simple-0.100184

Back
From: metabase:user:d2c9f356-b46f-11df-9a90-20a83c0b7757
Subject: PASS WWW-Curl-Simple-0.100184 v5.15.6 SunOS/Solaris
Date: 2012-01-13T02:04:51Z

This distribution has been tested as part of the CPAN Testers
project, supporting the Perl programming language.  See
http://wiki.cpantesters.org/ for more information or email
questions to cpan-testers-discuss@perl.org


--
Dear Andreas Marienborg,

This is a computer-generated report for WWW-Curl-Simple-0.100184
on perl 5.15.6, created by CPAN-Reporter-1.2003.

Thank you for uploading your work to CPAN.  Congratulations!
All tests were successful.

Sections of this report:

    * Tester comments
    * Program output
    * Prerequisites
    * Environment and other context

------------------------------
TESTER COMMENTS
------------------------------

Additional comments from tester:

this report is from an automated smoke testing program
and was not reviewed by a human for accuracy

------------------------------
PROGRAM OUTPUT
------------------------------

Output from '/usr/local/bin/make test':

PERL_DL_NONLAZY=1 /export/home/cpant4/perl5/bin/perl5.15.6 "-MExtUtils::Command::MM" "-e" "test_harness(0, 'blib/lib', 'blib/arch')" t/*.t
# Testing WWW::Curl::Simple 0.100184, Perl 5.015006, /export/home/cpant4/perl5/bin/perl5.15.6
t/00.load.t ................. ok
t/10.simple.t ............... skipped: Net::Server::Single is required for this test
t/20.timeout.t .............. skipped: Net::Server::Single is required for this test
t/author-10.usage.multi.t ... skipped: these tests are for testing by the author
t/author-10.usage.single.t .. skipped: these tests are for testing by the author
t/author-20.non-fatal.t ..... skipped: these tests are for testing by the author
t/author-20.timeout-old.t ... skipped: these tests are for testing by the author
t/author-99.pua-compat.t .... skipped: these tests are for testing by the author
t/release-pod-syntax.t ...... skipped: these tests are for release candidate testing
All tests successful.
Files=9, Tests=1,  3 wallclock secs ( 0.04 usr  0.01 sys +  1.23 cusr  0.09 csys =  1.37 CPU)
Result: PASS

------------------------------
PREREQUISITES
------------------------------

Prerequisite modules loaded:

requires:

    Module              Need Have   
    ------------------- ---- -------
    Carp                0    1.24   
    HTTP::Request       0    6.00   
    HTTP::Response      0    6.01   
    Moose               0    2.0401 
    namespace::clean    0    0.22   
    Scalar::Util        0    1.23   
    Time::HiRes         0    1.9724 
    WWW::Curl::Easy     0    4.15   
    WWW::Curl::Multi    0    0      

build_requires:

    Module              Need Have   
    ------------------- ---- -------
    Test::Exception     0    0.31   
    Test::More          0.96 0.98   

configure_requires:

    Module              Need Have   
    ------------------- ---- -------
    ExtUtils::MakeMaker 6.31 6.63_02


------------------------------
ENVIRONMENT AND OTHER CONTEXT
------------------------------

Environment variables:

    AUTOMATED_TESTING = 1
    LANG = C
    LD_LIBRARY_PATH = /usr/local/lib:
    PATH = /export/home/cpant4/perl5/bin:/usr/local/bin:/usr/bin
    PERL5LIB = /export/home/cpant4/.cpan/build/WWW-Curl-4.15-OdVLGy/blib/arch:/export/home/cpant4/.cpan/build/WWW-Curl-4.15-OdVLGy/blib/lib
    PERL5OPT = 
    PERL5_CPANPLUS_IS_RUNNING = 29735
    PERL5_CPAN_IS_RUNNING = 29735
    PERL5_CPAN_IS_RUNNING_IN_RECURSION = 1324,29735
    PERL_CR_SMOKER_CURRENT = WWW-Curl-Simple-0.100184
    PERL_EXTUTILS_AUTOINSTALL = --defaultdeps
    PERL_MM_USE_DEFAULT = 1
    SHELL = /bin/bash
    TERM = xterm

Perl special variables (and OS-specific diagnostics, for MSWin32):

    $^X = /export/home/cpant4/perl5/bin/perl5.15.6
    $UID/$EUID = 104 / 104
    $GID = 1 1
    $EGID = 1 1

Perl module toolchain versions installed:

    Module              Have    
    ------------------- --------
    CPAN                1.9800  
    CPAN::Meta          2.113640
    Cwd                 3.38    
    ExtUtils::CBuilder  0.280205
    ExtUtils::Command   1.17    
    ExtUtils::Install   1.57    
    ExtUtils::MakeMaker 6.63_02 
    ExtUtils::Manifest  1.60    
    ExtUtils::ParseXS   3.11    
    File::Spec          3.34    
    JSON                2.53    
    JSON::PP            2.27200 
    Module::Build       0.39_01 
    Module::Signature   n/a     
    Parse::CPAN::Meta   1.4401  
    Test::Harness       3.23    
    Test::More          0.98    
    YAML                0.78    
    YAML::Syck          1.19    
    version             0.95    


--

Summary of my perl5 (revision 5 version 15 subversion 6) configuration:
   
  Platform:
    osname=solaris, osvers=2.10, archname=i86pc-solaris-64int
    uname='sunos vmrz0046 5.10 generic_141445-09 i86pc i386 i86pc solaris '
    config_args='-Dcc=gcc -Dprefix=~/perl5 -Duse64bitint -Dusedevel -d'
    hint=recommended, useposix=true, d_sigaction=define
    useithreads=undef, usemultiplicity=undef
    useperlio=define, d_sfio=undef, uselargefiles=define, usesocks=undef
    use64bitint=define, use64bitall=undef, uselongdouble=undef
    usemymalloc=n, bincompat5005=undef
  Compiler:
    cc='gcc', ccflags ='-DPTR_IS_LONG -fno-strict-aliasing -pipe -I/usr/local/include -D_LARGEFILE_SOURCE -D_FILE_OFFSET_BITS=64 -DPERL_USE_SAFE_PUTENV',
    optimize='-O',
    cppflags='-DPTR_IS_LONG -fno-strict-aliasing -pipe -I/usr/local/include'
    ccversion='', gccversion='3.4.6', gccosandvers='solaris2.10'
    intsize=4, longsize=4, ptrsize=4, doublesize=8, byteorder=12345678
    d_longlong=define, longlongsize=8, d_longdbl=define, longdblsize=12
    ivtype='long long', ivsize=8, nvtype='double', nvsize=8, Off_t='off_t', lseeksize=8
    alignbytes=4, prototype=define
  Linker and Libraries:
    ld='gcc', ldflags =' -L/usr/local/lib '
    libpth=/usr/local/lib /usr/lib /usr/ccs/lib
    libs=-lsocket -lnsl -lgdbm -ldl -lm -lc
    perllibs=-lsocket -lnsl -ldl -lm -lc
    libc=/lib/libc.so, so=so, useshrplib=false, libperl=libperl.a
    gnulibc_version=''
  Dynamic Linking:
    dlsrc=dl_dlopen.xs, dlext=so, d_dlsymun=undef, ccdlflags=' '
    cccdlflags='-fPIC', lddlflags='-G -L/usr/local/lib'


Characteristics of this binary (from libperl): 
  Compile-time options: HAS_TIMES PERLIO_LAYERS PERL_DONT_CREATE_GVSV
                        PERL_MALLOC_WRAP PERL_PRESERVE_IVUV PERL_USE_DEVEL
                        PERL_USE_SAFE_PUTENV USE_64_BIT_INT USE_LARGE_FILES
                        USE_LOCALE USE_LOCALE_COLLATE USE_LOCALE_CTYPE
                        USE_LOCALE_NUMERIC USE_PERLIO USE_PERL_ATOF
  Built under solaris
  Compiled at Jan  2 2012 15:02:15
  %ENV:
    PERL5LIB="/export/home/cpant4/.cpan/build/WWW-Curl-4.15-OdVLGy/blib/arch:/export/home/cpant4/.cpan/build/WWW-Curl-4.15-OdVLGy/blib/lib"
    PERL5OPT=""
    PERL5_CPANPLUS_IS_RUNNING="29735"
    PERL5_CPAN_IS_RUNNING="29735"
    PERL5_CPAN_IS_RUNNING_IN_RECURSION="1324,29735"
    PERL_CR_SMOKER_CURRENT="WWW-Curl-Simple-0.100184"
    PERL_EXTUTILS_AUTOINSTALL="--defaultdeps"
    PERL_MM_USE_DEFAULT="1"
  @INC:
    /export/home/cpant4/.cpan/build/WWW-Curl-4.15-OdVLGy/blib/arch
    /export/home/cpant4/.cpan/build/WWW-Curl-4.15-OdVLGy/blib/lib
    /export/home/cpant4/perl5/lib/site_perl/5.15.6/i86pc-solaris-64int
    /export/home/cpant4/perl5/lib/site_perl/5.15.6
    /export/home/cpant4/perl5/lib/5.15.6/i86pc-solaris-64int
    /export/home/cpant4/perl5/lib/5.15.6
    /export/home/cpant4/perl5/lib/site_perl
    .