Back
From: metabase:user:00e8548a-0e72-11e3-8ee3-df0a9c418065
Subject: PASS Git-FastExport-0.105 v5.16.3 GNU/Linux
Date: 2015-04-21T00:40:16Z
This distribution has been tested as part of the CPAN Testers
project, supporting the Perl programming language. See
http://wiki.cpantesters.org/ for more information or email
questions to cpan-testers-discuss@perl.org
--
Dear Philippe Bruhat (BooK),
This is a computer-generated report for Git-FastExport-0.105
on perl 5.16.3, created by CPAN-Reporter-1.2014.
Thank you for uploading your work to CPAN. Congratulations!
All tests were successful.
Sections of this report:
* Tester comments
* Program output
* Prerequisites
* Environment and other context
------------------------------
TESTER COMMENTS
------------------------------
Additional comments from tester:
this report is from an automated smoke testing program
and was not reviewed by a human for accuracy
------------------------------
PROGRAM OUTPUT
------------------------------
Output from '/usr/bin/make test':
PERL_DL_NONLAZY=1 "/usr/bin/perl" "-MExtUtils::Command::MM" "-MTest::Harness" "-e" "undef *Test::Harness::Switches; test_harness(0, 'blib/lib', 'blib/arch')" t/*.t
t/00-compile.t ................ ok
#
#
# Generated by Dist::Zilla::Plugin::ReportVersions::Tiny v1.08
# perl: 5.016003 (wanted 5.006) on linux from /usr/bin/perl
#
# Carp => 1.36 (want any version)
# Cwd => 3.47 (want any version)
# ExtUtils::MakeMaker => 7.04 (want 6.30)
# File::Basename => 2.84 (want any version)
# File::Path => 2.09 (want any version)
# File::Spec => 3.47 (want any version)
# File::Spec::Functions => 3.47 (want any version)
# File::Temp => 0.2304 (want any version)
# Getopt::Long => 2.45 (want any version)
# Git::Repository => 1.313 (want any version)
# IO::Handle => 1.33 (want any version)
# IPC::Open3 => 1.12 (want any version)
# List::Util => 1.41 (want any version)
# Pod::Coverage::TrustPod => module not found. (want any version)
# Pod::Usage => 1.67 (want any version)
# Scalar::Util => 1.41 (want any version)
# Test::CPAN::Meta => 0.24 (want any version)
# Test::Git => 1.313 (want any version)
# Test::More => 1.001014 (want 0.88)
# Test::Pod => 1.48 (want 1.41)
# Test::Pod::Coverage => 1.10 (want 1.08)
# Test::Script => 1.07 (want 1.05)
# strict => 1.07 (want any version)
# version => 0.9912 (want 0.9901)
# warnings => 1.13 (want any version)
#
# Thanks for using my code. I hope it works for you.
# If not, please try and include this output in the bug report.
# That will help me reproduce the issue and solve your problem.
#
t/000-report-versions-tiny.t .. ok
t/00load.t .................... ok
t/01new.t ..................... skipped: Default git binary not found in PATH
t/10fast-export.t ............. skipped: Default git binary not found in PATH
t/20stitch.t .................. skipped: Default git binary not found in PATH
t/30stitch-repo.t ............. skipped: Default git binary not found in PATH
t/release-distmeta.t .......... skipped: these tests are for release candidate testing
t/release-pod-coverage.t ...... skipped: these tests are for release candidate testing
t/release-pod-syntax.t ........ skipped: these tests are for release candidate testing
All tests successful.
Files=10, Tests=8, 1 wallclock secs ( 0.04 usr 0.01 sys + 0.59 cusr 0.08 csys = 0.72 CPU)
Result: PASS
------------------------------
PREREQUISITES
------------------------------
Prerequisite modules loaded:
requires:
Module Need Have
--------------------- ---- --------
Carp 0 1.36
File::Basename 0 2.84
File::Spec::Functions 0 3.47
Getopt::Long 0 2.45
Git::Repository 0 1.313
List::Util 0 1.41
Pod::Usage 0 1.67
Scalar::Util 0 1.41
strict 0 1.07
warnings 0 1.13
build_requires:
Module Need Have
--------------------- ---- --------
Cwd 0 3.47
File::Path 0 2.09
File::Spec 0 3.47
File::Temp 0 0.2304
IO::Handle 0 1.33
IPC::Open3 0 1.12
Test::Git 0 1.313
Test::More 0.88 1.001014
Test::Script 1.05 1.07
configure_requires:
Module Need Have
--------------------- ---- --------
ExtUtils::MakeMaker 6.30 7.04
------------------------------
ENVIRONMENT AND OTHER CONTEXT
------------------------------
Environment variables:
AUTOMATED_TESTING = 1
LANG = en_US.UTF-8
PATH = /usr/local/sbin:/usr/local/bin:/usr/sbin:/usr/bin:/root/bin
PERL5LIB = /root/.cpan/build/Git-Repository-1.313-g1sGzh/blib/arch:/root/.cpan/build/Git-Repository-1.313-g1sGzh/blib/lib:/root/.cpan/build/System-Command-1.111-9xSewx/blib/arch:/root/.cpan/build/System-Command-1.111-9xSewx/blib/lib:/root/.cpan/build/Test-Script-1.07-wr7jBS/blib/arch:/root/.cpan/build/Test-Script-1.07-wr7jBS/blib/lib
PERL5OPT =
PERL5_CPANPLUS_IS_RUNNING = 23985
PERL5_CPAN_IS_RUNNING = 23985
PERL5_CPAN_IS_RUNNING_IN_RECURSION = 24135,23985
PERL_CR_SMOKER_CURRENT = Git-FastExport-0.105
PERL_EXTUTILS_AUTOINSTALL = --defaultdeps
PERL_MM_USE_DEFAULT = 1
SHELL = /bin/bash
TERM = linux
Perl special variables (and OS-specific diagnostics, for MSWin32):
$^X = /usr/bin/perl
$UID/$EUID = 0 / 0
$GID = 0 0
$EGID = 0 0
Perl module toolchain versions installed:
Module Have
------------------- --------
CPAN 2.10
CPAN::Meta 2.150001
Cwd 3.47
ExtUtils::CBuilder 0.280220
ExtUtils::Command 1.20
ExtUtils::Install 2.04
ExtUtils::MakeMaker 7.04
ExtUtils::Manifest 1.70
ExtUtils::ParseXS 3.24
File::Spec 3.47
JSON 2.61
JSON::PP 2.27300
Module::Build 0.4211
Module::Signature 0.73
Parse::CPAN::Meta 1.4414
Test::Harness 3.35
Test::More 1.001014
YAML 1.14
YAML::Syck n/a
version 0.9912
--
Summary of my perl5 (revision 5 version 16 subversion 3) configuration:
Platform:
osname=linux, osvers=2.6.32-220.17.1.el6.x86_64, archname=x86_64-linux-thread-multi
uname='linux worker1.bsys.centos.org 2.6.32-220.17.1.el6.x86_64 #1 smp wed may 16 00:01:37 bst 2012 x86_64 x86_64 x86_64 gnulinux '
config_args='-des -Doptimize=-O2 -g -pipe -Wall -Wp,-D_FORTIFY_SOURCE=2 -fexceptions -fstack-protector-strong --param=ssp-buffer-size=4 -grecord-gcc-switches -m64 -mtune=generic -Dccdlflags=-Wl,--enable-new-dtags -Dlddlflags=-shared -O2 -g -pipe -Wall -Wp,-D_FORTIFY_SOURCE=2 -fexceptions -fstack-protector-strong --param=ssp-buffer-size=4 -grecord-gcc-switches -m64 -mtune=generic -Wl,-z,relro -DDEBUGGING=-g -Dversion=5.16.3 -Dmyhostname=localhost -Dperladmin=root@localhost -Dcc=gcc -Dcf_by=Red Hat, Inc. -Dprefix=/usr -Dvendorprefix=/usr -Dsiteprefix=/usr/local -Dsitelib=/usr/local/share/perl5 -Dsitearch=/usr/local/lib64/perl5 -Dprivlib=/usr/share/perl5 -Dvendorlib=/usr/share/perl5/vendor_perl -Darchlib=/usr/lib64/perl5 -Dvendorarch=/usr/lib64/perl5/vendor_perl -Darchname=x86_64-linux-thread-multi -Dlibpth=/usr/local/lib64 /lib64 /usr/lib64 -Duseshrplib -Dusethreads -Duseithreads -Dusedtrace=/usr/bin/dtrace -Duselargefiles -Dd_semctl_semun -Di_db -Ui_ndbm -Di_gdbm -Di_shadow -Di_syslog -Dman3ext=3pm -Duseperlio -Dinstallusrbinperl=n -Ubincompat5005 -Uversiononly -Dpager=/usr/bin/less -isr -Dd_gethostent_r_proto -Ud_endhostent_r_proto -Ud_sethostent_r_proto -Ud_endprotoent_r_proto -Ud_setprotoent_r_proto -Ud_endservent_r_proto -Ud_setservent_r_proto -Dscriptdir=/usr/bin -Dusesitecustomize'
hint=recommended, useposix=true, d_sigaction=define
useithreads=define, usemultiplicity=define
useperlio=define, d_sfio=undef, uselargefiles=define, usesocks=undef
use64bitint=define, use64bitall=define, uselongdouble=undef
usemymalloc=n, bincompat5005=undef
Compiler:
cc='gcc', ccflags ='-D_REENTRANT -D_GNU_SOURCE -fno-strict-aliasing -pipe -fstack-protector -I/usr/local/include -D_LARGEFILE_SOURCE -D_FILE_OFFSET_BITS=64',
optimize='-O2 -g -pipe -Wall -Wp,-D_FORTIFY_SOURCE=2 -fexceptions -fstack-protector-strong --param=ssp-buffer-size=4 -grecord-gcc-switches -m64 -mtune=generic',
cppflags='-D_REENTRANT -D_GNU_SOURCE -fno-strict-aliasing -pipe -fstack-protector -I/usr/local/include'
ccversion='', gccversion='4.8.3 20140911 (Red Hat 4.8.3-9)', gccosandvers=''
intsize=4, longsize=8, ptrsize=8, doublesize=8, byteorder=12345678
d_longlong=define, longlongsize=8, d_longdbl=define, longdblsize=16
ivtype='long', ivsize=8, nvtype='double', nvsize=8, Off_t='off_t', lseeksize=8
alignbytes=8, prototype=define
Linker and Libraries:
ld='gcc', ldflags =' -fstack-protector'
libpth=/usr/local/lib64 /lib64 /usr/lib64
libs=-lresolv -lnsl -lgdbm -ldb -ldl -lm -lcrypt -lutil -lpthread -lc -lgdbm_compat
perllibs=-lresolv -lnsl -ldl -lm -lcrypt -lutil -lpthread -lc
libc=, so=so, useshrplib=true, libperl=libperl.so
gnulibc_version='2.17'
Dynamic Linking:
dlsrc=dl_dlopen.xs, dlext=so, d_dlsymun=undef, ccdlflags='-Wl,--enable-new-dtags -Wl,-rpath,/usr/lib64/perl5/CORE'
cccdlflags='-fPIC', lddlflags='-shared -O2 -g -pipe -Wall -Wp,-D_FORTIFY_SOURCE=2 -fexceptions -fstack-protector-strong --param=ssp-buffer-size=4 -grecord-gcc-switches -m64 -mtune=generic -Wl,-z,relro '
Characteristics of this binary (from libperl):
Compile-time options: HAS_TIMES MULTIPLICITY PERLIO_LAYERS
PERL_DONT_CREATE_GVSV PERL_IMPLICIT_CONTEXT
PERL_MALLOC_WRAP PERL_PRESERVE_IVUV USE_64_BIT_ALL
USE_64_BIT_INT USE_ITHREADS USE_LARGE_FILES
USE_LOCALE USE_LOCALE_COLLATE USE_LOCALE_CTYPE
USE_LOCALE_NUMERIC USE_PERLIO USE_PERL_ATOF
USE_REENTRANT_API USE_SITECUSTOMIZE
Locally applied patches:
Fedora Patch1: Removes date check, Fedora/RHEL specific
Fedora Patch3: support for libdir64
Fedora Patch4: use libresolv instead of libbind
Fedora Patch5: USE_MM_LD_RUN_PATH
Fedora Patch6: Skip hostname tests, due to builders not being network capable
Fedora Patch7: Dont run one io test due to random builder failures
Fedora Patch9: Fix find2perl to translate ? glob properly (RT#113054)
Fedora Patch10: Fix broken atof (RT#109318)
Fedora Patch13: Clear $@ before "do" I/O error (RT#113730)
Fedora Patch14: Do not truncate syscall() return value to 32 bits (RT#113980)
Fedora Patch15: Override the Pod::Simple::parse_file (CPANRT#77530)
Fedora Patch16: Do not leak with attribute on my variable (RT#114764)
Fedora Patch17: Allow operator after numeric keyword argument (RT#105924)
Fedora Patch18: Extend stack in File::Glob::glob, (RT#114984)
Fedora Patch19: Do not crash when vivifying $|
Fedora Patch20: Fix misparsing of maketext strings (CVE-2012-6329)
Fedora Patch21: Add NAME headings to CPAN modules (CPANRT#73396)
Fedora Patch22: Fix leaking tied hashes (RT#107000) [1]
Fedora Patch23: Fix leaking tied hashes (RT#107000) [2]
Fedora Patch24: Fix leaking tied hashes (RT#107000) [3]
Fedora Patch25: Fix dead lock in PerlIO after fork from thread (RT#106212)
Fedora Patch26: Make regexp safe in a signal handler (RT#114878)
Fedora Patch27: Update h2ph(1) documentation (RT#117647)
Fedora Patch28: Update pod2html(1) documentation (RT#117623)
Fedora Patch29: Document Math::BigInt::CalcEmu requires Math::BigInt (CPAN RT#85015)
RHEL Patch30: Use stronger algorithm needed for FIPS in t/op/crypt.t (RT#121591)
RHEL Patch31: Make *DBM_File desctructors thread-safe (RT#61912)
RHEL Patch32: Use stronger algorithm needed for FIPS in t/op/taint.t (RT#123338)
Built under linux
Compiled at Mar 6 2015 05:05:52
%ENV:
PERL5LIB="/root/.cpan/build/Git-Repository-1.313-g1sGzh/blib/arch:/root/.cpan/build/Git-Repository-1.313-g1sGzh/blib/lib:/root/.cpan/build/System-Command-1.111-9xSewx/blib/arch:/root/.cpan/build/System-Command-1.111-9xSewx/blib/lib:/root/.cpan/build/Test-Script-1.07-wr7jBS/blib/arch:/root/.cpan/build/Test-Script-1.07-wr7jBS/blib/lib"
PERL5OPT=""
PERL5_CPANPLUS_IS_RUNNING="23985"
PERL5_CPAN_IS_RUNNING="23985"
PERL5_CPAN_IS_RUNNING_IN_RECURSION="24135,23985"
PERL_CR_SMOKER_CURRENT="Git-FastExport-0.105"
PERL_EXTUTILS_AUTOINSTALL="--defaultdeps"
PERL_MM_USE_DEFAULT="1"
@INC:
/root/.cpan/build/Git-Repository-1.313-g1sGzh/blib/arch
/root/.cpan/build/Git-Repository-1.313-g1sGzh/blib/lib
/root/.cpan/build/System-Command-1.111-9xSewx/blib/arch
/root/.cpan/build/System-Command-1.111-9xSewx/blib/lib
/root/.cpan/build/Test-Script-1.07-wr7jBS/blib/arch
/root/.cpan/build/Test-Script-1.07-wr7jBS/blib/lib
/usr/local/lib64/perl5
/usr/local/share/perl5
/usr/lib64/perl5/vendor_perl
/usr/share/perl5/vendor_perl
/usr/lib64/perl5
/usr/share/perl5
.