Back
From: metabase:user:314402c4-2aae-11df-837a-5e0a49663a4f
Subject: PASS MooseX-ClassAttribute-0.29 v5.14.4 FreeBSD
Date: 2016-05-29T22:45:01Z
This distribution has been tested as part of the CPAN Testers
project, supporting the Perl programming language. See
http://wiki.cpantesters.org/ for more information or email
questions to cpan-testers-discuss@perl.org
--
Dear Dave Rolsky,
This is a computer-generated report for MooseX-ClassAttribute-0.29
on perl 5.14.4, created by CPAN-Reporter-1.2015.
Thank you for uploading your work to CPAN. Congratulations!
All tests were successful.
Sections of this report:
* Tester comments
* Program output
* Prerequisites
* Environment and other context
------------------------------
TESTER COMMENTS
------------------------------
Additional comments from tester:
none provided
------------------------------
PROGRAM OUTPUT
------------------------------
Output from '/usr/bin/make test':
PERL_DL_NONLAZY=1 "/usr/perl5.14.4/bin/perl" "-MExtUtils::Command::MM" "-MTest::Harness" "-e" "undef *Test::Harness::Switches; test_harness(0, 'blib/lib', 'blib/arch')" t/*.t
#
# Versions for all modules listed in MYMETA.json (including optional ones):
#
# === Configure Requires ===
#
# Module Want Have
# ------------------- ---- ----
# ExtUtils::MakeMaker any 7.18
#
# === Build Requires ===
#
# Module Want Have
# ------------------- ---- ----
# ExtUtils::MakeMaker any 7.18
#
# === Test Requires ===
#
# Module Want Have
# ------------------- ---- --------
# ExtUtils::MakeMaker any 7.18
# File::Spec any 3.62
# Test::Fatal any 0.014
# Test::More 0.96 1.302019
# Test::Requires 0.05 0.09
# lib any 0.63
# vars any 1.02
#
# === Test Recommends ===
#
# Module Want Have
# ---------- -------- --------
# CPAN::Meta 2.120900 2.150005
#
# === Runtime Requires ===
#
# Module Want Have
# ---------------------------- ---- ------
# List::Util 1.45 1.45
# Moose 2.00 2.1802
# Moose::Exporter any 2.1802
# Moose::Meta::Role::Attribute any 2.1802
# Moose::Role any 2.1802
# Moose::Util any 2.1802
# Moose::Util::MetaRole any 2.1802
# Scalar::Util any 1.45
# namespace::autoclean 0.11 0.28
# namespace::clean 0.20 0.27
# strict any 1.04
# warnings any 1.12
#
t/00-report-prereqs.t ..................... ok
t/01-basic.t .............................. ok
t/02-immutable.t .......................... ok
t/03-introspection.t ...................... ok
t/04-with-native-traits.t ................. ok
t/05-with-attribute-helpers-backcompat.t .. ok
t/06-role.t ............................... ok
t/07-parameterized-role.t ................. skipped: This test will not pass without changes to MooseX::Role::Parmeterized
t/08-role-composition.t ................... ok
t/09-bare-native-traits.t ................. ok
t/10-strict-role-composition.t ............ skipped: Test requires module 'MooseX::Role::Strict' but it's not found
t/11-moose-exporter.t ..................... skipped: This test fails with a syntax error
t/12-with-initializer.t ................... ok
All tests successful.
Files=13, Tests=180, 21 wallclock secs ( 0.13 usr 0.11 sys + 17.55 cusr 2.44 csys = 20.23 CPU)
Result: PASS
------------------------------
PREREQUISITES
------------------------------
Prerequisite modules loaded:
requires:
Module Need Have
---------------------------- ---- --------
List::Util 1.45 1.45
Moose 2.00 2.1802
Moose::Exporter 0 2.1802
Moose::Meta::Role::Attribute 0 2.1802
Moose::Role 0 2.1802
Moose::Util 0 2.1802
Moose::Util::MetaRole 0 2.1802
namespace::autoclean 0.11 0.28
namespace::clean 0.20 0.27
Scalar::Util 0 1.45
strict 0 1.04
warnings 0 1.12
build_requires:
Module Need Have
---------------------------- ---- --------
ExtUtils::MakeMaker 0 7.18
File::Spec 0 3.62
lib 0 0.63
Test::Fatal 0 0.014
Test::More 0.96 1.302019
Test::Requires 0.05 0.09
vars 0 1.02
configure_requires:
Module Need Have
---------------------------- ---- --------
ExtUtils::MakeMaker 0 7.18
------------------------------
ENVIRONMENT AND OTHER CONTEXT
------------------------------
Environment variables:
LC_ALL = de_DE.ISO8859-1
PATH = /usr/local/bin:/usr/bin:/bin:/usr/local/sbin:/usr/sbin:/sbin:/home/cpansand/bin/freebsd9.3:/home/cpansand/bin/sh:/home/cpansand/bin:/usr/games:/home/cpansand/devel:/usr/home/eserte/src/srezic-misc/scripts
PERL5LIB = /home/eserte/.cpan/build/2016053000/Regexp-Common-2016052901-BuRZww/blib/arch:/home/eserte/.cpan/build/2016053000/Regexp-Common-2016052901-BuRZww/blib/lib:/home/eserte/.cpan/build/2016053000/Finance-Robinhood-0.07-FMwyLn/blib/arch:/home/eserte/.cpan/build/2016053000/Finance-Robinhood-0.07-FMwyLn/blib/lib:/home/eserte/.cpan/build/2016053000/fotofix-1.80-NE9yXC/blib/arch:/home/eserte/.cpan/build/2016053000/fotofix-1.80-NE9yXC/blib/lib
PERL5OPT =
PERL5_CPANPLUS_IS_RUNNING = 14150
PERL5_CPAN_IS_RUNNING = 14150
PERL5_CPAN_IS_RUNNING_IN_RECURSION = 14098,14150
PERLDOC = -MPod::Perldoc::ToTextOverstrike
PERL_BATCH = yes
PERL_CANARY_STABILITY_NOPROMPT = 1
PERL_CPAN_REPORTER_CONFIG = /var/tmp/cpansmoker-1023/2016053000/cpanreporter_000_config.ini
PERL_EXTUTILS_AUTOINSTALL = --defaultdeps
SHELL = /usr/local/bin/zsh
TERM = screen
TMPDIR = /var/tmp/cpansmoker-1023/2016053000
Perl special variables (and OS-specific diagnostics, for MSWin32):
$^X = /usr/perl5.14.4/bin/perl
$UID/$EUID = 1023 / 1023
$GID = 1023 1023
$EGID = 1023 1023
Perl module toolchain versions installed:
Module Have
------------------- --------
CPAN 2.10
CPAN::Meta 2.150005
Cwd 3.62
ExtUtils::CBuilder 0.280224
ExtUtils::Command 7.18
ExtUtils::Install 2.04
ExtUtils::MakeMaker 7.18
ExtUtils::Manifest 1.70
ExtUtils::ParseXS 3.30
File::Spec 3.62
JSON 2.90
JSON::PP 2.27300
Module::Build 0.4218
Module::Signature 0.79
Parse::CPAN::Meta 1.4414
Test::Harness 3.36
Test::More 1.302019
YAML 1.15
YAML::Syck 1.29
version 0.9916
--
Summary of my perl5 (revision 5 version 14 subversion 4) configuration:
Platform:
osname=freebsd, osvers=9.2-release-p4, archname=amd64-freebsd
uname='freebsd cvrsnica-freebsd-92 9.2-release-p4 freebsd 9.2-release-p4 #0: tue apr 8 18:08:22 utc 2014 root@amd64-builder.daemonology.net:usrobjusrsrcsysgeneric amd64 '
config_args='-ds -e -Dprefix=/usr/perl5.14.4'
hint=recommended, useposix=true, d_sigaction=define
useithreads=undef, usemultiplicity=undef
useperlio=define, d_sfio=undef, uselargefiles=define, usesocks=undef
use64bitint=define, use64bitall=define, uselongdouble=undef
usemymalloc=n, bincompat5005=undef
Compiler:
cc='cc', ccflags ='-DHAS_FPSETMASK -DHAS_FLOATINGPOINT_H -fno-strict-aliasing -pipe -fstack-protector -I/usr/local/include',
optimize='-O',
cppflags='-DHAS_FPSETMASK -DHAS_FLOATINGPOINT_H -fno-strict-aliasing -pipe -fstack-protector -I/usr/local/include'
ccversion='', gccversion='4.2.1 20070831 patched [FreeBSD]', gccosandvers=''
intsize=4, longsize=8, ptrsize=8, doublesize=8, byteorder=12345678
d_longlong=define, longlongsize=8, d_longdbl=define, longdblsize=16
ivtype='long', ivsize=8, nvtype='double', nvsize=8, Off_t='off_t', lseeksize=8
alignbytes=8, prototype=define
Linker and Libraries:
ld='cc', ldflags ='-Wl,-E -fstack-protector -L/usr/local/lib'
libpth=/usr/lib /usr/local/lib
libs=-lgdbm -lm -lcrypt -lutil -lc
perllibs=-lm -lcrypt -lutil -lc
libc=, so=so, useshrplib=false, libperl=libperl.a
gnulibc_version=''
Dynamic Linking:
dlsrc=dl_dlopen.xs, dlext=so, d_dlsymun=undef, ccdlflags=' '
cccdlflags='-DPIC -fPIC', lddlflags='-shared -L/usr/local/lib -fstack-protector'
Characteristics of this binary (from libperl):
Compile-time options: PERL_DONT_CREATE_GVSV PERL_MALLOC_WRAP
PERL_PRESERVE_IVUV USE_64_BIT_ALL USE_64_BIT_INT
USE_LARGE_FILES USE_PERLIO USE_PERL_ATOF
Built under freebsd
Compiled at May 16 2014 00:20:44
%ENV:
PERL5LIB="/home/eserte/.cpan/build/2016053000/Regexp-Common-2016052901-BuRZww/blib/arch:/home/eserte/.cpan/build/2016053000/Regexp-Common-2016052901-BuRZww/blib/lib:/home/eserte/.cpan/build/2016053000/Finance-Robinhood-0.07-FMwyLn/blib/arch:/home/eserte/.cpan/build/2016053000/Finance-Robinhood-0.07-FMwyLn/blib/lib:/home/eserte/.cpan/build/2016053000/fotofix-1.80-NE9yXC/blib/arch:/home/eserte/.cpan/build/2016053000/fotofix-1.80-NE9yXC/blib/lib"
PERL5OPT=""
PERL5_CPANPLUS_IS_RUNNING="14150"
PERL5_CPAN_IS_RUNNING="14150"
PERL5_CPAN_IS_RUNNING_IN_RECURSION="14098,14150"
PERLDOC="-MPod::Perldoc::ToTextOverstrike"
PERL_BATCH="yes"
PERL_CANARY_STABILITY_NOPROMPT="1"
PERL_CPAN_REPORTER_CONFIG="/var/tmp/cpansmoker-1023/2016053000/cpanreporter_000_config.ini"
PERL_EXTUTILS_AUTOINSTALL="--defaultdeps"
@INC:
/home/eserte/.cpan/build/2016053000/Regexp-Common-2016052901-BuRZww/blib/arch
/home/eserte/.cpan/build/2016053000/Regexp-Common-2016052901-BuRZww/blib/lib
/home/eserte/.cpan/build/2016053000/Finance-Robinhood-0.07-FMwyLn/blib/arch
/home/eserte/.cpan/build/2016053000/Finance-Robinhood-0.07-FMwyLn/blib/lib
/home/eserte/.cpan/build/2016053000/fotofix-1.80-NE9yXC/blib/arch
/home/eserte/.cpan/build/2016053000/fotofix-1.80-NE9yXC/blib/lib
/usr/perl5.14.4/lib/site_perl/5.14.4/amd64-freebsd
/usr/perl5.14.4/lib/site_perl/5.14.4
/usr/perl5.14.4/lib/5.14.4/amd64-freebsd
/usr/perl5.14.4/lib/5.14.4
.