Config-IniFiles v3.000003 Perl 5 v5.37.11 x86_64-linux
- Status
- Pass
- From
- James E Keenan
- Dist
-
Config-IniFiles v3.000003
- Platform
- Perl 5 v5.37.11 x86_64-linux
- Date
- 2023-04-09 16:10:00
- ID
- fac4aec6-d6f0-11ed-b1b8-38a908fc6917
This distribution has been tested as part of the CPAN Testers
project, supporting the Perl programming language. See
http://wiki.cpantesters.org/ for more information or email
questions to cpan-testers-discuss@perl.org
--
Dear Shlomi Fish,
This is a computer-generated report for Config-IniFiles-3.000003
on perl 5.37.11, created by CPAN-Reporter-1.2018.
Thank you for uploading your work to CPAN. Congratulations!
All tests were successful.
Sections of this report:
* Tester comments
* Program output
* Prerequisites
* Environment and other context
------------------------------
TESTER COMMENTS
------------------------------
Additional comments from tester:
none provided
------------------------------
PROGRAM OUTPUT
------------------------------
Output from '/usr/bin/make test':
PERL_DL_NONLAZY=1 "/home/jkeenan/testing/blead/bin/perl" "-MExtUtils::Command::MM" "-MTest::Harness" "-e" "undef *Test::Harness::Switches; test_harness(0, 'blib/lib', 'blib/arch')" t/*.t
t/00-compile.t ................................ ok
t/00load.t .................................... ok
t/01basic.t ................................... ok
t/02weird.t ................................... ok
t/03comments.t ................................ ok
t/04import.t .................................. ok
t/05hash.t .................................... ok
t/06oo.t ...................................... ok
t/07misc.t .................................... ok
t/08group.t ................................... ok
t/09case.t .................................... ok
t/10delta.t ................................... ok
t/11copy-ties-with-array-vals.t ............... ok
t/12open-empty-file.t ......................... ok
t/13val-in-list-context.t ..................... ok
t/14brackets-within-values.t .................. ok
t/15store-and-retrieve-here-doc-terminator.t .. ok
t/16case-sensitive-default.t .................. ok
t/17untainted-multiline-values.t .............. ok
t/18non-contiguous-groups.t ................... ok
t/19param-found-outside-section.t ............. ok
t/20allowedcommentchars.t ..................... ok
t/22trailing-comment-lines.t .................. ok
t/23scalar-ref.t .............................. ok
t/24case-sensitive-exists.t ................... ok
t/25line-endings.t ............................ ok
t/26scalar-filehandle.t ....................... ok
t/27empty-ini.t ............................... ok
t/28nomultiline.t ............................. ok
t/29end-of-line-comment.t ..................... ok
t/30parameters-with-empty-values.t ............ ok
t/31comments_with_spaces.t .................... ok
t/32mswin-outputs-contain-crs.t ............... skipped: Test is only relevant for Microsoft Windows
untie attempted while 1 inner references still exist at t/33update-using-tied-fh-w-shorter-names.t line 52.
t/33update-using-tied-fh-w-shorter-names.t .... ok
t/34trailing-comments-double-delimeter.t ...... ok
t/35reload-config-no-file.t ................... ok
t/35section-iterators.t ....................... ok
t/36php-compat.t .............................. ok
t/37here-doc-no-end-marker.t .................. ok
All tests successful.
Files=39, Tests=205, 3 wallclock secs ( 0.10 usr 0.06 sys + 2.63 cusr 0.60 csys = 3.39 CPU)
Result: PASS
------------------------------
PREREQUISITES
------------------------------
Prerequisite modules loaded:
requires:
Module Need Have
------------------- ----- --------
Carp 0 1.54
Fcntl 0 1.15
File::Basename 0 2.86
File::Temp 0 0.2311
IO::Scalar 0 2.113
List::Util 1.33 1.63
perl 5.008 5.037011
strict 0 1.12
Symbol 0 1.09
vars 0 1.05
warnings 0 1.64
build_requires:
Module Need Have
------------------- ----- --------
base 0 2.27
English 0 1.11
Exporter 0 5.77
File::Spec 0 3.88
File::Temp 0 0.2311
IO::File 0 1.51
IO::Handle 0 1.51
IPC::Open3 0 1.22
lib 0 0.65
Module::Build 0.28 0.4232
parent 0 0.241
Scalar::Util 0 1.63
Test::More 0.88 1.302194
configure_requires:
Module Need Have
------------------- ----- --------
ExtUtils::MakeMaker 0 7.70
Module::Build 0.28 0.4232
------------------------------
ENVIRONMENT AND OTHER CONTEXT
------------------------------
Environment variables:
LANG = en_US.UTF-8
NONINTERACTIVE_TESTING = 1
PATH = /home/jkeenan/perl5/perlbrew/bin:/home/jkeenan/perl5/perlbrew/perls/perl-5.36.0/bin:/usr/lib/ccache:/usr/local/bin:/usr/bin:/bin:/usr/local/games:/usr/games:/home/jkeenan/bin:/home/jkeenan/bin/perl:/home/jkeenan/bin/shell
PERL5LIB = /home/jkeenan/.cpan/build/IO-Stringy-2.113-1/blib/arch:/home/jkeenan/.cpan/build/IO-Stringy-2.113-1/blib/lib:/home/jkeenan/.cpan/build/Cache-Cache-1.08-1/blib/arch:/home/jkeenan/.cpan/build/Cache-Cache-1.08-1/blib/lib:/home/jkeenan/.cpan/build/Error-0.17029-1/blib/arch:/home/jkeenan/.cpan/build/Error-0.17029-1/blib/lib:/home/jkeenan/.cpan/build/Module-Build-0.4232-5/blib/arch:/home/jkeenan/.cpan/build/Module-Build-0.4232-5/blib/lib:/home/jkeenan/.cpan/build/Digest-SHA1-2.13-1/blib/arch:/home/jkeenan/.cpan/build/Digest-SHA1-2.13-1/blib/lib:/home/jkeenan/.cpan/build/Apache-Session-1.94-0/blib/arch:/home/jkeenan/.cpan/build/Apache-Session-1.94-0/blib/lib:/home/jkeenan/.cpan/build/Test-Exception-0.43-2/blib/arch:/home/jkeenan/.cpan/build/Test-Exception-0.43-2/blib/lib:/home/jkeenan/.cpan/build/Sub-Uplevel-0.2800-2/blib/arch:/home/jkeenan/.cpan/build/Sub-Uplevel-0.2800-2/blib/lib
PERL5OPT =
PERL5_CPANPLUS_IS_RUNNING = 3848988
PERL5_CPAN_IS_RUNNING = 3848988
PERLBREW_HOME = /home/jkeenan/.perlbrew
PERLBREW_MANPATH = /home/jkeenan/perl5/perlbrew/perls/perl-5.36.0/man
PERLBREW_PATH = /home/jkeenan/perl5/perlbrew/bin:/home/jkeenan/perl5/perlbrew/perls/perl-5.36.0/bin
PERLBREW_PERL = perl-5.36.0
PERLBREW_ROOT = /home/jkeenan/perl5/perlbrew
PERLBREW_SHELLRC_VERSION = 0.91
PERLBREW_VERSION = 0.91
PERL_MM_USE_DEFAULT = 1
PERL_USE_UNSAFE_INC = 1
PERL_WORKDIR = /home/jkeenan/gitwork/perl
SHELL = /bin/bash
TERM = xterm-256color
Perl special variables (and OS-specific diagnostics, for MSWin32):
$^X = /home/jkeenan/testing/blead/bin/perl
$UID/$EUID = 1000 / 1000
$GID = 1000 27 1000
$EGID = 1000 27 1000
Perl module toolchain versions installed:
Module Have
------------------- --------
CPAN 2.34
CPAN::Meta 2.150010
Cwd 3.89
ExtUtils::CBuilder 0.280238
ExtUtils::Command 7.70
ExtUtils::Install 2.22
ExtUtils::MakeMaker 7.70
ExtUtils::Manifest 1.73
ExtUtils::ParseXS 3.50
File::Spec 3.88
JSON n/a
JSON::PP 4.16
Module::Build 0.4232
Module::Signature n/a
Parse::CPAN::Meta 2.150010
Test::Harness 3.44
Test::More 1.302194
YAML n/a
YAML::Syck n/a
version 0.9929
--
Summary of my perl5 (revision 5 version 37 subversion 11) configuration:
Commit id: 67d37c55ddffebbcbf4847408106334b9ad9a6bc
Platform:
osname=linux
osvers=5.10.0-18-amd64
archname=x86_64-linux
uname='linux bullseye 5.10.0-18-amd64 #1 smp debian 5.10.140-1 (2022-09-02) x86_64 gnulinux '
config_args='-des -Dusedevel -Uversiononly -Dprefix=/home/jkeenan/testing/blead -Dman1dir=none -Dman3dir=none'
hint=recommended
useposix=true
d_sigaction=define
useithreads=undef
usemultiplicity=undef
use64bitint=define
use64bitall=define
uselongdouble=undef
usemymalloc=n
default_inc_excludes_dot=define
Compiler:
cc='cc'
ccflags ='-fwrapv -fno-strict-aliasing -pipe -fstack-protector-strong -I/usr/local/include -D_LARGEFILE_SOURCE -D_FILE_OFFSET_BITS=64 -D_FORTIFY_SOURCE=2'
optimize='-O2'
cppflags='-fwrapv -fno-strict-aliasing -pipe -fstack-protector-strong -I/usr/local/include'
ccversion=''
gccversion='10.2.1 20210110'
gccosandvers=''
intsize=4
longsize=8
ptrsize=8
doublesize=8
byteorder=12345678
doublekind=3
d_longlong=define
longlongsize=8
d_longdbl=define
longdblsize=16
longdblkind=3
ivtype='long'
ivsize=8
nvtype='double'
nvsize=8
Off_t='off_t'
lseeksize=8
alignbytes=8
prototype=define
Linker and Libraries:
ld='cc'
ldflags =' -fstack-protector-strong -L/usr/local/lib'
libpth=/usr/local/lib /usr/lib/x86_64-linux-gnu /usr/lib /usr/lib64
libs=-lpthread -ldl -lm -lcrypt -lutil -lc
perllibs=-lpthread -ldl -lm -lcrypt -lutil -lc
libc=libc-2.31.so
so=so
useshrplib=false
libperl=libperl.a
gnulibc_version='2.31'
Dynamic Linking:
dlsrc=dl_dlopen.xs
dlext=so
d_dlsymun=undef
ccdlflags='-Wl,-E'
cccdlflags='-fPIC'
lddlflags='-shared -O2 -L/usr/local/lib -fstack-protector-strong'
Characteristics of this binary (from libperl):
Compile-time options:
HAS_LONG_DOUBLE
HAS_STRTOLD
HAS_TIMES
PERLIO_LAYERS
PERL_COPY_ON_WRITE
PERL_DONT_CREATE_GVSV
PERL_HASH_FUNC_SIPHASH13
PERL_HASH_USE_SBOX32
PERL_MALLOC_WRAP
PERL_OP_PARENT
PERL_PRESERVE_IVUV
PERL_USE_DEVEL
PERL_USE_SAFE_PUTENV
USE_64_BIT_ALL
USE_64_BIT_INT
USE_LARGE_FILES
USE_LOCALE
USE_LOCALE_COLLATE
USE_LOCALE_CTYPE
USE_LOCALE_NUMERIC
USE_LOCALE_TIME
USE_PERLIO
USE_PERL_ATOF
Built under linux
Compiled at Apr 8 2023 00:56:03
%ENV:
PERL5LIB="/home/jkeenan/.cpan/build/IO-Stringy-2.113-1/blib/arch:/home/jkeenan/.cpan/build/IO-Stringy-2.113-1/blib/lib:/home/jkeenan/.cpan/build/Cache-Cache-1.08-1/blib/arch:/home/jkeenan/.cpan/build/Cache-Cache-1.08-1/blib/lib:/home/jkeenan/.cpan/build/Error-0.17029-1/blib/arch:/home/jkeenan/.cpan/build/Error-0.17029-1/blib/lib:/home/jkeenan/.cpan/build/Module-Build-0.4232-5/blib/arch:/home/jkeenan/.cpan/build/Module-Build-0.4232-5/blib/lib:/home/jkeenan/.cpan/build/Digest-SHA1-2.13-1/blib/arch:/home/jkeenan/.cpan/build/Digest-SHA1-2.13-1/blib/lib:/home/jkeenan/.cpan/build/Apache-Session-1.94-0/blib/arch:/home/jkeenan/.cpan/build/Apache-Session-1.94-0/blib/lib:/home/jkeenan/.cpan/build/Test-Exception-0.43-2/blib/arch:/home/jkeenan/.cpan/build/Test-Exception-0.43-2/blib/lib:/home/jkeenan/.cpan/build/Sub-Uplevel-0.2800-2/blib/arch:/home/jkeenan/.cpan/build/Sub-Uplevel-0.2800-2/blib/lib"
PERL5OPT=""
PERL5_CPANPLUS_IS_RUNNING="3848988"
PERL5_CPAN_IS_RUNNING="3848988"
PERLBREW_HOME="/home/jkeenan/.perlbrew"
PERLBREW_MANPATH="/home/jkeenan/perl5/perlbrew/perls/perl-5.36.0/man"
PERLBREW_PATH="/home/jkeenan/perl5/perlbrew/bin:/home/jkeenan/perl5/perlbrew/perls/perl-5.36.0/bin"
PERLBREW_PERL="perl-5.36.0"
PERLBREW_ROOT="/home/jkeenan/perl5/perlbrew"
PERLBREW_SHELLRC_VERSION="0.91"
PERLBREW_VERSION="0.91"
PERL_MM_USE_DEFAULT="1"
PERL_USE_UNSAFE_INC="1"
PERL_WORKDIR="/home/jkeenan/gitwork/perl"
@INC:
/home/jkeenan/.cpan/build/IO-Stringy-2.113-1/blib/arch
/home/jkeenan/.cpan/build/IO-Stringy-2.113-1/blib/lib
/home/jkeenan/.cpan/build/Cache-Cache-1.08-1/blib/arch
/home/jkeenan/.cpan/build/Cache-Cache-1.08-1/blib/lib
/home/jkeenan/.cpan/build/Error-0.17029-1/blib/arch
/home/jkeenan/.cpan/build/Error-0.17029-1/blib/lib
/home/jkeenan/.cpan/build/Module-Build-0.4232-5/blib/arch
/home/jkeenan/.cpan/build/Module-Build-0.4232-5/blib/lib
/home/jkeenan/.cpan/build/Digest-SHA1-2.13-1/blib/arch
/home/jkeenan/.cpan/build/Digest-SHA1-2.13-1/blib/lib
/home/jkeenan/.cpan/build/Apache-Session-1.94-0/blib/arch
/home/jkeenan/.cpan/build/Apache-Session-1.94-0/blib/lib
/home/jkeenan/.cpan/build/Test-Exception-0.43-2/blib/arch
/home/jkeenan/.cpan/build/Test-Exception-0.43-2/blib/lib
/home/jkeenan/.cpan/build/Sub-Uplevel-0.2800-2/blib/arch
/home/jkeenan/.cpan/build/Sub-Uplevel-0.2800-2/blib/lib
/home/jkeenan/testing/blead/lib/perl5/site_perl/5.37.11/x86_64-linux
/home/jkeenan/testing/blead/lib/perl5/site_perl/5.37.11
/home/jkeenan/testing/blead/lib/perl5/5.37.11/x86_64-linux
/home/jkeenan/testing/blead/lib/perl5/5.37.11
.