Net-Statsd-Server v0.20 Perl 5 v5.37.8 x86_64-linux-ld
- Status
- Pass
- From
- Andreas J. König (ANDK)
- Dist
-
Net-Statsd-Server v0.20
- Platform
- Perl 5 v5.37.8 x86_64-linux-ld
- Date
- 2023-02-17 00:49:48
- ID
- fada3870-ae5c-11ed-b51b-449b7f69361c
This distribution has been tested as part of the CPAN Testers
project, supporting the Perl programming language. See
http://wiki.cpantesters.org/ for more information or email
questions to cpan-testers-discuss@perl.org
--
Dear Cosimo Streppone,
This is a computer-generated report for Net-Statsd-Server-0.20
on perl 5.37.8, created by CPAN-Reporter-1.2018.
Thank you for uploading your work to CPAN. Congratulations!
All tests were successful.
Sections of this report:
* Tester comments
* Program output
* Prerequisites
* Environment and other context
------------------------------
TESTER COMMENTS
------------------------------
Additional comments from tester:
this report is from an automated smoke testing program
and was not reviewed by a human for accuracy
------------------------------
PROGRAM OUTPUT
------------------------------
Output from '/usr/bin/make test':
PERL_DL_NONLAZY=1 "/tmp/basesmoker-reloperl-tuzn/bin/perl" "-MExtUtils::Command::MM" "-MTest::Harness" "-e" "undef *Test::Harness::Switches; test_harness(0, 'blib/lib', 'blib/arch')" t/*.t t/integration-tests/*.t
t/000-sanity.t ............................. ok
t/config.t ................................. ok
t/graphite.t ............................... ok
2023-02-17 00:46:57.000000 +0000 note Net::Statsd::Server: Initializing Net::Statsd::Server::Backend::Console backend
2023-02-17 00:46:57.000000 +0000 note Net::Statsd::Server: Initializing Net::Statsd::Server::Backend::Graphite backend
2023-02-17 00:46:57.000000 +0000 info AnyEvent: Autoloaded model 'AnyEvent::Impl::EV', using it.
2023-02-17 00:46:57.452545 +0000 note Net::Statsd::Server: statsd server started on 0.0.0.0:40001 (v0.17)
2023-02-17 00:46:57.453680 +0000 note Net::Statsd::Server: manager interface started on 0.0.0.0:40002
2023-02-17 00:46:57.455041 +0000 note Net::Statsd::Server: metrics flush will happen every 1s
2023-02-17 00:46:57.870856 +0000 warn Net::Statsd::Server: Bad line: 1 in msg "a_bad_test_value|z"
2023-02-17 00:46:58.453974 +0000 note Net::Statsd::Server: flushing metrics
Flushing stats at Fri Feb 17 00:46:58 2023
{"gauges":{},"timers":{},"counter_rates":{"statsd.bad_lines_seen":1,"statsd.packets_received":1},"pctThreshold":[90],"counters":{"statsd.packets_received":1,"statsd.bad_lines_seen":1},"timer_data":{},"sets":null}
t/integration-tests/bad-message.t .......... ok
2023-02-17 00:46:58.000000 +0000 note Net::Statsd::Server: Initializing Net::Statsd::Server::Backend::Console backend
2023-02-17 00:46:58.000000 +0000 note Net::Statsd::Server: Initializing Net::Statsd::Server::Backend::Graphite backend
2023-02-17 00:46:58.000000 +0000 info AnyEvent: Autoloaded model 'AnyEvent::Impl::EV', using it.
2023-02-17 00:46:58.682857 +0000 note Net::Statsd::Server: statsd server started on 0.0.0.0:40001 (v0.17)
2023-02-17 00:46:58.683883 +0000 note Net::Statsd::Server: manager interface started on 0.0.0.0:40002
2023-02-17 00:46:58.684957 +0000 note Net::Statsd::Server: metrics flush will happen every 1s
2023-02-17 00:46:59.683906 +0000 note Net::Statsd::Server: flushing metrics
Flushing stats at Fri Feb 17 00:46:59 2023
{"gauges":{},"timer_data":{},"counter_rates":{"statsd.bad_lines_seen":0,"statsd.packets_received":1,"a_test_value":100},"counters":{"a_test_value":100,"statsd.packets_received":1,"statsd.bad_lines_seen":0},"timers":{},"pctThreshold":[90],"sets":null}
# stats.counters.a_test_value.rate 100.000000 1676594819
# stats.counters.a_test_value.count 100 1676594819
# stats.counters.statsd.packets_received.rate 1.000000 1676594819
# stats.counters.statsd.packets_received.count 1 1676594819
# stats.counters.statsd.bad_lines_seen.rate 0.000000 1676594819
# stats.counters.statsd.bad_lines_seen.count 0 1676594819
# stats.statsd.numStats 3 1676594819
# stats.statsd.graphiteStats.calculationtime 0.036000 1676594819
# stats.statsd.processing_time 0.016 1676594819
# stats.statsd.graphiteStats.last_exception 94806190971912 1676594819
# stats.statsd.graphiteStats.last_flush 94806190971912 1676594819
t/integration-tests/counts-are-valid.t ..... ok
2023-02-17 00:46:59.000000 +0000 note Net::Statsd::Server: Initializing Net::Statsd::Server::Backend::Graphite backend
2023-02-17 00:46:59.000000 +0000 info AnyEvent: Autoloaded model 'AnyEvent::Impl::EV', using it.
2023-02-17 00:46:59.908709 +0000 note Net::Statsd::Server: statsd server started on 0.0.0.0:40001 (v0.17)
2023-02-17 00:46:59.908740 +0000 note Net::Statsd::Server: manager interface started on 0.0.0.0:40002
2023-02-17 00:46:59.908768 +0000 note Net::Statsd::Server: metrics flush will happen every 1s
2023-02-17 00:47:00.909478 +0000 note Net::Statsd::Server: flushing metrics
# First flush. Test gauge should be there.
2023-02-17 00:47:01.909725 +0000 note Net::Statsd::Server: flushing metrics
# Second flush. deleteGauges=false should keep the test gauge.
t/integration-tests/delete-gauges-false.t .. ok
2023-02-17 00:47:02.000000 +0000 note Net::Statsd::Server: Initializing Net::Statsd::Server::Backend::Graphite backend
2023-02-17 00:47:02.000000 +0000 info AnyEvent: Autoloaded model 'AnyEvent::Impl::EV', using it.
2023-02-17 00:47:02.124474 +0000 note Net::Statsd::Server: statsd server started on 0.0.0.0:40001 (v0.17)
2023-02-17 00:47:02.124511 +0000 note Net::Statsd::Server: manager interface started on 0.0.0.0:40002
2023-02-17 00:47:02.124542 +0000 note Net::Statsd::Server: metrics flush will happen every 1s
2023-02-17 00:47:03.126466 +0000 note Net::Statsd::Server: flushing metrics
# First flush. Test gauge should be there.
2023-02-17 00:47:04.125641 +0000 note Net::Statsd::Server: flushing metrics
# Second flush. deleteIdleStats should have cleared the test gauge.
t/integration-tests/delete-idle-stats.t .... ok
2023-02-17 00:47:04.000000 +0000 note Net::Statsd::Server: Initializing Net::Statsd::Server::Backend::Console backend
2023-02-17 00:47:04.000000 +0000 note Net::Statsd::Server: Initializing Net::Statsd::Server::Backend::Graphite backend
2023-02-17 00:47:04.000000 +0000 info AnyEvent: Autoloaded model 'AnyEvent::Impl::EV', using it.
2023-02-17 00:47:04.334229 +0000 note Net::Statsd::Server: statsd server started on 0.0.0.0:40001 (v0.17)
2023-02-17 00:47:04.335334 +0000 note Net::Statsd::Server: manager interface started on 0.0.0.0:40002
2023-02-17 00:47:04.336370 +0000 note Net::Statsd::Server: metrics flush will happen every 1s
2023-02-17 00:47:05.335649 +0000 note Net::Statsd::Server: flushing metrics
Flushing stats at Fri Feb 17 00:47:05 2023
{"sets":null,"counter_rates":{"statsd.bad_lines_seen":0,"statsd.packets_received":1,"a_test_value,category=web,severity=high":100},"timers":{},"gauges":{},"timer_data":{},"pctThreshold":[90],"counters":{"statsd.packets_received":1,"statsd.bad_lines_seen":0,"a_test_value,category=web,severity=high":100}}
# stats.counters.statsd.packets_received.rate 1.000000 1676594825
# stats.counters.statsd.packets_received.count 1 1676594825
# stats.counters.statsd.bad_lines_seen.rate 0.000000 1676594825
# stats.counters.statsd.bad_lines_seen.count 0 1676594825
# stats.counters.a_test_value,category=web,severity=high.rate 100.000000 1676594825
# stats.counters.a_test_value,category=web,severity=high.count 100 1676594825
# stats.statsd.numStats 3 1676594825
# stats.statsd.graphiteStats.calculationtime 0.035000 1676594825
# stats.statsd.processing_time 0.017 1676594825
# stats.statsd.graphiteStats.last_exception 93828502043656 1676594825
# stats.statsd.graphiteStats.last_flush 93828502043656 1676594825
t/integration-tests/keys-with-tags.t ....... ok
2023-02-17 00:47:05.000000 +0000 note Net::Statsd::Server: Initializing Net::Statsd::Server::Backend::Graphite backend
2023-02-17 00:47:05.000000 +0000 info AnyEvent: Autoloaded model 'AnyEvent::Impl::EV', using it.
2023-02-17 00:47:05.520783 +0000 note Net::Statsd::Server: statsd server started on 0.0.0.0:40001 (v0.17)
2023-02-17 00:47:05.520828 +0000 note Net::Statsd::Server: manager interface started on 0.0.0.0:40002
2023-02-17 00:47:05.520859 +0000 note Net::Statsd::Server: metrics flush will happen every 1s
# Expected mean value is 1962.92
2023-02-17 00:47:06.523478 +0000 note Net::Statsd::Server: flushing metrics
# stats.counters.statsd.packets_received.rate 100.000000 1676594826
# stats.counters.statsd.packets_received.count 100 1676594826
# stats.counters.statsd.bad_lines_seen.rate 0.000000 1676594826
# stats.counters.statsd.bad_lines_seen.count 0 1676594826
# stats.timers.read_latency.lower 1009.000000 1676594826
# stats.timers.read_latency.count 100.000000 1676594826
# stats.timers.read_latency.count_95 95.000000 1676594826
# stats.timers.read_latency.sum_squares_99 410800376.000000 1676594826
# stats.timers.read_latency.sum_95 181629.000000 1676594826
# stats.timers.read_latency.upper_98 2933.000000 1676594826
# stats.timers.read_latency.sum_99 193330.000000 1676594826
# stats.timers.read_latency.mean_99 1952.828283 1676594826
# stats.timers.read_latency.mean_95 1911.884211 1676594826
# stats.timers.read_latency.std 585.391556 1676594826
# stats.timers.read_latency.count_99 99.000000 1676594826
# stats.timers.read_latency.sum_squares_95 376571321.000000 1676594826
# stats.timers.read_latency.mean_98 1942.724490 1676594826
# stats.timers.read_latency.median 1929.000000 1676594826
# stats.timers.read_latency.sum_98 190387.000000 1676594826
# stats.timers.read_latency.count_ps 100.000000 1676594826
# stats.timers.read_latency.sum 196292.000000 1676594826
# stats.timers.read_latency.upper_99 2943.000000 1676594826
# stats.timers.read_latency.sum_squares_98 402139127.000000 1676594826
# stats.timers.read_latency.upper 2962.000000 1676594826
# stats.timers.read_latency.mean 1962.920000 1676594826
# stats.timers.read_latency.sum_squares 419573820.000000 1676594826
# stats.timers.read_latency.count_98 98.000000 1676594826
# stats.timers.read_latency.upper_95 2899.000000 1676594826
# stats.statsd.numStats 3 1676594826
# stats.statsd.graphiteStats.calculationtime 0.077000 1676594826
# stats.statsd.processing_time 0.2 1676594826
# stats.statsd.graphiteStats.last_exception 94110266207240 1676594826
# stats.statsd.graphiteStats.last_flush 94110266207240 1676594826
t/integration-tests/percent-threshold.t .... ok
2023-02-17 00:47:06.000000 +0000 note Net::Statsd::Server: Initializing Net::Statsd::Server::Backend::Console backend
2023-02-17 00:47:06.000000 +0000 note Net::Statsd::Server: Initializing Net::Statsd::Server::Backend::Graphite backend
2023-02-17 00:47:06.000000 +0000 info AnyEvent: Autoloaded model 'AnyEvent::Impl::EV', using it.
2023-02-17 00:47:06.733372 +0000 note Net::Statsd::Server: statsd server started on 0.0.0.0:40001 (v0.17)
2023-02-17 00:47:06.733417 +0000 note Net::Statsd::Server: manager interface started on 0.0.0.0:40002
2023-02-17 00:47:06.733448 +0000 note Net::Statsd::Server: metrics flush will happen every 1s
2023-02-17 00:47:07.735627 +0000 note Net::Statsd::Server: flushing metrics
Flushing stats at Fri Feb 17 00:47:07 2023
{"counter_rates":{"statsd.bad_lines_seen":0,"statsd.packets_received":1},"timer_data":{"a_test_value":{"sum_squares_90":10000,"sum_squares":10000,"sum":"100","median":"100","count_90":1,"upper_90":"100","count_ps":1,"mean":100,"mean_90":"100","upper":"100","std":0,"count":1,"sum_90":"100","lower":"100"}},"timers":{"a_test_value":["100"]},"counters":{"statsd.bad_lines_seen":0,"statsd.packets_received":1},"gauges":{},"sets":null,"pctThreshold":["90"]}
# stats.counters.statsd.bad_lines_seen.rate 0.000000 1676594827
# stats.counters.statsd.bad_lines_seen.count 0 1676594827
# stats.counters.statsd.packets_received.rate 1.000000 1676594827
# stats.counters.statsd.packets_received.count 1 1676594827
# stats.timers.a_test_value.sum_squares_90 10000.000000 1676594827
# stats.timers.a_test_value.sum_squares 10000.000000 1676594827
# stats.timers.a_test_value.sum 100.000000 1676594827
# stats.timers.a_test_value.median 100.000000 1676594827
# stats.timers.a_test_value.count_90 1.000000 1676594827
# stats.timers.a_test_value.upper_90 100.000000 1676594827
# stats.timers.a_test_value.count_ps 1.000000 1676594827
# stats.timers.a_test_value.mean 100.000000 1676594827
# stats.timers.a_test_value.mean_90 100.000000 1676594827
# stats.timers.a_test_value.upper 100.000000 1676594827
# stats.timers.a_test_value.std 0.000000 1676594827
# stats.timers.a_test_value.count 1.000000 1676594827
# stats.timers.a_test_value.sum_90 100.000000 1676594827
# stats.timers.a_test_value.lower 100.000000 1676594827
# stats.statsd.numStats 3 1676594827
# stats.statsd.graphiteStats.calculationtime 0.077000 1676594827
# stats.statsd.processing_time 0.046 1676594827
# stats.statsd.graphiteStats.last_exception 94030147066888 1676594827
# stats.statsd.graphiteStats.last_flush 94030147066888 1676594827
t/integration-tests/timers-are-valid.t ..... ok
t/process-metrics.t ........................ ok
t/trim.t ................................... ok
All tests successful.
Files=12, Tests=92, 11 wallclock secs ( 0.07 usr 0.06 sys + 1.14 cusr 0.30 csys = 1.57 CPU)
Result: PASS
------------------------------
PREREQUISITES
------------------------------
Prerequisite modules loaded:
requires:
Module Need Have
--------------------- ---- --------
AnyEvent::Handle::UDP 0 0.050
IO::Socket::INET 0 1.51
JSON::XS 0 4.03
build_requires:
Module Need Have
--------------------- ---- --------
ExtUtils::MakeMaker 0 7.66
Test::More 0 1.302192
configure_requires:
Module Need Have
--------------------- ---- --------
ExtUtils::MakeMaker 0 7.66
------------------------------
ENVIRONMENT AND OTHER CONTEXT
------------------------------
Environment variables:
AUTOMATED_TESTING = 1
LANG = en_US.UTF-8
LC_ADDRESS = de_DE.UTF-8
LC_IDENTIFICATION = de_DE.UTF-8
LC_MEASUREMENT = de_DE.UTF-8
LC_MONETARY = de_DE.UTF-8
LC_NAME = de_DE.UTF-8
LC_NUMERIC = de_DE.UTF-8
LC_PAPER = de_DE.UTF-8
LC_TELEPHONE = de_DE.UTF-8
LC_TIME = de_DE.UTF-8
PATH = /home/sand/bin:/usr/local/bin:/usr/local/sbin:/usr/sbin:/usr/bin:/sbin:/bin:/usr/games:/usr/local/games:/snap/bin:/usr/local/perl/bin:/usr/X11/bin
PERL = /tmp/basesmoker-reloperl-tuzn/bin/perl
PERL5LIB = /tmp/loop_over_bdir-4917-eQb8YO/Net-OpenVPN-DDNS-0.1-0/blib/arch:/tmp/loop_over_bdir-4917-eQb8YO/Net-OpenVPN-DDNS-0.1-0/blib/lib:/tmp/loop_over_bdir-4917-eQb8YO/makepp-1.19-0/blib/arch:/tmp/loop_over_bdir-4917-eQb8YO/makepp-1.19-0/blib/lib:/tmp/loop_over_bdir-4917-eQb8YO/Dpkg-1.21.19-0/blib/arch:/tmp/loop_over_bdir-4917-eQb8YO/Dpkg-1.21.19-0/blib/lib:/tmp/loop_over_bdir-4917-eQb8YO/DBIx-Migration-Directories-0.12-0/blib/arch:/tmp/loop_over_bdir-4917-eQb8YO/DBIx-Migration-Directories-0.12-0/blib/lib:/tmp/loop_over_bdir-4917-eQb8YO/perl-Hardware-UPS-Perl-0.43-0/blib/arch:/tmp/loop_over_bdir-4917-eQb8YO/perl-Hardware-UPS-Perl-0.43-0/blib/lib:/tmp/loop_over_bdir-4917-eQb8YO/Devel-Required-0.16-0/blib/arch:/tmp/loop_over_bdir-4917-eQb8YO/Devel-Required-0.16-0/blib/lib:/tmp/loop_over_bdir-4917-eQb8YO/RackMan-1.19-0/blib/arch:/tmp/loop_over_bdir-4917-eQb8YO/RackMan-1.19-0/blib/lib:/tmp/loop_over_bdir-4917-eQb8YO/dta-tokwrap-0.98-0/blib/arch:/tmp/loop_over_bdir-4917-eQb8YO/dta-tokwrap-0.98-0/blib/lib:/tmp/loop_over_bdir-4917-eQb8YO/CGI-Application-NetNewsIface-0.0204-0/blib/arch:/tmp/loop_over_bdir-4917-eQb8YO/CGI-Application-NetNewsIface-0.0204-0/blib/lib
PERL5OPT =
PERL5_CPANPLUS_IS_RUNNING = 4990
PERL5_CPAN_IS_RUNNING = 4990
PERL_CANARY_STABILITY_NOPROMPT = 1
PERL_MM_USE_DEFAULT = 1
PERL_USE_UNSAFE_INC = 1
SHELL = /usr/bin/zsh
TERM = screen
Perl special variables (and OS-specific diagnostics, for MSWin32):
$^X = /tmp/basesmoker-reloperl-tuzn/bin/perl
$UID/$EUID = 1005 / 1005
$GID = 1005 1005
$EGID = 1005 1005
Perl module toolchain versions installed:
Module Have
------------------- --------
CPAN 2.34
CPAN::Meta 2.150010
Cwd 3.88
ExtUtils::CBuilder 0.280238
ExtUtils::Command 7.66
ExtUtils::Install 2.22
ExtUtils::MakeMaker 7.66
ExtUtils::Manifest 1.73
ExtUtils::ParseXS 3.49
File::Spec 3.88
JSON 4.10
JSON::PP 4.16
Module::Build 0.4232
Module::Signature 0.88
Parse::CPAN::Meta 2.150010
Test::Harness 3.44
Test::More 1.302192
YAML 1.30
YAML::Syck 1.34
version 0.9929
--
Summary of my perl5 (revision 5 version 37 subversion 8) configuration:
Commit id: aaff26e0f2e98dc425f7514531d35dfec6948f6d
Platform:
osname=linux
osvers=5.15.0-58-generic
archname=x86_64-linux-ld
uname='linux k93jammy 5.15.0-58-generic #64-ubuntu smp thu jan 5 11:43:13 utc 2023 x86_64 x86_64 x86_64 gnulinux '
config_args='-Dprefix=/home/sand/src/perl/repoperls/installed-perls/host/k93jammy/v5.37.8/5674 -Dmyhostname=k93jammy -Dinstallusrbinperl=n -Uversiononly -Dusedevel -des -Ui_db -Dlibswanted=cl pthread socket inet nsl gdbm dbm malloc dl ld sun m crypt sec util c cposix posix ucb BSD gdbm_compat -Uuseithreads -Duselongdouble -DEBUGGING=-g'
hint=recommended
useposix=true
d_sigaction=define
useithreads=undef
usemultiplicity=undef
use64bitint=define
use64bitall=define
uselongdouble=define
usemymalloc=n
default_inc_excludes_dot=define
Compiler:
cc='cc'
ccflags ='-fwrapv -fno-strict-aliasing -pipe -fstack-protector-strong -I/usr/local/include -D_LARGEFILE_SOURCE -D_FILE_OFFSET_BITS=64'
optimize='-O2 -g'
cppflags='-fwrapv -fno-strict-aliasing -pipe -fstack-protector-strong -I/usr/local/include'
ccversion=''
gccversion='11.3.0'
gccosandvers=''
intsize=4
longsize=8
ptrsize=8
doublesize=8
byteorder=12345678
doublekind=3
d_longlong=define
longlongsize=8
d_longdbl=define
longdblsize=16
longdblkind=3
ivtype='long'
ivsize=8
nvtype='long double'
nvsize=16
Off_t='off_t'
lseeksize=8
alignbytes=16
prototype=define
Linker and Libraries:
ld='cc'
ldflags =' -fstack-protector-strong -L/usr/local/lib'
libpth=/usr/local/lib /usr/lib/x86_64-linux-gnu /usr/lib /usr/lib64
libs=-lpthread -lnsl -ldl -lm -lcrypt -lutil -lc
perllibs=-lpthread -lnsl -ldl -lm -lcrypt -lutil -lc
libc=/lib/x86_64-linux-gnu/libc.so.6
so=so
useshrplib=false
libperl=libperl.a
gnulibc_version='2.35'
Dynamic Linking:
dlsrc=dl_dlopen.xs
dlext=so
d_dlsymun=undef
ccdlflags='-Wl,-E'
cccdlflags='-fPIC'
lddlflags='-shared -O2 -g -L/usr/local/lib -fstack-protector-strong'
Characteristics of this binary (from libperl):
Compile-time options:
HAS_TIMES
PERLIO_LAYERS
PERL_COPY_ON_WRITE
PERL_DONT_CREATE_GVSV
PERL_HASH_FUNC_SIPHASH13
PERL_HASH_USE_SBOX32
PERL_MALLOC_WRAP
PERL_OP_PARENT
PERL_PRESERVE_IVUV
PERL_USE_DEVEL
PERL_USE_SAFE_PUTENV
USE_64_BIT_ALL
USE_64_BIT_INT
USE_LARGE_FILES
USE_LOCALE
USE_LOCALE_COLLATE
USE_LOCALE_CTYPE
USE_LOCALE_NUMERIC
USE_LOCALE_TIME
USE_LONG_DOUBLE
USE_PERLIO
USE_PERL_ATOF
Built under linux
Compiled at Feb 13 2023 12:16:14
%ENV:
PERL="/tmp/basesmoker-reloperl-tuzn/bin/perl"
PERL5LIB="/tmp/loop_over_bdir-4917-eQb8YO/Net-OpenVPN-DDNS-0.1-0/blib/arch:/tmp/loop_over_bdir-4917-eQb8YO/Net-OpenVPN-DDNS-0.1-0/blib/lib:/tmp/loop_over_bdir-4917-eQb8YO/makepp-1.19-0/blib/arch:/tmp/loop_over_bdir-4917-eQb8YO/makepp-1.19-0/blib/lib:/tmp/loop_over_bdir-4917-eQb8YO/Dpkg-1.21.19-0/blib/arch:/tmp/loop_over_bdir-4917-eQb8YO/Dpkg-1.21.19-0/blib/lib:/tmp/loop_over_bdir-4917-eQb8YO/DBIx-Migration-Directories-0.12-0/blib/arch:/tmp/loop_over_bdir-4917-eQb8YO/DBIx-Migration-Directories-0.12-0/blib/lib:/tmp/loop_over_bdir-4917-eQb8YO/perl-Hardware-UPS-Perl-0.43-0/blib/arch:/tmp/loop_over_bdir-4917-eQb8YO/perl-Hardware-UPS-Perl-0.43-0/blib/lib:/tmp/loop_over_bdir-4917-eQb8YO/Devel-Required-0.16-0/blib/arch:/tmp/loop_over_bdir-4917-eQb8YO/Devel-Required-0.16-0/blib/lib:/tmp/loop_over_bdir-4917-eQb8YO/RackMan-1.19-0/blib/arch:/tmp/loop_over_bdir-4917-eQb8YO/RackMan-1.19-0/blib/lib:/tmp/loop_over_bdir-4917-eQb8YO/dta-tokwrap-0.98-0/blib/arch:/tmp/loop_over_bdir-4917-eQb8YO/dta-tokwrap-0.98-0/blib/lib:/tmp/loop_over_bdir-4917-eQb8YO/CGI-Application-NetNewsIface-0.0204-0/blib/arch:/tmp/loop_over_bdir-4917-eQb8YO/CGI-Application-NetNewsIface-0.0204-0/blib/lib"
PERL5OPT=""
PERL5_CPANPLUS_IS_RUNNING="4990"
PERL5_CPAN_IS_RUNNING="4990"
PERL_CANARY_STABILITY_NOPROMPT="1"
PERL_MM_USE_DEFAULT="1"
PERL_USE_UNSAFE_INC="1"
@INC:
/tmp/loop_over_bdir-4917-eQb8YO/Net-OpenVPN-DDNS-0.1-0/blib/arch
/tmp/loop_over_bdir-4917-eQb8YO/Net-OpenVPN-DDNS-0.1-0/blib/lib
/tmp/loop_over_bdir-4917-eQb8YO/makepp-1.19-0/blib/arch
/tmp/loop_over_bdir-4917-eQb8YO/makepp-1.19-0/blib/lib
/tmp/loop_over_bdir-4917-eQb8YO/Dpkg-1.21.19-0/blib/arch
/tmp/loop_over_bdir-4917-eQb8YO/Dpkg-1.21.19-0/blib/lib
/tmp/loop_over_bdir-4917-eQb8YO/DBIx-Migration-Directories-0.12-0/blib/arch
/tmp/loop_over_bdir-4917-eQb8YO/DBIx-Migration-Directories-0.12-0/blib/lib
/tmp/loop_over_bdir-4917-eQb8YO/perl-Hardware-UPS-Perl-0.43-0/blib/arch
/tmp/loop_over_bdir-4917-eQb8YO/perl-Hardware-UPS-Perl-0.43-0/blib/lib
/tmp/loop_over_bdir-4917-eQb8YO/Devel-Required-0.16-0/blib/arch
/tmp/loop_over_bdir-4917-eQb8YO/Devel-Required-0.16-0/blib/lib
/tmp/loop_over_bdir-4917-eQb8YO/RackMan-1.19-0/blib/arch
/tmp/loop_over_bdir-4917-eQb8YO/RackMan-1.19-0/blib/lib
/tmp/loop_over_bdir-4917-eQb8YO/dta-tokwrap-0.98-0/blib/arch
/tmp/loop_over_bdir-4917-eQb8YO/dta-tokwrap-0.98-0/blib/lib
/tmp/loop_over_bdir-4917-eQb8YO/CGI-Application-NetNewsIface-0.0204-0/blib/arch
/tmp/loop_over_bdir-4917-eQb8YO/CGI-Application-NetNewsIface-0.0204-0/blib/lib
/home/sand/src/perl/repoperls/installed-perls/host/k93jammy/v5.37.8/5674/lib/site_perl/5.37.8/x86_64-linux-ld
/home/sand/src/perl/repoperls/installed-perls/host/k93jammy/v5.37.8/5674/lib/site_perl/5.37.8
/home/sand/src/perl/repoperls/installed-perls/host/k93jammy/v5.37.8/5674/lib/5.37.8/x86_64-linux-ld
/home/sand/src/perl/repoperls/installed-perls/host/k93jammy/v5.37.8/5674/lib/5.37.8
.