Module-Pluggable v6.3 Perl 5 v5.43.4 x86_64-linux
- Status
- Pass
- From
- James E Keenan
- Dist
-
Module-Pluggable v6.3
- Platform
- Perl 5 v5.43.4 x86_64-linux
- Date
- 2025-09-25 19:29:40
- ID
- fae066fa-9a45-11f0-b8c2-f7f7df372e8a
This distribution has been tested as part of the CPAN Testers
project, supporting the Perl programming language. See
http://wiki.cpantesters.org/ for more information or email
questions to cpan-testers-discuss@perl.org
--
Dear Simon Wistow,
This is a computer-generated report for Module-Pluggable-6.3
on perl 5.43.4, created by CPAN-Reporter-1.2020.
Thank you for uploading your work to CPAN. Congratulations!
All tests were successful.
Sections of this report:
* Tester comments
* Program output
* Prerequisites
* Environment and other context
------------------------------
TESTER COMMENTS
------------------------------
Additional comments from tester:
none provided
------------------------------
PROGRAM OUTPUT
------------------------------
Output from '/usr/bin/make test':
PERL_DL_NONLAZY=1 "/home/jkeenan/testing/blead/bin/perl" "-MExtUtils::Command::MM" "-MTest::Harness" "-e" "undef *Test::Harness::Switches; test_harness(0, 'blib/lib', 'blib/arch')" t/*.t
t/01use.t .................... ok
t/02alsoworks.t .............. ok
t/02works.t .................. ok
t/02works_taint.t ............ ok
t/03diffname.t ............... ok
t/04acmedir.t ................ ok
t/04acmedir_single.t ......... ok
t/04acmepath.t ............... ok
t/04acmepath_single.t ........ ok
t/05postpath.t ............... ok
t/06multipath.t .............. ok
t/07instantiate.t ............ ok
t/08nothing.t ................ ok
t/09require.t ................ ok
t/10innerpack.t .............. ok
t/10innerpack_inner.t ........ ok
t/10innerpack_noinner.t ...... ok
t/10innerpack_onefile.t ...... ok
t/10innerpack_override.t ..... ok
t/10innerpack_super.t ........ ok
t/11usetwice.t ............... ok
t/12only.t ................... ok
t/12onlyarray.t .............. ok
t/12onlyregex.t .............. ok
t/12onlyrequire.t ............ ok
t/13except.t ................. ok
t/13exceptarray.t ............ ok
t/13exceptregex.t ............ ok
t/14package.t ................ ok
t/15topicsafe.t .............. ok
t/16different_extension.t .... ok
t/17devel_inner_package.t .... ok
t/18skipped_package.t ........ ok
t/19can_ok_clobber.t ......... ok
t/20dodgy_files.t ............ ok
t/21editor_junk.t ............ ok
t/22trigger.t ................ ok
t/23depth.t .................. ok
t/24local_inc_object.t ....... ok
t/24local_inc_package.t ...... ok
t/25single_letter_package.t .. ok
t/26inc_hook.t ............... ok
t/27app_fatpacker.t .......... skipped: App::FatPacker >= 0.10.0 not available
t/28appledouble.t ............ ok
t/29unreadable.t ............. ok
All tests successful.
Files=45, Tests=192, 3 wallclock secs ( 0.09 usr 0.05 sys + 2.00 cusr 0.41 csys = 2.55 CPU)
Result: PASS
------------------------------
PREREQUISITES
------------------------------
Prerequisite modules loaded:
requires:
Module Need Have
--------------------- ----- --------
Exporter 5.57 5.79
File::Basename 0 2.86
File::Find 0 1.44
File::Spec 3.00 3.94
File::Spec::Functions 0 3.94
if 0 0.0610
perl 5.006 5.043004
Scalar::Util 0 1.70
strict 0 1.14
build_requires:
Module Need Have
--------------------- ----- --------
base 0 2.27
Cwd 0 3.94
Data::Dumper 0 2.192
ExtUtils::MakeMaker 0 7.76
File::Copy 0 2.43
File::Find 0 1.44
File::Path 0 2.18
File::Spec::Functions 0 3.94
File::Temp 0 0.2312
FindBin 0 1.54
strict 0 1.14
Test::More 0 1.302214
warnings 0 1.74
configure_requires:
Module Need Have
--------------------- ----- --------
ExtUtils::MakeMaker 0 7.76
opt_requires:
Module Need Have
--------------------- ----- --------
Module::Runtime 0.012 0.018
------------------------------
ENVIRONMENT AND OTHER CONTEXT
------------------------------
Environment variables:
LANG = en_US.UTF-8
LC_ADDRESS = en_US.UTF-8
LC_IDENTIFICATION = en_US.UTF-8
LC_MEASUREMENT = en_US.UTF-8
LC_MONETARY = en_US.UTF-8
LC_NAME = en_US.UTF-8
LC_NUMERIC = en_US.UTF-8
LC_PAPER = en_US.UTF-8
LC_TELEPHONE = en_US.UTF-8
LC_TIME = en_US.UTF-8
NONINTERACTIVE_TESTING = 1
PATH = /home/jkeenan/perl5/perlbrew/bin:/home/jkeenan/perl5/perlbrew/perls/perl-5.40.0/bin:/usr/lib/ccache:/usr/local/bin:/usr/bin:/bin:/usr/local/games:/usr/games:/home/jkeenan/bin:/home/jkeenan/bin/perl:/home/jkeenan/bin/shell
PERL5LIB =
PERL5OPT =
PERL5_CPANPLUS_IS_RUNNING = 4092378
PERL5_CPAN_IS_RUNNING = 4092378
PERLBREW_HOME = /home/jkeenan/.perlbrew
PERLBREW_MANPATH = /home/jkeenan/perl5/perlbrew/perls/perl-5.40.0/man
PERLBREW_PATH = /home/jkeenan/perl5/perlbrew/bin:/home/jkeenan/perl5/perlbrew/perls/perl-5.40.0/bin
PERLBREW_PERL = perl-5.40.0
PERLBREW_ROOT = /home/jkeenan/perl5/perlbrew
PERLBREW_SHELLRC_VERSION = 0.91
PERLBREW_VERSION = 0.96
PERL_MM_USE_DEFAULT = 1
PERL_USE_UNSAFE_INC = 1
PERL_WORKDIR = /home/jkeenan/gitwork/perl
SHELL = /bin/bash
TERM = xterm-256color
Perl special variables (and OS-specific diagnostics, for MSWin32):
$^X = /home/jkeenan/testing/blead/bin/perl
$UID/$EUID = 1000 / 1000
$GID = 1000 27 1000
$EGID = 1000 27 1000
Perl module toolchain versions installed:
Module Have
------------------- --------
CPAN 2.38
CPAN::Meta 2.150010
Cwd 3.94
ExtUtils::CBuilder 0.280242
ExtUtils::Command 7.76
ExtUtils::Install 2.22
ExtUtils::MakeMaker 7.76
ExtUtils::Manifest 1.75
ExtUtils::ParseXS 3.60
File::Spec 3.94
JSON n/a
JSON::PP 4.16
Module::Build 0.4234
Module::Signature n/a
Parse::CPAN::Meta 2.150010
Test2 1.302214
Test::Harness 3.52
Test::More 1.302214
YAML n/a
YAML::Syck n/a
version 0.9933
--
Summary of my perl5 (revision 5 version 43 subversion 4) configuration:
Commit id: 38589262a6dfd9af7703519b25b59528550274be
Platform:
osname=linux
osvers=6.1.0-33-amd64
archname=x86_64-linux
uname='linux jk-bookworm 6.1.0-33-amd64 #1 smp preempt_dynamic debian 6.1.133-1 (2025-04-10) x86_64 gnulinux '
config_args='-des -Dusedevel -Uversiononly -Dprefix=/home/jkeenan/testing/blead -Dman1dir=none -Dman3dir=none'
hint=recommended
useposix=true
d_sigaction=define
useithreads=undef
usemultiplicity=undef
use64bitint=define
use64bitall=define
uselongdouble=undef
usemymalloc=n
default_inc_excludes_dot=define
Compiler:
cc='cc'
ccflags ='-fwrapv -fno-strict-aliasing -pipe -fstack-protector-strong -I/usr/local/include -D_LARGEFILE_SOURCE -D_FILE_OFFSET_BITS=64 -D_FORTIFY_SOURCE=2'
optimize='-O2'
cppflags='-fwrapv -fno-strict-aliasing -pipe -fstack-protector-strong -I/usr/local/include'
ccversion=''
gccversion='12.2.0'
gccosandvers=''
intsize=4
longsize=8
ptrsize=8
doublesize=8
byteorder=12345678
doublekind=3
d_longlong=define
longlongsize=8
d_longdbl=define
longdblsize=16
longdblkind=3
ivtype='long'
ivsize=8
nvtype='double'
nvsize=8
Off_t='off_t'
lseeksize=8
alignbytes=8
prototype=define
Linker and Libraries:
ld='cc'
ldflags =' -fstack-protector-strong -L/usr/local/lib'
libpth=/usr/local/lib /usr/lib/x86_64-linux-gnu /usr/lib /usr/lib64
libs=-lpthread -ldl -lm -lcrypt -lutil -lc
perllibs=-lpthread -ldl -lm -lcrypt -lutil -lc
libc=/lib/x86_64-linux-gnu/libc.so.6
so=so
useshrplib=false
libperl=libperl.a
gnulibc_version='2.36'
Dynamic Linking:
dlsrc=dl_dlopen.xs
dlext=so
d_dlsymun=undef
ccdlflags='-Wl,-E'
cccdlflags='-fPIC'
lddlflags='-shared -O2 -L/usr/local/lib -fstack-protector-strong'
Characteristics of this binary (from libperl):
Compile-time options:
HAS_LONG_DOUBLE
HAS_STRTOLD
HAS_TIMES
PERLIO_LAYERS
PERL_COPY_ON_WRITE
PERL_DONT_CREATE_GVSV
PERL_HASH_FUNC_SIPHASH13
PERL_HASH_USE_SBOX32
PERL_MALLOC_WRAP
PERL_OP_PARENT
PERL_PRESERVE_IVUV
PERL_USE_DEVEL
PERL_USE_SAFE_PUTENV
USE_64_BIT_ALL
USE_64_BIT_INT
USE_LARGE_FILES
USE_LOCALE
USE_LOCALE_COLLATE
USE_LOCALE_CTYPE
USE_LOCALE_NUMERIC
USE_LOCALE_TIME
USE_PERLIO
USE_PERL_ATOF
Built under linux
Compiled at Sep 25 2025 14:06:41
%ENV:
PERL5LIB=""
PERL5OPT=""
PERL5_CPANPLUS_IS_RUNNING="4092378"
PERL5_CPAN_IS_RUNNING="4092378"
PERLBREW_HOME="/home/jkeenan/.perlbrew"
PERLBREW_MANPATH="/home/jkeenan/perl5/perlbrew/perls/perl-5.40.0/man"
PERLBREW_PATH="/home/jkeenan/perl5/perlbrew/bin:/home/jkeenan/perl5/perlbrew/perls/perl-5.40.0/bin"
PERLBREW_PERL="perl-5.40.0"
PERLBREW_ROOT="/home/jkeenan/perl5/perlbrew"
PERLBREW_SHELLRC_VERSION="0.91"
PERLBREW_VERSION="0.96"
PERL_MM_USE_DEFAULT="1"
PERL_USE_UNSAFE_INC="1"
PERL_WORKDIR="/home/jkeenan/gitwork/perl"
@INC:
/home/jkeenan/testing/blead/lib/perl5/site_perl/5.43.4/x86_64-linux
/home/jkeenan/testing/blead/lib/perl5/site_perl/5.43.4
/home/jkeenan/testing/blead/lib/perl5/5.43.4/x86_64-linux
/home/jkeenan/testing/blead/lib/perl5/5.43.4
.