MooseX-Types-Structured v0.36 Perl 5 v5.22.4 amd64-freebsd
- Status
- Pass
- From
- Slaven Rezić (SREZIC)
- Dist
-
MooseX-Types-Structured v0.36
- Platform
- Perl 5 v5.22.4 amd64-freebsd
- Date
- 2017-12-06 08:25:12
- ID
- fae9f9ae-da5e-11e7-a1a2-a549691158d1
This distribution has been tested as part of the CPAN Testers
project, supporting the Perl programming language. See
http://wiki.cpantesters.org/ for more information or email
questions to cpan-testers-discuss@perl.org
--
Dear Karen Etheridge,
This is a computer-generated report for MooseX-Types-Structured-0.36
on perl 5.22.4, created by CPAN-Reporter-1.2018.
Thank you for uploading your work to CPAN. Congratulations!
All tests were successful.
Sections of this report:
* Tester comments
* Program output
* Prerequisites
* Environment and other context
------------------------------
TESTER COMMENTS
------------------------------
Additional comments from tester:
none provided
------------------------------
PROGRAM OUTPUT
------------------------------
Output from './Build test':
t/00-load.t .................... ok
#
# Versions for all modules listed in MYMETA.json (including optional ones):
#
# === Configure Requires ===
#
# Module Want Have
# ------------------- ----- -----
# Module::Build::Tiny 0.034 0.039
#
# === Configure Suggests ===
#
# Module Want Have
# -------- ------- ----
# JSON::PP 2.27300 2.94
#
# === Test Requires ===
#
# Module Want Have
# -------------------- ---- --------
# Data::Dumper any 2.161
# DateTime any 1.44
# File::Spec any 3.56_02
# Module::Metadata any 1.000026
# MooseX::Types::Moose any 0.50
# Test::Fatal any 0.014
# Test::More 0.88 1.302113
# Test::Needs any 0.002005
# strict any 1.09
# warnings any 1.34
#
# === Test Recommends ===
#
# Module Want Have
# ---------- -------- --------
# CPAN::Meta 2.120900 2.150010
#
# === Test Suggests ===
#
# Module Want Have
# ----------------------- ---- -------
# MooseX::Types::DateTime any missing
#
# === Runtime Requires ===
#
# Module Want Have
# -------------------------------------------- ----- ------
# Devel::PartialDump 0.13 0.20
# Moose any 2.2008
# Moose::Meta::TypeCoercion any 2.2008
# Moose::Meta::TypeConstraint any 2.2008
# Moose::Meta::TypeConstraint::Parameterizable any 2.2008
# Moose::Util::TypeConstraints 1.06 2.2008
# MooseX::Types 0.22 0.50
# Scalar::Util any 1.49
# Sub::Exporter 0.982 0.987
# if any 0.0604
# namespace::clean 0.19 0.27
# overload any 1.26
#
# === Other Modules ===
#
# Module Have
# -------------------- ----
# Dist::CheckConflicts 0.11
# JSON::PP 2.94
# Sub::Name 0.21
# YAML 1.24
# autodie 2.26
#
t/00-report-prereqs.t .......... ok
t/01-basic.t ................... ok
t/02-tuple.t ................... ok
t/03-dict.t .................... ok
t/04-combined.t ................ ok
t/04-map.t ..................... ok
t/05-advanced.t ................ ok
t/06-api.t ..................... ok
t/07-coerce.t .................. ok
t/08-examples.t ................ skipped: Need MooseX::Types::DateTime
t/09-optional.t ................ ok
t/10-recursion.t ............... ok
t/11-overflow.t ................ ok
t/12-error.t ................... ok
t/13-deeper_error.t ............ ok
t/14-fully-qualified.t ......... ok
t/bug-incorrect-message.t ...... ok
t/bug-is-subtype.t ............. ok
t/bug-mixed-stringy.t .......... ok
t/bug-optional.t ............... ok
t/regressions/01-is_type_of.t .. ok
t/zzz-check-breaks.t ........... ok
All tests successful.
Files=23, Tests=352, 11 wallclock secs ( 0.09 usr 0.08 sys + 8.85 cusr 1.58 csys = 10.59 CPU)
Result: PASS
------------------------------
PREREQUISITES
------------------------------
Prerequisite modules loaded:
requires:
Module Need Have
-------------------------------------------- -------- --------
Devel::PartialDump 0.13 0.20
if 0 0.0604
Moose 0 2.2008
Moose::Meta::TypeCoercion 0 2.2008
Moose::Meta::TypeConstraint 0 2.2008
Moose::Meta::TypeConstraint::Parameterizable 0 2.2008
Moose::Util::TypeConstraints 1.06 2.2008
MooseX::Types 0.22 0.50
namespace::clean 0.19 0.27
overload 0 1.26
perl 5.008 5.022004
Scalar::Util 0 1.49
Sub::Exporter 0.982 0.987
build_requires:
Module Need Have
-------------------------------------------- -------- --------
Data::Dumper 0 2.161
DateTime 0 1.44
File::Spec 0 3.56_02
Module::Metadata 0 1.000026
MooseX::Types::Moose 0 0.50
perl 5.008 5.022004
strict 0 1.09
Test::Fatal 0 0.014
Test::More 0.88 1.302113
Test::Needs 0 0.002005
warnings 0 1.34
configure_requires:
Module Need Have
-------------------------------------------- -------- --------
Module::Build::Tiny 0.034 0.039
perl 5.008 5.022004
opt_build_requires:
Module Need Have
-------------------------------------------- -------- --------
CPAN::Meta 2.120900 2.150010
------------------------------
ENVIRONMENT AND OTHER CONTEXT
------------------------------
Environment variables:
PATH = /usr/local/bin:/usr/bin:/bin:/usr/local/sbin:/usr/sbin:/sbin:/home/cpansand/bin/freebsd12.0:/home/cpansand/bin/sh:/home/cpansand/bin:/usr/games:/home/cpansand/devel:/home/eserte/src/srezic-misc/scripts
PERL5LIB = /home/cpansand/.cpan/build/2017112821/Devel-PartialDump-0.20-zk4RLR/blib/arch:/home/cpansand/.cpan/build/2017112821/Devel-PartialDump-0.20-zk4RLR/blib/lib:/home/cpansand/.cpan/build/2017112821/B-Hooks-OP-PPAddr-0.06-rki5fd/blib/arch:/home/cpansand/.cpan/build/2017112821/B-Hooks-OP-PPAddr-0.06-rki5fd/blib/lib
PERL5OPT =
PERL5_CPANPLUS_IS_RUNNING = 49911
PERL5_CPAN_IS_RUNNING = 49911
PERL5_CPAN_IS_RUNNING_IN_RECURSION = 49876,49911
PERLDOC = -MPod::Perldoc::ToTextOverstrike
PERL_BATCH = yes
PERL_CANARY_STABILITY_NOPROMPT = 1
PERL_CPAN_REPORTER_CONFIG = /var/tmp/cpansmoker-1023/2017112821/cpanreporter_000_config.ini
PERL_EXTUTILS_AUTOINSTALL = --defaultdeps
SHELL = /usr/local/bin/zsh
TERM = screen
TMPDIR = /var/tmp/cpansmoker-1023/2017112821
Perl special variables (and OS-specific diagnostics, for MSWin32):
$^X = /usr/perl5.22.4p/bin/perl
$UID/$EUID = 1023 / 1023
$GID = 1023 1023
$EGID = 1023 1023
Perl module toolchain versions installed:
Module Have
------------------- --------
CPAN 2.11_01
CPAN::Meta 2.150010
Cwd 3.56_02
ExtUtils::CBuilder 0.280230
ExtUtils::Command 7.30
ExtUtils::Install 2.06
ExtUtils::MakeMaker 7.30
ExtUtils::Manifest 1.70
ExtUtils::ParseXS 3.35
File::Spec 3.56_02
JSON 2.94
JSON::PP 2.94
Module::Build 0.4224
Module::Signature 0.81
Parse::CPAN::Meta 2.150010
Test::Harness 3.35_01
Test::More 1.302113
YAML 1.24
YAML::Syck 1.30
version 0.9909
--
Summary of my perl5 (revision 5 version 22 subversion 4) configuration:
Platform:
osname=freebsd, osvers=12.0-current, archname=amd64-freebsd
uname='freebsd ali1.bbbike.org 12.0-current freebsd 12.0-current #0 bd8385a990e(master)-dirty: fri nov 17 03:13:11 utc 2017 root@ali1.bbbike.org:usrobjhomeprojectsfreebsdamd64.amd64sysgeneric-nodebug amd64 '
config_args='-ds -e -Dprefix=/usr/perl5.22.4p -Dcf_email=srezic@cpan.org -Doptimize=-O2 -pipe'
hint=recommended, useposix=true, d_sigaction=define
useithreads=undef, usemultiplicity=undef
use64bitint=define, use64bitall=define, uselongdouble=undef
usemymalloc=n, bincompat5005=undef
Compiler:
cc='cc', ccflags ='-DHAS_FPSETMASK -DHAS_FLOATINGPOINT_H -fno-strict-aliasing -pipe -fstack-protector-strong -I/usr/local/include -D_FORTIFY_SOURCE=2',
optimize='-O2 -pipe',
cppflags='-DHAS_FPSETMASK -DHAS_FLOATINGPOINT_H -fno-strict-aliasing -pipe -fstack-protector-strong -I/usr/local/include'
ccversion='', gccversion='4.2.1 Compatible FreeBSD Clang 5.0.0 (tags/RELEASE_500/final 312559)', gccosandvers=''
intsize=4, longsize=8, ptrsize=8, doublesize=8, byteorder=12345678, doublekind=3
d_longlong=define, longlongsize=8, d_longdbl=define, longdblsize=16, longdblkind=3
ivtype='long', ivsize=8, nvtype='double', nvsize=8, Off_t='off_t', lseeksize=8
alignbytes=8, prototype=define
Linker and Libraries:
ld='cc', ldflags ='-pthread -Wl,-E -fstack-protector-strong -L/usr/local/lib'
libpth=/usr/lib /usr/local/lib /usr/lib/clang/5.0.0/lib /usr/lib
libs=-lpthread -lgdbm -lm -lcrypt -lutil -lc
perllibs=-lpthread -lm -lcrypt -lutil -lc
libc=, so=so, useshrplib=false, libperl=libperl.a
gnulibc_version=''
Dynamic Linking:
dlsrc=dl_dlopen.xs, dlext=so, d_dlsymun=undef, ccdlflags=' '
cccdlflags='-DPIC -fPIC', lddlflags='-shared -L/usr/local/lib -fstack-protector-strong'
Characteristics of this binary (from libperl):
Compile-time options: HAS_TIMES PERLIO_LAYERS PERL_DONT_CREATE_GVSV
PERL_HASH_FUNC_ONE_AT_A_TIME_HARD PERL_MALLOC_WRAP
PERL_NEW_COPY_ON_WRITE PERL_PRESERVE_IVUV
USE_64_BIT_ALL USE_64_BIT_INT USE_LARGE_FILES
USE_LOCALE USE_LOCALE_COLLATE USE_LOCALE_CTYPE
USE_LOCALE_NUMERIC USE_LOCALE_TIME USE_PERLIO
USE_PERL_ATOF
Built under freebsd
Compiled at Nov 17 2017 05:53:55
%ENV:
PERL5LIB="/home/cpansand/.cpan/build/2017112821/Devel-PartialDump-0.20-zk4RLR/blib/arch:/home/cpansand/.cpan/build/2017112821/Devel-PartialDump-0.20-zk4RLR/blib/lib:/home/cpansand/.cpan/build/2017112821/B-Hooks-OP-PPAddr-0.06-rki5fd/blib/arch:/home/cpansand/.cpan/build/2017112821/B-Hooks-OP-PPAddr-0.06-rki5fd/blib/lib"
PERL5OPT=""
PERL5_CPANPLUS_IS_RUNNING="49911"
PERL5_CPAN_IS_RUNNING="49911"
PERL5_CPAN_IS_RUNNING_IN_RECURSION="49876,49911"
PERLDOC="-MPod::Perldoc::ToTextOverstrike"
PERL_BATCH="yes"
PERL_CANARY_STABILITY_NOPROMPT="1"
PERL_CPAN_REPORTER_CONFIG="/var/tmp/cpansmoker-1023/2017112821/cpanreporter_000_config.ini"
PERL_EXTUTILS_AUTOINSTALL="--defaultdeps"
@INC:
/home/cpansand/.cpan/build/2017112821/Devel-PartialDump-0.20-zk4RLR/blib/arch
/home/cpansand/.cpan/build/2017112821/Devel-PartialDump-0.20-zk4RLR/blib/lib
/home/cpansand/.cpan/build/2017112821/B-Hooks-OP-PPAddr-0.06-rki5fd/blib/arch
/home/cpansand/.cpan/build/2017112821/B-Hooks-OP-PPAddr-0.06-rki5fd/blib/lib
/usr/perl5.22.4p/lib/site_perl/5.22.4/amd64-freebsd
/usr/perl5.22.4p/lib/site_perl/5.22.4
/usr/perl5.22.4p/lib/5.22.4/amd64-freebsd
/usr/perl5.22.4p/lib/5.22.4
.