Report for WebService-Pushover-v0.2.0

Back
From: metabase:user:320bfe00-2aae-11df-837a-5e0a49663a4f
Subject: PASS WebService-Pushover-v0.2.0 v5.16.3 GNU/Linux
Date: 2014-04-29T17:09:10Z

This distribution has been tested as part of the CPAN Testers
project, supporting the Perl programming language.  See
http://wiki.cpantesters.org/ for more information or email
questions to cpan-testers-discuss@perl.org


--
Dear Steve Huff,

This is a computer-generated report for WebService-Pushover-v0.2.0
on perl 5.16.3, created by CPAN-Reporter-1.2011.

Thank you for uploading your work to CPAN.  Congratulations!
All tests were successful.

Sections of this report:

    * Tester comments
    * Program output
    * Prerequisites
    * Environment and other context

------------------------------
TESTER COMMENTS
------------------------------

Additional comments from tester:

this report is from an automated smoke testing program
and was not reviewed by a human for accuracy

------------------------------
PROGRAM OUTPUT
------------------------------

Output from './Build test':

Passing a list of values to enum is deprecated. Enum values should be wrapped in an arrayref. at /home/sand/src/perl/repoperls/installed-perls/perl/v5.16.3/165a/lib/site_perl/5.16.3/Net/HTTP/Spore/Meta/Types.pm line 18.
	require Net/HTTP/Spore/Meta/Types.pm called at /home/sand/src/perl/repoperls/installed-perls/perl/v5.16.3/165a/lib/site_perl/5.16.3/Net/HTTP/Spore/Meta/Method.pm line 16
	Net::HTTP::Spore::Meta::Method::BEGIN() called at /home/sand/src/perl/repoperls/installed-perls/perl/v5.16.3/165a/lib/site_perl/5.16.3/Net/HTTP/Spore/Meta/Types.pm line 0
	eval {...} called at /home/sand/src/perl/repoperls/installed-perls/perl/v5.16.3/165a/lib/site_perl/5.16.3/Net/HTTP/Spore/Meta/Types.pm line 0
	require Net/HTTP/Spore/Meta/Method.pm called at /home/sand/src/perl/repoperls/installed-perls/perl/v5.16.3/165a/lib/site_perl/5.16.3/Net/HTTP/Spore/Meta/Method/Spore.pm line 11
	Net::HTTP::Spore::Meta::Method::Spore::BEGIN() called at /home/sand/src/perl/repoperls/installed-perls/perl/v5.16.3/165a/lib/site_perl/5.16.3/Net/HTTP/Spore/Meta/Types.pm line 0
	eval {...} called at /home/sand/src/perl/repoperls/installed-perls/perl/v5.16.3/165a/lib/site_perl/5.16.3/Net/HTTP/Spore/Meta/Types.pm line 0
	require Net/HTTP/Spore/Meta/Method/Spore.pm called at /home/sand/src/perl/repoperls/installed-perls/perl/v5.16.3/165a/lib/site_perl/5.16.3/Module/Runtime.pm line 317
	Module::Runtime::require_module("Net::HTTP::Spore::Meta::Method::Spore") called at /home/sand/src/perl/repoperls/installed-perls/perl/v5.16.3/165a/lib/site_perl/5.16.3/Module/Runtime.pm line 348
	Module::Runtime::use_module("Net::HTTP::Spore::Meta::Method::Spore") called at /home/sand/src/perl/repoperls/installed-perls/perl/v5.16.3/165a/lib/site_perl/5.16.3/x86_64-linux/Moose/Util.pm line 150
	Moose::Util::_apply_all_roles(Moose::Meta::Role=HASH(0x2dae360), undef, "Net::HTTP::Spore::Meta::Method::Spore") called at /home/sand/src/perl/repoperls/installed-perls/perl/v5.16.3/165a/lib/site_perl/5.16.3/x86_64-linux/Moose/Util.pm line 117
	Moose::Util::apply_all_roles(Moose::Meta::Role=HASH(0x2dae360), "Net::HTTP::Spore::Meta::Method::Spore") called at /home/sand/src/perl/repoperls/installed-perls/perl/v5.16.3/165a/lib/site_perl/5.16.3/x86_64-linux/Moose/Role.pm line 27
	Moose::Role::with(Moose::Meta::Role=HASH(0x2dae360), "Net::HTTP::Spore::Meta::Method::Spore") called at /home/sand/src/perl/repoperls/installed-perls/perl/v5.16.3/165a/lib/site_perl/5.16.3/x86_64-linux/Moose/Exporter.pm line 405
	Moose::Role::with("Net::HTTP::Spore::Meta::Method::Spore") called at /home/sand/src/perl/repoperls/installed-perls/perl/v5.16.3/165a/lib/site_perl/5.16.3/Net/HTTP/Spore/Meta/Class.pm line 10
	require Net/HTTP/Spore/Meta/Class.pm called at /home/sand/src/perl/repoperls/installed-perls/perl/v5.16.3/165a/lib/site_perl/5.16.3/Module/Runtime.pm line 317
	Module::Runtime::require_module("Net::HTTP::Spore::Meta::Class") called at /home/sand/src/perl/repoperls/installed-perls/perl/v5.16.3/165a/lib/site_perl/5.16.3/Module/Runtime.pm line 348
	Module::Runtime::use_module("Net::HTTP::Spore::Meta::Class") called at /home/sand/src/perl/repoperls/installed-perls/perl/v5.16.3/165a/lib/site_perl/5.16.3/x86_64-linux/Moose/Util.pm line 150
	Moose::Util::_apply_all_roles(Moose::Meta::Class=HASH(0x2db7738), undef, "Net::HTTP::Spore::Meta::Class") called at /home/sand/src/perl/repoperls/installed-perls/perl/v5.16.3/165a/lib/site_perl/5.16.3/x86_64-linux/Moose/Util.pm line 117
	Moose::Util::apply_all_roles(Moose::Meta::Class=HASH(0x2db7738), "Net::HTTP::Spore::Meta::Class") called at /home/sand/src/perl/repoperls/installed-perls/perl/v5.16.3/165a/lib/site_perl/5.16.3/x86_64-linux/Moose/Meta/Class.pm line 93
	Moose::Meta::Class::create("Moose::Meta::Class", "Moose::Meta::Class::__ANON__::SERIAL::1", "roles", ARRAY(0x2d98248), "weaken", "", "superclasses", ARRAY(0x2db7270)) called at /home/sand/src/perl/repoperls/installed-perls/perl/v5.16.3/165a/lib/site_perl/5.16.3/x86_64-linux/Class/MOP/Package.pm line 126
	Class::MOP::Package::create_anon("Moose::Meta::Class", "superclasses", ARRAY(0x2db7270), "roles", ARRAY(0x2d98248), "cache", 1) called at /home/sand/src/perl/repoperls/installed-perls/perl/v5.16.3/165a/lib/site_perl/5.16.3/x86_64-linux/Class/MOP/Class.pm line 475
	Class::MOP::Class::create_anon_class("Moose::Meta::Class", "superclasses", ARRAY(0x2db7270), "roles", ARRAY(0x2d98248), "cache", 1) called at /home/sand/src/perl/repoperls/installed-perls/perl/v5.16.3/165a/lib/site_perl/5.16.3/x86_64-linux/Moose/Util/MetaRole.pm line 113
	Moose::Util::MetaRole::_make_new_class("Moose::Meta::Class", ARRAY(0x2d98248)) called at /home/sand/src/perl/repoperls/installed-perls/perl/v5.16.3/165a/lib/site_perl/5.16.3/x86_64-linux/Moose/Util/MetaRole.pm line 56
	Moose::Util::MetaRole::_make_new_metaclass(Moose::Meta::Class=HASH(0x1f38ca8), HASH(0x2cf18d8), "class") called at /home/sand/src/perl/repoperls/installed-perls/perl/v5.16.3/165a/lib/site_perl/5.16.3/x86_64-linux/Moose/Util/MetaRole.pm line 26
	Moose::Util::MetaRole::apply_metaroles("for", "Net::HTTP::Spore::Core", "class_metaroles", HASH(0x2cf18d8)) called at /home/sand/src/perl/repoperls/installed-perls/perl/v5.16.3/165a/lib/site_perl/5.16.3/Net/HTTP/Spore/Meta.pm line 28
	Net::HTTP::Spore::Meta::init_meta("Net::HTTP::Spore::Meta", "for_class", "Net::HTTP::Spore::Meta::Types", "metaclass", undef, "meta_name", "meta") called at /home/sand/src/perl/repoperls/installed-perls/perl/v5.16.3/165a/lib/site_perl/5.16.3/x86_64-linux/Moose/Exporter.pm line 470
	Moose::Exporter::__ANON__("Net::HTTP::Spore::Meta") called at /home/sand/src/perl/repoperls/installed-perls/perl/v5.16.3/165a/lib/site_perl/5.16.3/Net/HTTP/Spore/Core.pm line 6
	Net::HTTP::Spore::Core::BEGIN() called at /home/sand/src/perl/repoperls/installed-perls/perl/v5.16.3/165a/lib/site_perl/5.16.3/Net/HTTP/Spore/Meta/Types.pm line 0
	eval {...} called at /home/sand/src/perl/repoperls/installed-perls/perl/v5.16.3/165a/lib/site_perl/5.16.3/Net/HTTP/Spore/Meta/Types.pm line 0
	require Net/HTTP/Spore/Core.pm called at /home/sand/src/perl/repoperls/installed-perls/perl/v5.16.3/165a/lib/site_perl/5.16.3/Net/HTTP/Spore.pm line 16
	Net::HTTP::Spore::BEGIN() called at /home/sand/src/perl/repoperls/installed-perls/perl/v5.16.3/165a/lib/site_perl/5.16.3/Net/HTTP/Spore/Meta/Types.pm line 0
	eval {...} called at /home/sand/src/perl/repoperls/installed-perls/perl/v5.16.3/165a/lib/site_perl/5.16.3/Net/HTTP/Spore/Meta/Types.pm line 0
	require Net/HTTP/Spore.pm called at /tmp/loop_over_bdir-712-AZys50/WebService-Pushover-v0.2.0-wxqR2q/blib/lib/WebService/Pushover.pm line 11
	WebService::Pushover::BEGIN() called at /home/sand/src/perl/repoperls/installed-perls/perl/v5.16.3/165a/lib/site_perl/5.16.3/Net/HTTP/Spore/Meta/Types.pm line 0
	eval {...} called at /home/sand/src/perl/repoperls/installed-perls/perl/v5.16.3/165a/lib/site_perl/5.16.3/Net/HTTP/Spore/Meta/Types.pm line 0
	require WebService/Pushover.pm called at t/00.load.t line 4
	main::BEGIN() called at /home/sand/src/perl/repoperls/installed-perls/perl/v5.16.3/165a/lib/site_perl/5.16.3/Net/HTTP/Spore/Meta/Types.pm line 0
	eval {...} called at /home/sand/src/perl/repoperls/installed-perls/perl/v5.16.3/165a/lib/site_perl/5.16.3/Net/HTTP/Spore/Meta/Types.pm line 0
	eval 'package main;

#line 4 t/00.load.t
use WebService::Pushover @{$args[0]};
1;

;' called at /home/sand/src/perl/repoperls/installed-perls/perl/v5.16.3/165a/lib/5.16.3/Test/More.pm line 992
	Test::More::_eval("package main;\x{a}\x{a}#line 4 t/00.load.t\x{a}use WebService::Pushover \@"..., ARRAY(0x1d00e90)) called at /home/sand/src/perl/repoperls/installed-perls/perl/v5.16.3/165a/lib/5.16.3/Test/More.pm line 967
	Test::More::use_ok("WebService::Pushover") called at t/00.load.t line 4
	main::BEGIN() called at /home/sand/src/perl/repoperls/installed-perls/perl/v5.16.3/165a/lib/site_perl/5.16.3/Net/HTTP/Spore/Meta/Types.pm line 0
	eval {...} called at /home/sand/src/perl/repoperls/installed-perls/perl/v5.16.3/165a/lib/site_perl/5.16.3/Net/HTTP/Spore/Meta/Types.pm line 0
# Testing WebService::Pushover 0.2.0
t/00.load.t ................ ok
Passing a list of values to enum is deprecated. Enum values should be wrapped in an arrayref. at /home/sand/src/perl/repoperls/installed-perls/perl/v5.16.3/165a/lib/site_perl/5.16.3/Net/HTTP/Spore/Meta/Types.pm line 18.
	require Net/HTTP/Spore/Meta/Types.pm called at /home/sand/src/perl/repoperls/installed-perls/perl/v5.16.3/165a/lib/site_perl/5.16.3/Net/HTTP/Spore/Meta/Method.pm line 16
	Net::HTTP::Spore::Meta::Method::BEGIN() called at /home/sand/src/perl/repoperls/installed-perls/perl/v5.16.3/165a/lib/site_perl/5.16.3/Net/HTTP/Spore/Meta/Types.pm line 0
	eval {...} called at /home/sand/src/perl/repoperls/installed-perls/perl/v5.16.3/165a/lib/site_perl/5.16.3/Net/HTTP/Spore/Meta/Types.pm line 0
	require Net/HTTP/Spore/Meta/Method.pm called at /home/sand/src/perl/repoperls/installed-perls/perl/v5.16.3/165a/lib/site_perl/5.16.3/Net/HTTP/Spore/Meta/Method/Spore.pm line 11
	Net::HTTP::Spore::Meta::Method::Spore::BEGIN() called at /home/sand/src/perl/repoperls/installed-perls/perl/v5.16.3/165a/lib/site_perl/5.16.3/Net/HTTP/Spore/Meta/Types.pm line 0
	eval {...} called at /home/sand/src/perl/repoperls/installed-perls/perl/v5.16.3/165a/lib/site_perl/5.16.3/Net/HTTP/Spore/Meta/Types.pm line 0
	require Net/HTTP/Spore/Meta/Method/Spore.pm called at /home/sand/src/perl/repoperls/installed-perls/perl/v5.16.3/165a/lib/site_perl/5.16.3/Module/Runtime.pm line 317
	Module::Runtime::require_module("Net::HTTP::Spore::Meta::Method::Spore") called at /home/sand/src/perl/repoperls/installed-perls/perl/v5.16.3/165a/lib/site_perl/5.16.3/Module/Runtime.pm line 348
	Module::Runtime::use_module("Net::HTTP::Spore::Meta::Method::Spore") called at /home/sand/src/perl/repoperls/installed-perls/perl/v5.16.3/165a/lib/site_perl/5.16.3/x86_64-linux/Moose/Util.pm line 150
	Moose::Util::_apply_all_roles(Moose::Meta::Role=HASH(0x2ff4e68), undef, "Net::HTTP::Spore::Meta::Method::Spore") called at /home/sand/src/perl/repoperls/installed-perls/perl/v5.16.3/165a/lib/site_perl/5.16.3/x86_64-linux/Moose/Util.pm line 117
	Moose::Util::apply_all_roles(Moose::Meta::Role=HASH(0x2ff4e68), "Net::HTTP::Spore::Meta::Method::Spore") called at /home/sand/src/perl/repoperls/installed-perls/perl/v5.16.3/165a/lib/site_perl/5.16.3/x86_64-linux/Moose/Role.pm line 27
	Moose::Role::with(Moose::Meta::Role=HASH(0x2ff4e68), "Net::HTTP::Spore::Meta::Method::Spore") called at /home/sand/src/perl/repoperls/installed-perls/perl/v5.16.3/165a/lib/site_perl/5.16.3/x86_64-linux/Moose/Exporter.pm line 405
	Moose::Role::with("Net::HTTP::Spore::Meta::Method::Spore") called at /home/sand/src/perl/repoperls/installed-perls/perl/v5.16.3/165a/lib/site_perl/5.16.3/Net/HTTP/Spore/Meta/Class.pm line 10
	require Net/HTTP/Spore/Meta/Class.pm called at /home/sand/src/perl/repoperls/installed-perls/perl/v5.16.3/165a/lib/site_perl/5.16.3/Module/Runtime.pm line 317
	Module::Runtime::require_module("Net::HTTP::Spore::Meta::Class") called at /home/sand/src/perl/repoperls/installed-perls/perl/v5.16.3/165a/lib/site_perl/5.16.3/Module/Runtime.pm line 348
	Module::Runtime::use_module("Net::HTTP::Spore::Meta::Class") called at /home/sand/src/perl/repoperls/installed-perls/perl/v5.16.3/165a/lib/site_perl/5.16.3/x86_64-linux/Moose/Util.pm line 150
	Moose::Util::_apply_all_roles(Moose::Meta::Class=HASH(0x2fef428), undef, "Net::HTTP::Spore::Meta::Class") called at /home/sand/src/perl/repoperls/installed-perls/perl/v5.16.3/165a/lib/site_perl/5.16.3/x86_64-linux/Moose/Util.pm line 117
	Moose::Util::apply_all_roles(Moose::Meta::Class=HASH(0x2fef428), "Net::HTTP::Spore::Meta::Class") called at /home/sand/src/perl/repoperls/installed-perls/perl/v5.16.3/165a/lib/site_perl/5.16.3/x86_64-linux/Moose/Meta/Class.pm line 93
	Moose::Meta::Class::create("Moose::Meta::Class", "Moose::Meta::Class::__ANON__::SERIAL::1", "roles", ARRAY(0x2fcff08), "weaken", "", "superclasses", ARRAY(0x2171f38)) called at /home/sand/src/perl/repoperls/installed-perls/perl/v5.16.3/165a/lib/site_perl/5.16.3/x86_64-linux/Class/MOP/Package.pm line 126
	Class::MOP::Package::create_anon("Moose::Meta::Class", "superclasses", ARRAY(0x2171f38), "roles", ARRAY(0x2fcff08), "cache", 1) called at /home/sand/src/perl/repoperls/installed-perls/perl/v5.16.3/165a/lib/site_perl/5.16.3/x86_64-linux/Class/MOP/Class.pm line 475
	Class::MOP::Class::create_anon_class("Moose::Meta::Class", "superclasses", ARRAY(0x2171f38), "roles", ARRAY(0x2fcff08), "cache", 1) called at /home/sand/src/perl/repoperls/installed-perls/perl/v5.16.3/165a/lib/site_perl/5.16.3/x86_64-linux/Moose/Util/MetaRole.pm line 113
	Moose::Util::MetaRole::_make_new_class("Moose::Meta::Class", ARRAY(0x2fcff08)) called at /home/sand/src/perl/repoperls/installed-perls/perl/v5.16.3/165a/lib/site_perl/5.16.3/x86_64-linux/Moose/Util/MetaRole.pm line 56
	Moose::Util::MetaRole::_make_new_metaclass(Moose::Meta::Class=HASH(0x21715d8), HASH(0x2f2b388), "class") called at /home/sand/src/perl/repoperls/installed-perls/perl/v5.16.3/165a/lib/site_perl/5.16.3/x86_64-linux/Moose/Util/MetaRole.pm line 26
	Moose::Util::MetaRole::apply_metaroles("for", "Net::HTTP::Spore::Core", "class_metaroles", HASH(0x2f2b388)) called at /home/sand/src/perl/repoperls/installed-perls/perl/v5.16.3/165a/lib/site_perl/5.16.3/Net/HTTP/Spore/Meta.pm line 28
	Net::HTTP::Spore::Meta::init_meta("Net::HTTP::Spore::Meta", "for_class", "Net::HTTP::Spore::Meta::Types", "metaclass", undef, "meta_name", "meta") called at /home/sand/src/perl/repoperls/installed-perls/perl/v5.16.3/165a/lib/site_perl/5.16.3/x86_64-linux/Moose/Exporter.pm line 470
	Moose::Exporter::__ANON__("Net::HTTP::Spore::Meta") called at /home/sand/src/perl/repoperls/installed-perls/perl/v5.16.3/165a/lib/site_perl/5.16.3/Net/HTTP/Spore/Core.pm line 6
	Net::HTTP::Spore::Core::BEGIN() called at /home/sand/src/perl/repoperls/installed-perls/perl/v5.16.3/165a/lib/site_perl/5.16.3/Net/HTTP/Spore/Meta/Types.pm line 0
	eval {...} called at /home/sand/src/perl/repoperls/installed-perls/perl/v5.16.3/165a/lib/site_perl/5.16.3/Net/HTTP/Spore/Meta/Types.pm line 0
	require Net/HTTP/Spore/Core.pm called at /home/sand/src/perl/repoperls/installed-perls/perl/v5.16.3/165a/lib/site_perl/5.16.3/Net/HTTP/Spore.pm line 16
	Net::HTTP::Spore::BEGIN() called at /home/sand/src/perl/repoperls/installed-perls/perl/v5.16.3/165a/lib/site_perl/5.16.3/Net/HTTP/Spore/Meta/Types.pm line 0
	eval {...} called at /home/sand/src/perl/repoperls/installed-perls/perl/v5.16.3/165a/lib/site_perl/5.16.3/Net/HTTP/Spore/Meta/Types.pm line 0
	require Net/HTTP/Spore.pm called at /tmp/loop_over_bdir-712-AZys50/WebService-Pushover-v0.2.0-wxqR2q/blib/lib/WebService/Pushover.pm line 11
	WebService::Pushover::BEGIN() called at /home/sand/src/perl/repoperls/installed-perls/perl/v5.16.3/165a/lib/site_perl/5.16.3/Net/HTTP/Spore/Meta/Types.pm line 0
	eval {...} called at /home/sand/src/perl/repoperls/installed-perls/perl/v5.16.3/165a/lib/site_perl/5.16.3/Net/HTTP/Spore/Meta/Types.pm line 0
	require WebService/Pushover.pm called at t/01.new.t line 3
	main::BEGIN() called at /home/sand/src/perl/repoperls/installed-perls/perl/v5.16.3/165a/lib/site_perl/5.16.3/Net/HTTP/Spore/Meta/Types.pm line 0
	eval {...} called at /home/sand/src/perl/repoperls/installed-perls/perl/v5.16.3/165a/lib/site_perl/5.16.3/Net/HTTP/Spore/Meta/Types.pm line 0
# Testing instantiation of WebService::Pushover object
t/01.new.t ................. ok
Passing a list of values to enum is deprecated. Enum values should be wrapped in an arrayref. at /home/sand/src/perl/repoperls/installed-perls/perl/v5.16.3/165a/lib/site_perl/5.16.3/Net/HTTP/Spore/Meta/Types.pm line 18.
	require Net/HTTP/Spore/Meta/Types.pm called at /home/sand/src/perl/repoperls/installed-perls/perl/v5.16.3/165a/lib/site_perl/5.16.3/Net/HTTP/Spore/Meta/Method.pm line 16
	Net::HTTP::Spore::Meta::Method::BEGIN() called at /home/sand/src/perl/repoperls/installed-perls/perl/v5.16.3/165a/lib/site_perl/5.16.3/Net/HTTP/Spore/Meta/Types.pm line 0
	eval {...} called at /home/sand/src/perl/repoperls/installed-perls/perl/v5.16.3/165a/lib/site_perl/5.16.3/Net/HTTP/Spore/Meta/Types.pm line 0
	require Net/HTTP/Spore/Meta/Method.pm called at /home/sand/src/perl/repoperls/installed-perls/perl/v5.16.3/165a/lib/site_perl/5.16.3/Net/HTTP/Spore/Meta/Method/Spore.pm line 11
	Net::HTTP::Spore::Meta::Method::Spore::BEGIN() called at /home/sand/src/perl/repoperls/installed-perls/perl/v5.16.3/165a/lib/site_perl/5.16.3/Net/HTTP/Spore/Meta/Types.pm line 0
	eval {...} called at /home/sand/src/perl/repoperls/installed-perls/perl/v5.16.3/165a/lib/site_perl/5.16.3/Net/HTTP/Spore/Meta/Types.pm line 0
	require Net/HTTP/Spore/Meta/Method/Spore.pm called at /home/sand/src/perl/repoperls/installed-perls/perl/v5.16.3/165a/lib/site_perl/5.16.3/Module/Runtime.pm line 317
	Module::Runtime::require_module("Net::HTTP::Spore::Meta::Method::Spore") called at /home/sand/src/perl/repoperls/installed-perls/perl/v5.16.3/165a/lib/site_perl/5.16.3/Module/Runtime.pm line 348
	Module::Runtime::use_module("Net::HTTP::Spore::Meta::Method::Spore") called at /home/sand/src/perl/repoperls/installed-perls/perl/v5.16.3/165a/lib/site_perl/5.16.3/x86_64-linux/Moose/Util.pm line 150
	Moose::Util::_apply_all_roles(Moose::Meta::Role=HASH(0x204fcd8), undef, "Net::HTTP::Spore::Meta::Method::Spore") called at /home/sand/src/perl/repoperls/installed-perls/perl/v5.16.3/165a/lib/site_perl/5.16.3/x86_64-linux/Moose/Util.pm line 117
	Moose::Util::apply_all_roles(Moose::Meta::Role=HASH(0x204fcd8), "Net::HTTP::Spore::Meta::Method::Spore") called at /home/sand/src/perl/repoperls/installed-perls/perl/v5.16.3/165a/lib/site_perl/5.16.3/x86_64-linux/Moose/Role.pm line 27
	Moose::Role::with(Moose::Meta::Role=HASH(0x204fcd8), "Net::HTTP::Spore::Meta::Method::Spore") called at /home/sand/src/perl/repoperls/installed-perls/perl/v5.16.3/165a/lib/site_perl/5.16.3/x86_64-linux/Moose/Exporter.pm line 405
	Moose::Role::with("Net::HTTP::Spore::Meta::Method::Spore") called at /home/sand/src/perl/repoperls/installed-perls/perl/v5.16.3/165a/lib/site_perl/5.16.3/Net/HTTP/Spore/Meta/Class.pm line 10
	require Net/HTTP/Spore/Meta/Class.pm called at /home/sand/src/perl/repoperls/installed-perls/perl/v5.16.3/165a/lib/site_perl/5.16.3/Module/Runtime.pm line 317
	Module::Runtime::require_module("Net::HTTP::Spore::Meta::Class") called at /home/sand/src/perl/repoperls/installed-perls/perl/v5.16.3/165a/lib/site_perl/5.16.3/Module/Runtime.pm line 348
	Module::Runtime::use_module("Net::HTTP::Spore::Meta::Class") called at /home/sand/src/perl/repoperls/installed-perls/perl/v5.16.3/165a/lib/site_perl/5.16.3/x86_64-linux/Moose/Util.pm line 150
	Moose::Util::_apply_all_roles(Moose::Meta::Class=HASH(0x204a298), undef, "Net::HTTP::Spore::Meta::Class") called at /home/sand/src/perl/repoperls/installed-perls/perl/v5.16.3/165a/lib/site_perl/5.16.3/x86_64-linux/Moose/Util.pm line 117
	Moose::Util::apply_all_roles(Moose::Meta::Class=HASH(0x204a298), "Net::HTTP::Spore::Meta::Class") called at /home/sand/src/perl/repoperls/installed-perls/perl/v5.16.3/165a/lib/site_perl/5.16.3/x86_64-linux/Moose/Meta/Class.pm line 93
	Moose::Meta::Class::create("Moose::Meta::Class", "Moose::Meta::Class::__ANON__::SERIAL::1", "roles", ARRAY(0x202ad78), "weaken", "", "superclasses", ARRAY(0x11cceb8)) called at /home/sand/src/perl/repoperls/installed-perls/perl/v5.16.3/165a/lib/site_perl/5.16.3/x86_64-linux/Class/MOP/Package.pm line 126
	Class::MOP::Package::create_anon("Moose::Meta::Class", "superclasses", ARRAY(0x11cceb8), "roles", ARRAY(0x202ad78), "cache", 1) called at /home/sand/src/perl/repoperls/installed-perls/perl/v5.16.3/165a/lib/site_perl/5.16.3/x86_64-linux/Class/MOP/Class.pm line 475
	Class::MOP::Class::create_anon_class("Moose::Meta::Class", "superclasses", ARRAY(0x11cceb8), "roles", ARRAY(0x202ad78), "cache", 1) called at /home/sand/src/perl/repoperls/installed-perls/perl/v5.16.3/165a/lib/site_perl/5.16.3/x86_64-linux/Moose/Util/MetaRole.pm line 113
	Moose::Util::MetaRole::_make_new_class("Moose::Meta::Class", ARRAY(0x202ad78)) called at /home/sand/src/perl/repoperls/installed-perls/perl/v5.16.3/165a/lib/site_perl/5.16.3/x86_64-linux/Moose/Util/MetaRole.pm line 56
	Moose::Util::MetaRole::_make_new_metaclass(Moose::Meta::Class=HASH(0x11cc558), HASH(0x1f86208), "class") called at /home/sand/src/perl/repoperls/installed-perls/perl/v5.16.3/165a/lib/site_perl/5.16.3/x86_64-linux/Moose/Util/MetaRole.pm line 26
	Moose::Util::MetaRole::apply_metaroles("for", "Net::HTTP::Spore::Core", "class_metaroles", HASH(0x1f86208)) called at /home/sand/src/perl/repoperls/installed-perls/perl/v5.16.3/165a/lib/site_perl/5.16.3/Net/HTTP/Spore/Meta.pm line 28
	Net::HTTP::Spore::Meta::init_meta("Net::HTTP::Spore::Meta", "for_class", "Net::HTTP::Spore::Meta::Types", "metaclass", undef, "meta_name", "meta") called at /home/sand/src/perl/repoperls/installed-perls/perl/v5.16.3/165a/lib/site_perl/5.16.3/x86_64-linux/Moose/Exporter.pm line 470
	Moose::Exporter::__ANON__("Net::HTTP::Spore::Meta") called at /home/sand/src/perl/repoperls/installed-perls/perl/v5.16.3/165a/lib/site_perl/5.16.3/Net/HTTP/Spore/Core.pm line 6
	Net::HTTP::Spore::Core::BEGIN() called at /home/sand/src/perl/repoperls/installed-perls/perl/v5.16.3/165a/lib/site_perl/5.16.3/Net/HTTP/Spore/Meta/Types.pm line 0
	eval {...} called at /home/sand/src/perl/repoperls/installed-perls/perl/v5.16.3/165a/lib/site_perl/5.16.3/Net/HTTP/Spore/Meta/Types.pm line 0
	require Net/HTTP/Spore/Core.pm called at /home/sand/src/perl/repoperls/installed-perls/perl/v5.16.3/165a/lib/site_perl/5.16.3/Net/HTTP/Spore.pm line 16
	Net::HTTP::Spore::BEGIN() called at /home/sand/src/perl/repoperls/installed-perls/perl/v5.16.3/165a/lib/site_perl/5.16.3/Net/HTTP/Spore/Meta/Types.pm line 0
	eval {...} called at /home/sand/src/perl/repoperls/installed-perls/perl/v5.16.3/165a/lib/site_perl/5.16.3/Net/HTTP/Spore/Meta/Types.pm line 0
	require Net/HTTP/Spore.pm called at /tmp/loop_over_bdir-712-AZys50/WebService-Pushover-v0.2.0-wxqR2q/blib/lib/WebService/Pushover.pm line 11
	WebService::Pushover::BEGIN() called at /home/sand/src/perl/repoperls/installed-perls/perl/v5.16.3/165a/lib/site_perl/5.16.3/Net/HTTP/Spore/Meta/Types.pm line 0
	eval {...} called at /home/sand/src/perl/repoperls/installed-perls/perl/v5.16.3/165a/lib/site_perl/5.16.3/Net/HTTP/Spore/Meta/Types.pm line 0
	require WebService/Pushover.pm called at t/02.methods.t line 3
	main::BEGIN() called at /home/sand/src/perl/repoperls/installed-perls/perl/v5.16.3/165a/lib/site_perl/5.16.3/Net/HTTP/Spore/Meta/Types.pm line 0
	eval {...} called at /home/sand/src/perl/repoperls/installed-perls/perl/v5.16.3/165a/lib/site_perl/5.16.3/Net/HTTP/Spore/Meta/Types.pm line 0
# Testing 0.2.x methods
t/02.methods.t ............. ok
Passing a list of values to enum is deprecated. Enum values should be wrapped in an arrayref. at /home/sand/src/perl/repoperls/installed-perls/perl/v5.16.3/165a/lib/site_perl/5.16.3/Net/HTTP/Spore/Meta/Types.pm line 18.
	require Net/HTTP/Spore/Meta/Types.pm called at /home/sand/src/perl/repoperls/installed-perls/perl/v5.16.3/165a/lib/site_perl/5.16.3/Net/HTTP/Spore/Meta/Method.pm line 16
	Net::HTTP::Spore::Meta::Method::BEGIN() called at /home/sand/src/perl/repoperls/installed-perls/perl/v5.16.3/165a/lib/site_perl/5.16.3/Net/HTTP/Spore/Meta/Types.pm line 0
	eval {...} called at /home/sand/src/perl/repoperls/installed-perls/perl/v5.16.3/165a/lib/site_perl/5.16.3/Net/HTTP/Spore/Meta/Types.pm line 0
	require Net/HTTP/Spore/Meta/Method.pm called at /home/sand/src/perl/repoperls/installed-perls/perl/v5.16.3/165a/lib/site_perl/5.16.3/Net/HTTP/Spore/Meta/Method/Spore.pm line 11
	Net::HTTP::Spore::Meta::Method::Spore::BEGIN() called at /home/sand/src/perl/repoperls/installed-perls/perl/v5.16.3/165a/lib/site_perl/5.16.3/Net/HTTP/Spore/Meta/Types.pm line 0
	eval {...} called at /home/sand/src/perl/repoperls/installed-perls/perl/v5.16.3/165a/lib/site_perl/5.16.3/Net/HTTP/Spore/Meta/Types.pm line 0
	require Net/HTTP/Spore/Meta/Method/Spore.pm called at /home/sand/src/perl/repoperls/installed-perls/perl/v5.16.3/165a/lib/site_perl/5.16.3/Module/Runtime.pm line 317
	Module::Runtime::require_module("Net::HTTP::Spore::Meta::Method::Spore") called at /home/sand/src/perl/repoperls/installed-perls/perl/v5.16.3/165a/lib/site_perl/5.16.3/Module/Runtime.pm line 348
	Module::Runtime::use_module("Net::HTTP::Spore::Meta::Method::Spore") called at /home/sand/src/perl/repoperls/installed-perls/perl/v5.16.3/165a/lib/site_perl/5.16.3/x86_64-linux/Moose/Util.pm line 150
	Moose::Util::_apply_all_roles(Moose::Meta::Role=HASH(0x264ee68), undef, "Net::HTTP::Spore::Meta::Method::Spore") called at /home/sand/src/perl/repoperls/installed-perls/perl/v5.16.3/165a/lib/site_perl/5.16.3/x86_64-linux/Moose/Util.pm line 117
	Moose::Util::apply_all_roles(Moose::Meta::Role=HASH(0x264ee68), "Net::HTTP::Spore::Meta::Method::Spore") called at /home/sand/src/perl/repoperls/installed-perls/perl/v5.16.3/165a/lib/site_perl/5.16.3/x86_64-linux/Moose/Role.pm line 27
	Moose::Role::with(Moose::Meta::Role=HASH(0x264ee68), "Net::HTTP::Spore::Meta::Method::Spore") called at /home/sand/src/perl/repoperls/installed-perls/perl/v5.16.3/165a/lib/site_perl/5.16.3/x86_64-linux/Moose/Exporter.pm line 405
	Moose::Role::with("Net::HTTP::Spore::Meta::Method::Spore") called at /home/sand/src/perl/repoperls/installed-perls/perl/v5.16.3/165a/lib/site_perl/5.16.3/Net/HTTP/Spore/Meta/Class.pm line 10
	require Net/HTTP/Spore/Meta/Class.pm called at /home/sand/src/perl/repoperls/installed-perls/perl/v5.16.3/165a/lib/site_perl/5.16.3/Module/Runtime.pm line 317
	Module::Runtime::require_module("Net::HTTP::Spore::Meta::Class") called at /home/sand/src/perl/repoperls/installed-perls/perl/v5.16.3/165a/lib/site_perl/5.16.3/Module/Runtime.pm line 348
	Module::Runtime::use_module("Net::HTTP::Spore::Meta::Class") called at /home/sand/src/perl/repoperls/installed-perls/perl/v5.16.3/165a/lib/site_perl/5.16.3/x86_64-linux/Moose/Util.pm line 150
	Moose::Util::_apply_all_roles(Moose::Meta::Class=HASH(0x2649428), undef, "Net::HTTP::Spore::Meta::Class") called at /home/sand/src/perl/repoperls/installed-perls/perl/v5.16.3/165a/lib/site_perl/5.16.3/x86_64-linux/Moose/Util.pm line 117
	Moose::Util::apply_all_roles(Moose::Meta::Class=HASH(0x2649428), "Net::HTTP::Spore::Meta::Class") called at /home/sand/src/perl/repoperls/installed-perls/perl/v5.16.3/165a/lib/site_perl/5.16.3/x86_64-linux/Moose/Meta/Class.pm line 93
	Moose::Meta::Class::create("Moose::Meta::Class", "Moose::Meta::Class::__ANON__::SERIAL::1", "roles", ARRAY(0x2629f08), "weaken", "", "superclasses", ARRAY(0x17cbf58)) called at /home/sand/src/perl/repoperls/installed-perls/perl/v5.16.3/165a/lib/site_perl/5.16.3/x86_64-linux/Class/MOP/Package.pm line 126
	Class::MOP::Package::create_anon("Moose::Meta::Class", "superclasses", ARRAY(0x17cbf58), "roles", ARRAY(0x2629f08), "cache", 1) called at /home/sand/src/perl/repoperls/installed-perls/perl/v5.16.3/165a/lib/site_perl/5.16.3/x86_64-linux/Class/MOP/Class.pm line 475
	Class::MOP::Class::create_anon_class("Moose::Meta::Class", "superclasses", ARRAY(0x17cbf58), "roles", ARRAY(0x2629f08), "cache", 1) called at /home/sand/src/perl/repoperls/installed-perls/perl/v5.16.3/165a/lib/site_perl/5.16.3/x86_64-linux/Moose/Util/MetaRole.pm line 113
	Moose::Util::MetaRole::_make_new_class("Moose::Meta::Class", ARRAY(0x2629f08)) called at /home/sand/src/perl/repoperls/installed-perls/perl/v5.16.3/165a/lib/site_perl/5.16.3/x86_64-linux/Moose/Util/MetaRole.pm line 56
	Moose::Util::MetaRole::_make_new_metaclass(Moose::Meta::Class=HASH(0x17cb5f8), HASH(0x2585388), "class") called at /home/sand/src/perl/repoperls/installed-perls/perl/v5.16.3/165a/lib/site_perl/5.16.3/x86_64-linux/Moose/Util/MetaRole.pm line 26
	Moose::Util::MetaRole::apply_metaroles("for", "Net::HTTP::Spore::Core", "class_metaroles", HASH(0x2585388)) called at /home/sand/src/perl/repoperls/installed-perls/perl/v5.16.3/165a/lib/site_perl/5.16.3/Net/HTTP/Spore/Meta.pm line 28
	Net::HTTP::Spore::Meta::init_meta("Net::HTTP::Spore::Meta", "for_class", "Net::HTTP::Spore::Meta::Types", "metaclass", undef, "meta_name", "meta") called at /home/sand/src/perl/repoperls/installed-perls/perl/v5.16.3/165a/lib/site_perl/5.16.3/x86_64-linux/Moose/Exporter.pm line 470
	Moose::Exporter::__ANON__("Net::HTTP::Spore::Meta") called at /home/sand/src/perl/repoperls/installed-perls/perl/v5.16.3/165a/lib/site_perl/5.16.3/Net/HTTP/Spore/Core.pm line 6
	Net::HTTP::Spore::Core::BEGIN() called at /home/sand/src/perl/repoperls/installed-perls/perl/v5.16.3/165a/lib/site_perl/5.16.3/Net/HTTP/Spore/Meta/Types.pm line 0
	eval {...} called at /home/sand/src/perl/repoperls/installed-perls/perl/v5.16.3/165a/lib/site_perl/5.16.3/Net/HTTP/Spore/Meta/Types.pm line 0
	require Net/HTTP/Spore/Core.pm called at /home/sand/src/perl/repoperls/installed-perls/perl/v5.16.3/165a/lib/site_perl/5.16.3/Net/HTTP/Spore.pm line 16
	Net::HTTP::Spore::BEGIN() called at /home/sand/src/perl/repoperls/installed-perls/perl/v5.16.3/165a/lib/site_perl/5.16.3/Net/HTTP/Spore/Meta/Types.pm line 0
	eval {...} called at /home/sand/src/perl/repoperls/installed-perls/perl/v5.16.3/165a/lib/site_perl/5.16.3/Net/HTTP/Spore/Meta/Types.pm line 0
	require Net/HTTP/Spore.pm called at /tmp/loop_over_bdir-712-AZys50/WebService-Pushover-v0.2.0-wxqR2q/blib/lib/WebService/Pushover.pm line 11
	WebService::Pushover::BEGIN() called at /home/sand/src/perl/repoperls/installed-perls/perl/v5.16.3/165a/lib/site_perl/5.16.3/Net/HTTP/Spore/Meta/Types.pm line 0
	eval {...} called at /home/sand/src/perl/repoperls/installed-perls/perl/v5.16.3/165a/lib/site_perl/5.16.3/Net/HTTP/Spore/Meta/Types.pm line 0
	require WebService/Pushover.pm called at t/02.methods_deprecated.t line 3
	main::BEGIN() called at /home/sand/src/perl/repoperls/installed-perls/perl/v5.16.3/165a/lib/site_perl/5.16.3/Net/HTTP/Spore/Meta/Types.pm line 0
	eval {...} called at /home/sand/src/perl/repoperls/installed-perls/perl/v5.16.3/165a/lib/site_perl/5.16.3/Net/HTTP/Spore/Meta/Types.pm line 0
# Testing 0.0.x methods
t/02.methods_deprecated.t .. ok
Passing a list of values to enum is deprecated. Enum values should be wrapped in an arrayref. at /home/sand/src/perl/repoperls/installed-perls/perl/v5.16.3/165a/lib/site_perl/5.16.3/Net/HTTP/Spore/Meta/Types.pm line 18.
	require Net/HTTP/Spore/Meta/Types.pm called at /home/sand/src/perl/repoperls/installed-perls/perl/v5.16.3/165a/lib/site_perl/5.16.3/Net/HTTP/Spore/Meta/Method.pm line 16
	Net::HTTP::Spore::Meta::Method::BEGIN() called at /home/sand/src/perl/repoperls/installed-perls/perl/v5.16.3/165a/lib/site_perl/5.16.3/Net/HTTP/Spore/Meta/Types.pm line 0
	eval {...} called at /home/sand/src/perl/repoperls/installed-perls/perl/v5.16.3/165a/lib/site_perl/5.16.3/Net/HTTP/Spore/Meta/Types.pm line 0
	require Net/HTTP/Spore/Meta/Method.pm called at /home/sand/src/perl/repoperls/installed-perls/perl/v5.16.3/165a/lib/site_perl/5.16.3/Net/HTTP/Spore/Meta/Method/Spore.pm line 11
	Net::HTTP::Spore::Meta::Method::Spore::BEGIN() called at /home/sand/src/perl/repoperls/installed-perls/perl/v5.16.3/165a/lib/site_perl/5.16.3/Net/HTTP/Spore/Meta/Types.pm line 0
	eval {...} called at /home/sand/src/perl/repoperls/installed-perls/perl/v5.16.3/165a/lib/site_perl/5.16.3/Net/HTTP/Spore/Meta/Types.pm line 0
	require Net/HTTP/Spore/Meta/Method/Spore.pm called at /home/sand/src/perl/repoperls/installed-perls/perl/v5.16.3/165a/lib/site_perl/5.16.3/Module/Runtime.pm line 317
	Module::Runtime::require_module("Net::HTTP::Spore::Meta::Method::Spore") called at /home/sand/src/perl/repoperls/installed-perls/perl/v5.16.3/165a/lib/site_perl/5.16.3/Module/Runtime.pm line 348
	Module::Runtime::use_module("Net::HTTP::Spore::Meta::Method::Spore") called at /home/sand/src/perl/repoperls/installed-perls/perl/v5.16.3/165a/lib/site_perl/5.16.3/x86_64-linux/Moose/Util.pm line 150
	Moose::Util::_apply_all_roles(Moose::Meta::Role=HASH(0x2111e68), undef, "Net::HTTP::Spore::Meta::Method::Spore") called at /home/sand/src/perl/repoperls/installed-perls/perl/v5.16.3/165a/lib/site_perl/5.16.3/x86_64-linux/Moose/Util.pm line 117
	Moose::Util::apply_all_roles(Moose::Meta::Role=HASH(0x2111e68), "Net::HTTP::Spore::Meta::Method::Spore") called at /home/sand/src/perl/repoperls/installed-perls/perl/v5.16.3/165a/lib/site_perl/5.16.3/x86_64-linux/Moose/Role.pm line 27
	Moose::Role::with(Moose::Meta::Role=HASH(0x2111e68), "Net::HTTP::Spore::Meta::Method::Spore") called at /home/sand/src/perl/repoperls/installed-perls/perl/v5.16.3/165a/lib/site_perl/5.16.3/x86_64-linux/Moose/Exporter.pm line 405
	Moose::Role::with("Net::HTTP::Spore::Meta::Method::Spore") called at /home/sand/src/perl/repoperls/installed-perls/perl/v5.16.3/165a/lib/site_perl/5.16.3/Net/HTTP/Spore/Meta/Class.pm line 10
	require Net/HTTP/Spore/Meta/Class.pm called at /home/sand/src/perl/repoperls/installed-perls/perl/v5.16.3/165a/lib/site_perl/5.16.3/Module/Runtime.pm line 317
	Module::Runtime::require_module("Net::HTTP::Spore::Meta::Class") called at /home/sand/src/perl/repoperls/installed-perls/perl/v5.16.3/165a/lib/site_perl/5.16.3/Module/Runtime.pm line 348
	Module::Runtime::use_module("Net::HTTP::Spore::Meta::Class") called at /home/sand/src/perl/repoperls/installed-perls/perl/v5.16.3/165a/lib/site_perl/5.16.3/x86_64-linux/Moose/Util.pm line 150
	Moose::Util::_apply_all_roles(Moose::Meta::Class=HASH(0x210c428), undef, "Net::HTTP::Spore::Meta::Class") called at /home/sand/src/perl/repoperls/installed-perls/perl/v5.16.3/165a/lib/site_perl/5.16.3/x86_64-linux/Moose/Util.pm line 117
	Moose::Util::apply_all_roles(Moose::Meta::Class=HASH(0x210c428), "Net::HTTP::Spore::Meta::Class") called at /home/sand/src/perl/repoperls/installed-perls/perl/v5.16.3/165a/lib/site_perl/5.16.3/x86_64-linux/Moose/Meta/Class.pm line 93
	Moose::Meta::Class::create("Moose::Meta::Class", "Moose::Meta::Class::__ANON__::SERIAL::1", "roles", ARRAY(0x20ecf08), "weaken", "", "superclasses", ARRAY(0x128ef38)) called at /home/sand/src/perl/repoperls/installed-perls/perl/v5.16.3/165a/lib/site_perl/5.16.3/x86_64-linux/Class/MOP/Package.pm line 126
	Class::MOP::Package::create_anon("Moose::Meta::Class", "superclasses", ARRAY(0x128ef38), "roles", ARRAY(0x20ecf08), "cache", 1) called at /home/sand/src/perl/repoperls/installed-perls/perl/v5.16.3/165a/lib/site_perl/5.16.3/x86_64-linux/Class/MOP/Class.pm line 475
	Class::MOP::Class::create_anon_class("Moose::Meta::Class", "superclasses", ARRAY(0x128ef38), "roles", ARRAY(0x20ecf08), "cache", 1) called at /home/sand/src/perl/repoperls/installed-perls/perl/v5.16.3/165a/lib/site_perl/5.16.3/x86_64-linux/Moose/Util/MetaRole.pm line 113
	Moose::Util::MetaRole::_make_new_class("Moose::Meta::Class", ARRAY(0x20ecf08)) called at /home/sand/src/perl/repoperls/installed-perls/perl/v5.16.3/165a/lib/site_perl/5.16.3/x86_64-linux/Moose/Util/MetaRole.pm line 56
	Moose::Util::MetaRole::_make_new_metaclass(Moose::Meta::Class=HASH(0x128e5d8), HASH(0x2048388), "class") called at /home/sand/src/perl/repoperls/installed-perls/perl/v5.16.3/165a/lib/site_perl/5.16.3/x86_64-linux/Moose/Util/MetaRole.pm line 26
	Moose::Util::MetaRole::apply_metaroles("for", "Net::HTTP::Spore::Core", "class_metaroles", HASH(0x2048388)) called at /home/sand/src/perl/repoperls/installed-perls/perl/v5.16.3/165a/lib/site_perl/5.16.3/Net/HTTP/Spore/Meta.pm line 28
	Net::HTTP::Spore::Meta::init_meta("Net::HTTP::Spore::Meta", "for_class", "Net::HTTP::Spore::Meta::Types", "metaclass", undef, "meta_name", "meta") called at /home/sand/src/perl/repoperls/installed-perls/perl/v5.16.3/165a/lib/site_perl/5.16.3/x86_64-linux/Moose/Exporter.pm line 470
	Moose::Exporter::__ANON__("Net::HTTP::Spore::Meta") called at /home/sand/src/perl/repoperls/installed-perls/perl/v5.16.3/165a/lib/site_perl/5.16.3/Net/HTTP/Spore/Core.pm line 6
	Net::HTTP::Spore::Core::BEGIN() called at /home/sand/src/perl/repoperls/installed-perls/perl/v5.16.3/165a/lib/site_perl/5.16.3/Net/HTTP/Spore/Meta/Types.pm line 0
	eval {...} called at /home/sand/src/perl/repoperls/installed-perls/perl/v5.16.3/165a/lib/site_perl/5.16.3/Net/HTTP/Spore/Meta/Types.pm line 0
	require Net/HTTP/Spore/Core.pm called at /home/sand/src/perl/repoperls/installed-perls/perl/v5.16.3/165a/lib/site_perl/5.16.3/Net/HTTP/Spore.pm line 16
	Net::HTTP::Spore::BEGIN() called at /home/sand/src/perl/repoperls/installed-perls/perl/v5.16.3/165a/lib/site_perl/5.16.3/Net/HTTP/Spore/Meta/Types.pm line 0
	eval {...} called at /home/sand/src/perl/repoperls/installed-perls/perl/v5.16.3/165a/lib/site_perl/5.16.3/Net/HTTP/Spore/Meta/Types.pm line 0
	require Net/HTTP/Spore.pm called at /tmp/loop_over_bdir-712-AZys50/WebService-Pushover-v0.2.0-wxqR2q/blib/lib/WebService/Pushover.pm line 11
	WebService::Pushover::BEGIN() called at /home/sand/src/perl/repoperls/installed-perls/perl/v5.16.3/165a/lib/site_perl/5.16.3/Net/HTTP/Spore/Meta/Types.pm line 0
	eval {...} called at /home/sand/src/perl/repoperls/installed-perls/perl/v5.16.3/165a/lib/site_perl/5.16.3/Net/HTTP/Spore/Meta/Types.pm line 0
	require WebService/Pushover.pm called at t/03.spore.t line 3
	main::BEGIN() called at /home/sand/src/perl/repoperls/installed-perls/perl/v5.16.3/165a/lib/site_perl/5.16.3/Net/HTTP/Spore/Meta/Types.pm line 0
	eval {...} called at /home/sand/src/perl/repoperls/installed-perls/perl/v5.16.3/165a/lib/site_perl/5.16.3/Net/HTTP/Spore/Meta/Types.pm line 0
# Testing instantiation of Net::HTTP::Spore object
t/03.spore.t ............... ok
Passing a list of values to enum is deprecated. Enum values should be wrapped in an arrayref. at /home/sand/src/perl/repoperls/installed-perls/perl/v5.16.3/165a/lib/site_perl/5.16.3/Net/HTTP/Spore/Meta/Types.pm line 18.
	require Net/HTTP/Spore/Meta/Types.pm called at /home/sand/src/perl/repoperls/installed-perls/perl/v5.16.3/165a/lib/site_perl/5.16.3/Net/HTTP/Spore/Meta/Method.pm line 16
	Net::HTTP::Spore::Meta::Method::BEGIN() called at /home/sand/src/perl/repoperls/installed-perls/perl/v5.16.3/165a/lib/site_perl/5.16.3/Net/HTTP/Spore/Meta/Types.pm line 0
	eval {...} called at /home/sand/src/perl/repoperls/installed-perls/perl/v5.16.3/165a/lib/site_perl/5.16.3/Net/HTTP/Spore/Meta/Types.pm line 0
	require Net/HTTP/Spore/Meta/Method.pm called at /home/sand/src/perl/repoperls/installed-perls/perl/v5.16.3/165a/lib/site_perl/5.16.3/Net/HTTP/Spore/Meta/Method/Spore.pm line 11
	Net::HTTP::Spore::Meta::Method::Spore::BEGIN() called at /home/sand/src/perl/repoperls/installed-perls/perl/v5.16.3/165a/lib/site_perl/5.16.3/Net/HTTP/Spore/Meta/Types.pm line 0
	eval {...} called at /home/sand/src/perl/repoperls/installed-perls/perl/v5.16.3/165a/lib/site_perl/5.16.3/Net/HTTP/Spore/Meta/Types.pm line 0
	require Net/HTTP/Spore/Meta/Method/Spore.pm called at /home/sand/src/perl/repoperls/installed-perls/perl/v5.16.3/165a/lib/site_perl/5.16.3/Module/Runtime.pm line 317
	Module::Runtime::require_module("Net::HTTP::Spore::Meta::Method::Spore") called at /home/sand/src/perl/repoperls/installed-perls/perl/v5.16.3/165a/lib/site_perl/5.16.3/Module/Runtime.pm line 348
	Module::Runtime::use_module("Net::HTTP::Spore::Meta::Method::Spore") called at /home/sand/src/perl/repoperls/installed-perls/perl/v5.16.3/165a/lib/site_perl/5.16.3/x86_64-linux/Moose/Util.pm line 150
	Moose::Util::_apply_all_roles(Moose::Meta::Role=HASH(0x2724e98), undef, "Net::HTTP::Spore::Meta::Method::Spore") called at /home/sand/src/perl/repoperls/installed-perls/perl/v5.16.3/165a/lib/site_perl/5.16.3/x86_64-linux/Moose/Util.pm line 117
	Moose::Util::apply_all_roles(Moose::Meta::Role=HASH(0x2724e98), "Net::HTTP::Spore::Meta::Method::Spore") called at /home/sand/src/perl/repoperls/installed-perls/perl/v5.16.3/165a/lib/site_perl/5.16.3/x86_64-linux/Moose/Role.pm line 27
	Moose::Role::with(Moose::Meta::Role=HASH(0x2724e98), "Net::HTTP::Spore::Meta::Method::Spore") called at /home/sand/src/perl/repoperls/installed-perls/perl/v5.16.3/165a/lib/site_perl/5.16.3/x86_64-linux/Moose/Exporter.pm line 405
	Moose::Role::with("Net::HTTP::Spore::Meta::Method::Spore") called at /home/sand/src/perl/repoperls/installed-perls/perl/v5.16.3/165a/lib/site_perl/5.16.3/Net/HTTP/Spore/Meta/Class.pm line 10
	require Net/HTTP/Spore/Meta/Class.pm called at /home/sand/src/perl/repoperls/installed-perls/perl/v5.16.3/165a/lib/site_perl/5.16.3/Module/Runtime.pm line 317
	Module::Runtime::require_module("Net::HTTP::Spore::Meta::Class") called at /home/sand/src/perl/repoperls/installed-perls/perl/v5.16.3/165a/lib/site_perl/5.16.3/Module/Runtime.pm line 348
	Module::Runtime::use_module("Net::HTTP::Spore::Meta::Class") called at /home/sand/src/perl/repoperls/installed-perls/perl/v5.16.3/165a/lib/site_perl/5.16.3/x86_64-linux/Moose/Util.pm line 150
	Moose::Util::_apply_all_roles(Moose::Meta::Class=HASH(0x271a528), undef, "Net::HTTP::Spore::Meta::Class") called at /home/sand/src/perl/repoperls/installed-perls/perl/v5.16.3/165a/lib/site_perl/5.16.3/x86_64-linux/Moose/Util.pm line 117
	Moose::Util::apply_all_roles(Moose::Meta::Class=HASH(0x271a528), "Net::HTTP::Spore::Meta::Class") called at /home/sand/src/perl/repoperls/installed-perls/perl/v5.16.3/165a/lib/site_perl/5.16.3/x86_64-linux/Moose/Meta/Class.pm line 94
	Moose::Meta::Class::create("Moose::Meta::Class", "Moose::Meta::Class::__ANON__::SERIAL::1", "roles", ARRAY(0x262f6a0), "weaken", "", "superclasses", ARRAY(0x195b698)) called at /home/sand/src/perl/repoperls/installed-perls/perl/v5.16.3/165a/lib/site_perl/5.16.3/x86_64-linux/Class/MOP/Package.pm line 126
	Class::MOP::Package::create_anon("Moose::Meta::Class", "superclasses", ARRAY(0x195b698), "roles", ARRAY(0x262f6a0), "cache", 1) called at /home/sand/src/perl/repoperls/installed-perls/perl/v5.16.3/165a/lib/site_perl/5.16.3/x86_64-linux/Class/MOP/Class.pm line 475
	Class::MOP::Class::create_anon_class("Moose::Meta::Class", "superclasses", ARRAY(0x195b698), "roles", ARRAY(0x262f6a0), "cache", 1) called at /home/sand/src/perl/repoperls/installed-perls/perl/v5.16.3/165a/lib/site_perl/5.16.3/x86_64-linux/Moose/Util/MetaRole.pm line 113
	Moose::Util::MetaRole::_make_new_class("Moose::Meta::Class", ARRAY(0x262f6a0)) called at /home/sand/src/perl/repoperls/installed-perls/perl/v5.16.3/165a/lib/site_perl/5.16.3/x86_64-linux/Moose/Util/MetaRole.pm line 56
	Moose::Util::MetaRole::_make_new_metaclass(Moose::Meta::Class=HASH(0x195b458), HASH(0x26fadc8), "class") called at /home/sand/src/perl/repoperls/installed-perls/perl/v5.16.3/165a/lib/site_perl/5.16.3/x86_64-linux/Moose/Util/MetaRole.pm line 26
	Moose::Util::MetaRole::apply_metaroles("for", "Net::HTTP::Spore::Core", "class_metaroles", HASH(0x26fadc8)) called at /home/sand/src/perl/repoperls/installed-perls/perl/v5.16.3/165a/lib/site_perl/5.16.3/Net/HTTP/Spore/Meta.pm line 28
	Net::HTTP::Spore::Meta::init_meta("Net::HTTP::Spore::Meta", "for_class", "Net::HTTP::Spore::Meta::Types", "metaclass", undef, "meta_name", "meta") called at /home/sand/src/perl/repoperls/installed-perls/perl/v5.16.3/165a/lib/site_perl/5.16.3/x86_64-linux/Moose/Exporter.pm line 470
	Moose::Exporter::__ANON__("Net::HTTP::Spore::Meta") called at /home/sand/src/perl/repoperls/installed-perls/perl/v5.16.3/165a/lib/site_perl/5.16.3/Net/HTTP/Spore/Core.pm line 6
	Net::HTTP::Spore::Core::BEGIN() called at /home/sand/src/perl/repoperls/installed-perls/perl/v5.16.3/165a/lib/site_perl/5.16.3/Net/HTTP/Spore/Meta/Types.pm line 0
	eval {...} called at /home/sand/src/perl/repoperls/installed-perls/perl/v5.16.3/165a/lib/site_perl/5.16.3/Net/HTTP/Spore/Meta/Types.pm line 0
	require Net/HTTP/Spore/Core.pm called at /home/sand/src/perl/repoperls/installed-perls/perl/v5.16.3/165a/lib/site_perl/5.16.3/Net/HTTP/Spore.pm line 16
	Net::HTTP::Spore::BEGIN() called at /home/sand/src/perl/repoperls/installed-perls/perl/v5.16.3/165a/lib/site_perl/5.16.3/Net/HTTP/Spore/Meta/Types.pm line 0
	eval {...} called at /home/sand/src/perl/repoperls/installed-perls/perl/v5.16.3/165a/lib/site_perl/5.16.3/Net/HTTP/Spore/Meta/Types.pm line 0
	require Net/HTTP/Spore.pm called at /tmp/loop_over_bdir-712-AZys50/WebService-Pushover-v0.2.0-wxqR2q/blib/lib/WebService/Pushover.pm line 11
	WebService::Pushover::BEGIN() called at /home/sand/src/perl/repoperls/installed-perls/perl/v5.16.3/165a/lib/site_perl/5.16.3/Net/HTTP/Spore/Meta/Types.pm line 0
	eval {...} called at /home/sand/src/perl/repoperls/installed-perls/perl/v5.16.3/165a/lib/site_perl/5.16.3/Net/HTTP/Spore/Meta/Types.pm line 0
	require WebService/Pushover.pm called at (eval 12) line 2
	eval ' require WebService::Pushover 
;' called at /home/sand/src/perl/repoperls/installed-perls/perl/v5.16.3/165a/lib/site_perl/5.16.3/Pod/Coverage.pm line 308
	Pod::Coverage::_get_syms(Pod::Coverage=HASH(0x13e8fb0), "WebService::Pushover") called at /home/sand/src/perl/repoperls/installed-perls/perl/v5.16.3/165a/lib/site_perl/5.16.3/Pod/Coverage.pm line 152
	Pod::Coverage::coverage(Pod::Coverage=HASH(0x13e8fb0)) called at /home/sand/src/perl/repoperls/installed-perls/perl/v5.16.3/165a/lib/site_perl/5.16.3/Test/Pod/Coverage.pm line 162
	Test::Pod::Coverage::pod_coverage_ok("WebService::Pushover", HASH(0x13fb808), "Pod coverage on WebService::Pushover") called at /home/sand/src/perl/repoperls/installed-perls/perl/v5.16.3/165a/lib/site_perl/5.16.3/Test/Pod/Coverage.pm line 126
	Test::Pod::Coverage::all_pod_coverage_ok() called at t/pod-coverage.t line 6
t/pod-coverage.t ........... ok
t/pod.t .................... ok
All tests successful.
Files=7, Tests=10, 12 wallclock secs ( 0.04 usr  0.00 sys +  4.09 cusr  0.28 csys =  4.41 CPU)
Result: PASS

------------------------------
PREREQUISITES
------------------------------

Prerequisite modules loaded:

requires:

    Module                               Need  Have     
    ------------------------------------ ----- ---------
    DateTime                             0     1.08     
    DateTime::Format::Strptime           0     1.54     
    File::Spec                           0     3.40     
    Moo                                  0     1.004_003
    Net::HTTP::Spore                     0     0.06     
    Net::HTTP::Spore::Middleware::Header 0     0.03     
    Params::Validate                     0     1.08     
    perl                                 5.008 5.016003 
    Readonly                             0     1.04     
    URI                                  0     1.60     
    version                              0     0.9908   

build_requires:

    Module                               Need  Have     
    ------------------------------------ ----- ---------
    Test::More                           0     1.001003 
    Test::Perl::Critic                   0     1.02     
    Test::Pod                            1.14  1.48     
    Test::Pod::Coverage                  1.04  1.08     

configure_requires:

    Module                               Need  Have     
    ------------------------------------ ----- ---------
    Module::Build                        0.38  0.4205   


------------------------------
ENVIRONMENT AND OTHER CONTEXT
------------------------------

Environment variables:

    AUTOMATED_TESTING = 1
    LANG = en_US.UTF-8
    LANGUAGE = en_US:en
    PATH = /usr/lib/ccache:/home/sand/bin:/usr/local/bin:/usr/bin:/bin:/usr/games:/usr/local/perl/bin:/usr/X11/bin:/sbin:/usr/sbin
    PERL5LIB = 
    PERL5OPT = 
    PERL5_CPANPLUS_IS_RUNNING = 715
    PERL5_CPAN_IS_RUNNING = 715
    PERL_MM_USE_DEFAULT = 1
    SHELL = /usr/bin/zsh
    TERM = screen

Perl special variables (and OS-specific diagnostics, for MSWin32):

    $^X = /home/sand/src/perl/repoperls/installed-perls/perl/v5.16.3/165a/bin/perl
    $UID/$EUID = 1005 / 1005
    $GID = 1005 1005
    $EGID = 1005 1005

Perl module toolchain versions installed:

    Module              Have    
    ------------------- --------
    CPAN                2.05    
    CPAN::Meta          2.140640
    Cwd                 3.40    
    ExtUtils::CBuilder  0.280216
    ExtUtils::Command   1.17    
    ExtUtils::Install   1.67    
    ExtUtils::MakeMaker 6.97_02 
    ExtUtils::Manifest  1.61    
    ExtUtils::ParseXS   3.24    
    File::Spec          3.40    
    JSON                2.90    
    JSON::PP            2.27203 
    Module::Build       0.4205  
    Module::Signature   0.73    
    Parse::CPAN::Meta   1.4414  
    Test::Harness       3.30    
    Test::More          1.001003
    YAML                0.90    
    YAML::Syck          1.27    
    version             0.9908  


--

Summary of my perl5 (revision 5 version 16 subversion 3) configuration:
  Commit id: fd04d42d38f4751b981eb6e9213ee1ab8ef11ea6
  Platform:
    osname=linux, osvers=3.13-1-amd64, archname=x86_64-linux
    uname='linux k83 3.13-1-amd64 #1 smp debian 3.13.7-1 (2014-03-25) x86_64 gnulinux '
    config_args='-Dprefix=/home/sand/src/perl/repoperls/installed-perls/perl/v5.16.3/165a -Dmyhostname=k83 -Dinstallusrbinperl=n -Uversiononly -Dusedevel -des -Ui_db -Uuseithreads -Uuselongdouble -DDEBUGGING=-g'
    hint=recommended, useposix=true, d_sigaction=define
    useithreads=undef, usemultiplicity=undef
    useperlio=define, d_sfio=undef, uselargefiles=define, usesocks=undef
    use64bitint=define, use64bitall=define, uselongdouble=undef
    usemymalloc=n, bincompat5005=undef
  Compiler:
    cc='cc', ccflags ='-fno-strict-aliasing -pipe -fstack-protector -I/usr/local/include -D_LARGEFILE_SOURCE -D_FILE_OFFSET_BITS=64',
    optimize='-O2 -g',
    cppflags='-fno-strict-aliasing -pipe -fstack-protector -I/usr/local/include'
    ccversion='', gccversion='4.8.2', gccosandvers=''
    intsize=4, longsize=8, ptrsize=8, doublesize=8, byteorder=12345678
    d_longlong=define, longlongsize=8, d_longdbl=define, longdblsize=16
    ivtype='long', ivsize=8, nvtype='double', nvsize=8, Off_t='off_t', lseeksize=8
    alignbytes=8, prototype=define
  Linker and Libraries:
    ld='cc', ldflags =' -fstack-protector -L/usr/local/lib'
    libpth=/usr/local/lib /lib/x86_64-linux-gnu /lib/../lib /usr/lib/x86_64-linux-gnu /usr/lib/../lib /lib /usr/lib
    libs=-lnsl -lgdbm -ldb -ldl -lm -lcrypt -lutil -lc -lgdbm_compat
    perllibs=-lnsl -ldl -lm -lcrypt -lutil -lc
    libc=, so=so, useshrplib=false, libperl=libperl.a
    gnulibc_version='2.18'
  Dynamic Linking:
    dlsrc=dl_dlopen.xs, dlext=so, d_dlsymun=undef, ccdlflags='-Wl,-E'
    cccdlflags='-fPIC', lddlflags='-shared -O2 -g -L/usr/local/lib -fstack-protector'


Characteristics of this binary (from libperl): 
  Compile-time options: HAS_TIMES PERLIO_LAYERS PERL_DONT_CREATE_GVSV
                        PERL_MALLOC_WRAP PERL_PRESERVE_IVUV PERL_USE_DEVEL
                        USE_64_BIT_ALL USE_64_BIT_INT USE_LARGE_FILES
                        USE_LOCALE USE_LOCALE_COLLATE USE_LOCALE_CTYPE
                        USE_LOCALE_NUMERIC USE_PERLIO USE_PERL_ATOF
  Built under linux
  Compiled at Apr  2 2014 15:16:03
  %ENV:
    PERL5LIB=""
    PERL5OPT=""
    PERL5_CPANPLUS_IS_RUNNING="715"
    PERL5_CPAN_IS_RUNNING="715"
    PERL_MM_USE_DEFAULT="1"
  @INC:
    /home/sand/src/perl/repoperls/installed-perls/perl/v5.16.3/165a/lib/site_perl/5.16.3/x86_64-linux
    /home/sand/src/perl/repoperls/installed-perls/perl/v5.16.3/165a/lib/site_perl/5.16.3
    /home/sand/src/perl/repoperls/installed-perls/perl/v5.16.3/165a/lib/5.16.3/x86_64-linux
    /home/sand/src/perl/repoperls/installed-perls/perl/v5.16.3/165a/lib/5.16.3
    .