Astro-FITS-CFITSIO v1.18 Perl 5 v5.38.4 x86_64-linux-thread-multi
- Status
- Pass
- From
- Andreas J. König (ANDK)
- Dist
-
Astro-FITS-CFITSIO v1.18
- Platform
- Perl 5 v5.38.4 x86_64-linux-thread-multi
- Date
- 2025-04-19 16:47:29
- ID
- fb0c39f4-1d3d-11f0-842e-ead50ad0d4dd
This distribution has been tested as part of the CPAN Testers
project, supporting the Perl programming language. See
http://wiki.cpantesters.org/ for more information or email
questions to cpan-testers-discuss@perl.org
--
Dear Pete Ratzlaff,
This is a computer-generated report for Astro-FITS-CFITSIO-1.18
on perl 5.38.4, created by CPAN-Reporter-1.2020.
Thank you for uploading your work to CPAN. Congratulations!
All tests were successful.
Sections of this report:
* Tester comments
* Program output
* Prerequisites
* Environment and other context
------------------------------
TESTER COMMENTS
------------------------------
Additional comments from tester:
this report is from an automated smoke testing program
and was not reviewed by a human for accuracy
------------------------------
PROGRAM OUTPUT
------------------------------
Output from '/usr/bin/make test':
"/home/sand/src/perl/repoperls/installed-perls/host/k93msid/v5.38.4/1e0c/bin/perl" -MExtUtils::Command::MM -e 'cp_nonempty' -- CFITSIO.bs blib/arch/auto/Astro/FITS/CFITSIO/CFITSIO.bs 644
PERL_DL_NONLAZY=1 "/home/sand/src/perl/repoperls/installed-perls/host/k93msid/v5.38.4/1e0c/bin/perl" "-Iblib/lib" "-Iblib/arch" test.pl
Loading................................ok
ffgknm.................................ok
ffvers.................................ok
ffopen.................................
STATUS = 104
ok
ffinit.................................ok
ffflnm.................................ok
ffflmd.................................ok
ffphps.................................ok
ffprec.................................ok
ffpkys/ffgkey..........................ok
ffpkys/ffgkey..........................ok
ffpkys/ffgkey..........................ok
ffpkys/ffgkey..........................ok
ffpkys.................................ok
ffpkyl.................................ok
ffpkyj.................................ok
ffpkyf.................................ok
ffpkye.................................ok
ffpkyg.................................ok
ffpkyd.................................ok
ffpkyc.................................ok
ffpkym.................................ok
ffpkfc.................................ok
ffpkfm.................................ok
ffpkls.................................ok
ffplsw.................................ok
ffpkyt.................................ok
ffpcom.................................ok
ffphis.................................ok
ffpdat.................................ok
ffpkns.................................ok
ffpknl.................................ok
ffpknj.................................ok
ffpknf.................................ok
ffpkne.................................ok
ffpkng.................................ok
ffpknd.................................ok
ffpky/TSTRING..........................ok
ffpky/TLOGICAL.........................ok
ffpky/TBYTE............................ok
ffpky/TSHORT...........................ok
ffpky/TINT.............................ok
ffpky/TLONG............................ok
ffpky/TFLOAT...........................ok
ffpky/TDOUBLE..........................ok
ffpkyj.................................ok
ffpprX.................................ok
ffflus.................................ok
ffghdn.................................ok
ffpprb/ffgpvb..........................ok
ffppri/ffgpvi..........................ok
ffpprj/ffgpvj..........................ok
ffppre/ffgpve..........................ok
ffpprd/ffgpvd..........................ok
ffpprb/ffgpfb..........................ok
ffppri/ffgpfi..........................ok
ffpprj/ffgpfj..........................ok
ffppre/ffgpfe..........................ok
ffpprd/ffgpfd..........................ok
ffclos/ffopen (10 times)...............ok
filehandle assign......................ok
filehandle assign close................ok
filehandle assign pass.................ok
filehandle assign......................ok
post assign DESTROY check..............ok
PerlyUnpacking set.....................ok
fptr->perlyunpacking init..............ok
fptr->perlyunpacking == -1.............ok
fptr->perlyunpacking(0)................ok
fptr->perlyunpacking(1)................ok
fptr->perlyunpacking(-1)...............ok
ffghdn.................................ok
ffflnm.................................ok
ffflmd.................................ok
ffghpr.................................ok
ffgrec.................................ok
ffgkyn.................................ok
ffgcrd.................................ok
ffgkey.................................ok
ffgkys.................................ok
ffgkyl.................................ok
ffgkyj.................................ok
ffgkye.................................ok
ffgkyd.................................ok
ffgky/TSTRING..........................ok
ffgky/TLOGICAL.........................ok
ffgky/TBYTE............................ok
ffgky/TSHORT...........................ok
ffgky/TINT.............................ok
ffgky/TLONG............................ok
ffgky/TFLOAT...........................ok
ffgky/TDOUBLE..........................ok
ffgkyd.................................ok
ffgkyd.................................ok
ffgkyd.................................ok
ffgkyc.................................ok
ffgkyc.................................ok
ffgkym.................................ok
ffgkym.................................ok
ffgkyt.................................ok
ffpunt/ffgunt..........................ok
ffpunt/ffgunt..........................ok
ffpunt/ffgunt..........................ok
ffgkls.................................ok
ffgkns.................................ok
ffgknl.................................ok
ffgknj.................................ok
ffgkne.................................ok
ffgknd.................................ok
ffgcrd/ffghps/ffgrec...................ok
ffdrec/ffdkey..........................ok
ffirec/ffikyX..........................ok
ffmrec/ffmcrd/ffmnam/ffmcom/ffmkyX.....ok
ffucrd/ffukyX..........................ok
ffgnxk.................................ok
ffcpky.................................ok
ffpktp.................................ok
ffibin.................................ok
ffghps.................................ok
ffhdef/ffghsp..........................ok
ffptdm/ffgtdm..........................ok
ffpclX/ffpcnX..........................ok
ffgcno/ffgcnn..........................ok
ffgtcl/ffgbcl..........................ok
ffmrhd.................................ok
ffitab.................................ok
ffsnul/ffpkyj..........................ok
ffpclX.................................ok
ffghtb.................................ok
ffgcvX.................................ok
ffgtbb.................................ok
ffgcno/ffgcnn..........................ok
ffgtcl/ffgacl..........................ok
ffirow.................................ok
ffdrow.................................ok
ffdcol.................................ok
fficol.................................ok
ffinit.................................ok
ffiimg.................................ok
ffitab.................................ok
ffcpcl.................................ok
ffibin.................................ok
ffcpcl.................................ok
ffdelt.................................ok
ffmrhd.................................ok
ffghsp.................................ok
ffghbn.................................ok
ffgcx..................................ok
ffgcvs.................................ok
149 / 149 tests passed (100.0%)
This is beta software, and the test suite is not yet complete.
You may find the scripts in ./testprog and ./examples of interest,
however.
PERL_DL_NONLAZY=1 "/home/sand/src/perl/repoperls/installed-perls/host/k93msid/v5.38.4/1e0c/bin/perl" "-MExtUtils::Command::MM" "-MTest::Harness" "-e" "undef *Test::Harness::Switches; test_harness(0, 'blib/lib', 'blib/arch')" t/*.t
t/constructor.t .... ok
t/create_file.t .... ok
t/utilities.t ...... ok
t/write_key_str.t .. ok
All tests successful.
Files=4, Tests=15, 1 wallclock secs ( 0.02 usr 0.01 sys + 0.41 cusr 0.15 csys = 0.59 CPU)
Result: PASS
------------------------------
PREREQUISITES
------------------------------
Prerequisite modules loaded:
build_requires:
Module Need Have
-------------------- ------ --------
ExtUtils::MakeMaker 0 7.74
Test2::V0 0 1.302210
configure_requires:
Module Need Have
-------------------- ------ --------
Alien::Base::Wrapper 1.97 2.84
Alien::CFITSIO v4.3.0 v4.4.0.2
ExtUtils::MakeMaker 6.52 7.74
------------------------------
ENVIRONMENT AND OTHER CONTEXT
------------------------------
Environment variables:
AUTOMATED_TESTING = 1
LANG = en_US.UTF-8
LANGUAGE = en_US:en
PATH = /home/sand/bin:/usr/local/bin:/usr/bin:/bin:/usr/games:/usr/local/perl/bin:/usr/X11/bin:/sbin:/usr/sbin
PERL5LIB =
PERL5OPT =
PERL5_CPANPLUS_IS_RUNNING = 1581554
PERL5_CPAN_IS_RUNNING = 1581554
PERL_CANARY_STABILITY_NOPROMPT = 1
PERL_MM_USE_DEFAULT = 1
PERL_USE_UNSAFE_INC = 1
SHELL = /usr/bin/zsh
TERM = screen
Perl special variables (and OS-specific diagnostics, for MSWin32):
$^X = /home/sand/src/perl/repoperls/installed-perls/host/k93msid/v5.38.4/1e0c/bin/perl
$UID/$EUID = 1005 / 1005
$GID = 1005 1005
$EGID = 1005 1005
Perl module toolchain versions installed:
Module Have
------------------- --------
CPAN 2.38
CPAN::Meta 2.150010
Cwd 3.89
ExtUtils::CBuilder 0.280238
ExtUtils::Command 7.74
ExtUtils::Install 2.22
ExtUtils::MakeMaker 7.74
ExtUtils::Manifest 1.73
ExtUtils::ParseXS 3.51
File::Spec 3.88
JSON 4.10
JSON::PP 4.16
Module::Build 0.4234
Module::Signature 0.89
Parse::CPAN::Meta 2.150010
Test2 1.302210
Test::Harness 3.50
Test::More 1.302210
YAML 1.31
YAML::Syck 1.34
version 0.9933
--
Summary of my perl5 (revision 5 version 38 subversion 4) configuration:
Commit id: 546f65a086129e4158cff53a40c724d6952f3ed6
Platform:
osname=linux
osvers=6.8.12-amd64
archname=x86_64-linux-thread-multi
uname='linux k93msid 6.8.12-amd64 #1 smp preempt_dynamic debian 6.8.12-1 (2024-05-31) x86_64 gnulinux '
config_args='-Dprefix=/home/sand/src/perl/repoperls/installed-perls/host/k93msid/v5.38.4/1e0c -Dmyhostname=k93msid -Dinstallusrbinperl=n -Uversiononly -Dusedevel -des -Ui_db -Dlibswanted=cl pthread socket inet nsl gdbm dbm malloc dl ld sun m crypt sec util c cposix posix ucb BSD gdbm_compat -Duseithreads -Uuselongdouble -DEBUGGING=-g'
hint=recommended
useposix=true
d_sigaction=define
useithreads=define
usemultiplicity=define
use64bitint=define
use64bitall=define
uselongdouble=undef
usemymalloc=n
default_inc_excludes_dot=define
Compiler:
cc='cc'
ccflags ='-D_REENTRANT -D_GNU_SOURCE -fwrapv -fno-strict-aliasing -pipe -fstack-protector-strong -I/usr/local/include -D_LARGEFILE_SOURCE -D_FILE_OFFSET_BITS=64 -D_FORTIFY_SOURCE=2'
optimize='-O2 -g'
cppflags='-D_REENTRANT -D_GNU_SOURCE -fwrapv -fno-strict-aliasing -pipe -fstack-protector-strong -I/usr/local/include'
ccversion=''
gccversion='13.3.0'
gccosandvers=''
intsize=4
longsize=8
ptrsize=8
doublesize=8
byteorder=12345678
doublekind=3
d_longlong=define
longlongsize=8
d_longdbl=define
longdblsize=16
longdblkind=3
ivtype='long'
ivsize=8
nvtype='double'
nvsize=8
Off_t='off_t'
lseeksize=8
alignbytes=8
prototype=define
Linker and Libraries:
ld='cc'
ldflags =' -fstack-protector-strong -L/usr/local/lib'
libpth=/usr/local/lib /usr/lib/x86_64-linux-gnu /usr/lib /usr/lib64
libs=-lpthread -ldl -lm -lcrypt -lutil -lc
perllibs=-lpthread -ldl -lm -lcrypt -lutil -lc
libc=/lib/x86_64-linux-gnu/libc.so.6
so=so
useshrplib=false
libperl=libperl.a
gnulibc_version='2.38'
Dynamic Linking:
dlsrc=dl_dlopen.xs
dlext=so
d_dlsymun=undef
ccdlflags='-Wl,-E'
cccdlflags='-fPIC'
lddlflags='-shared -O2 -g -L/usr/local/lib -fstack-protector-strong'
Characteristics of this binary (from libperl):
Compile-time options:
HAS_LONG_DOUBLE
HAS_STRTOLD
HAS_TIMES
MULTIPLICITY
PERLIO_LAYERS
PERL_COPY_ON_WRITE
PERL_DONT_CREATE_GVSV
PERL_HASH_FUNC_SIPHASH13
PERL_HASH_USE_SBOX32
PERL_MALLOC_WRAP
PERL_OP_PARENT
PERL_PRESERVE_IVUV
PERL_USE_DEVEL
PERL_USE_SAFE_PUTENV
USE_64_BIT_ALL
USE_64_BIT_INT
USE_ITHREADS
USE_LARGE_FILES
USE_LOCALE
USE_LOCALE_COLLATE
USE_LOCALE_CTYPE
USE_LOCALE_NUMERIC
USE_LOCALE_TIME
USE_PERLIO
USE_PERL_ATOF
USE_REENTRANT_API
USE_THREAD_SAFE_LOCALE
Built under linux
Compiled at Apr 14 2025 04:50:47
%ENV:
PERL5LIB=""
PERL5OPT=""
PERL5_CPANPLUS_IS_RUNNING="1581554"
PERL5_CPAN_IS_RUNNING="1581554"
PERL_CANARY_STABILITY_NOPROMPT="1"
PERL_MM_USE_DEFAULT="1"
PERL_USE_UNSAFE_INC="1"
@INC:
/home/sand/src/perl/repoperls/installed-perls/host/k93msid/v5.38.4/1e0c/lib/site_perl/5.38.4/x86_64-linux-thread-multi
/home/sand/src/perl/repoperls/installed-perls/host/k93msid/v5.38.4/1e0c/lib/site_perl/5.38.4
/home/sand/src/perl/repoperls/installed-perls/host/k93msid/v5.38.4/1e0c/lib/5.38.4/x86_64-linux-thread-multi
/home/sand/src/perl/repoperls/installed-perls/host/k93msid/v5.38.4/1e0c/lib/5.38.4
.