Bio-FastParsers v0.201110 Perl 5 v5.30.2 amd64-openbsd
- Status
- Pass
- From
- Alceu Rodrigues de Freitas Junior
- Dist
-
Bio-FastParsers v0.201110
- Platform
- Perl 5 v5.30.2 amd64-openbsd
- Date
- 2020-06-11 04:56:58
- ID
- fb0e904c-ab9f-11ea-a13c-7feaaed56ebc
This distribution has been tested as part of the CPAN Testers
project, supporting the Perl programming language. See
http://wiki.cpantesters.org/ for more information or email
questions to cpan-testers-discuss@perl.org
--
Dear Denis BAURAIN,
This is a computer-generated report for Bio-FastParsers-0.201110
on perl 5.30.2, created by CPAN-Reporter-1.2018.
Thank you for uploading your work to CPAN. Congratulations!
All tests were successful.
Sections of this report:
* Tester comments
* Program output
* Prerequisites
* Environment and other context
------------------------------
TESTER COMMENTS
------------------------------
Additional comments from tester:
this report is from an automated smoke testing program
and was not reviewed by a human for accuracy
------------------------------
PROGRAM OUTPUT
------------------------------
Output from '/usr/bin/make test':
PERL_DL_NONLAZY=1 "/usr/bin/perl" "-MExtUtils::Command::MM" "-MTest::Harness" "-e" "undef *Test::Harness::Switches; test_harness(0, 'blib/lib', 'blib/arch')" t/*.t
t/author-critic.t ....... skipped: these tests are for testing by the author
t/author-pod-syntax.t ... skipped: these tests are for testing by the author
t/author-portability.t .. skipped: these tests are for testing by the author
t/blast_table.t ......... ok
Warning: 'test/empty.xml' unexpectedly empty; returning no BlastOutput! at reader Bio::FastParsers::Blast::Xml::blast_output (defined at /mnt/cpan_build_dir/goku/Bio-FastParsers-0.201110-0/blib/lib/Bio/FastParsers/Blast/Xml.pm line 20) line 8.
t/blast_xml.t ........... ok
t/clusterable.t ......... ok
t/hmmer_dom_table.t ..... ok
t/hmmer_model.t ......... ok
t/hmmer_std.t ........... ok
t/hmmer_table.t ......... ok
All tests successful.
Files=10, Tests=844, 9 wallclock secs ( 0.08 usr 0.08 sys + 7.28 cusr 1.32 csys = 8.76 CPU)
Result: PASS
------------------------------
PREREQUISITES
------------------------------
Prerequisite modules loaded:
requires:
Module Need Have
---------------------------- ----- --------
aliased 0 0.34
autodie 0 2.29
Carp 0 1.50
Const::Fast 0 0.014
Exporter::Easy 0 0.18
feature 0 1.54
List::AllUtils 0 0.16
Moose 0 2.2012
Moose::Role 0 2.2012
Moose::Util::TypeConstraints 0 2.2012
namespace::autoclean 0 0.29
Path::Class 0 0.37
perl 5.010 5.030002
Smart::Comments 0 1.06
Sort::Naturally 0 1.03
strict 0 1.11
Test::Most 0 0.37
Tie::IxHash 0 1.23
Try::Tiny 0 0.30
warnings 0 1.44
XML::Bare 0.53 0.53
build_requires:
Module Need Have
---------------------------- ----- --------
ExtUtils::MakeMaker 0 7.45_01
Test::Most 0 0.37
configure_requires:
Module Need Have
---------------------------- ----- --------
ExtUtils::MakeMaker 0 7.45_01
perl 5.010 5.030002
------------------------------
ENVIRONMENT AND OTHER CONTEXT
------------------------------
Environment variables:
AUTOMATED_TESTING = 1
DBD_MYSQL_TESTDB = test
DBD_MYSQL_TESTHOST = localhost
DBD_MYSQL_TESTPASSWORD =
DBD_MYSQL_TESTPORT = 3306
DBD_MYSQL_TESTUSER = goku
EXTENDED_TESTING = 1
PATH = /home/goku/perl5/perlbrew/bin:/home/goku/perl5/bin:/home/goku/bin:/usr/bin:/bin:/usr/sbin:/sbin:/usr/X11R6/bin:/usr/local/bin:/usr/local/sbin
PERL5LIB = /home/goku/perl5/lib/perl5
PERL5OPT =
PERL5_CPANPLUS_IS_RUNNING = 68084
PERL5_CPAN_IS_RUNNING = 68084
PERL5_CPAN_IS_RUNNING_IN_RECURSION = 34916,68084
PERLBREW_HOME = /home/goku/.perlbrew
PERLBREW_PATH = /home/goku/perl5/perlbrew/bin
PERLBREW_ROOT = /home/goku/perl5/perlbrew
PERLBREW_SHELLRC_VERSION = 0.88
PERLBREW_VERSION = 0.88
PERL_CR_SMOKER_CURRENT = Bio-FastParsers-0.201110
PERL_EXTUTILS_AUTOINSTALL = --defaultdeps
PERL_LOCAL_LIB_ROOT = /home/goku/perl5
PERL_MB_OPT = --install_base "/home/goku/perl5"
PERL_MM_OPT = INSTALL_BASE=/home/goku/perl5
PERL_MM_USE_DEFAULT = 1
PERL_USE_UNSAFE_INC = 1
SHELL = /usr/local/bin/bash
TERM = xterm-256color
Perl special variables (and OS-specific diagnostics, for MSWin32):
$^X = /usr/bin/perl
$UID/$EUID = 1001 / 1001
$GID = 999 999 1001
$EGID = 999 999 1001
Perl module toolchain versions installed:
Module Have
------------------- --------
CPAN 2.27
CPAN::Meta 2.150010
Cwd 3.78
ExtUtils::CBuilder 0.280234
ExtUtils::Command 7.45_01
ExtUtils::Install 2.14
ExtUtils::MakeMaker 7.45_01
ExtUtils::Manifest 1.72
ExtUtils::ParseXS 3.40
File::Spec 3.78
JSON 4.02
JSON::PP 4.04
Module::Build 0.4231
Module::Signature 0.83
Parse::CPAN::Meta 2.150010
Test::Harness 3.42
Test::More 1.302175
YAML 1.30
YAML::Syck n/a
version 0.9924
--
Summary of my perl5 (revision 5 version 30 subversion 2) configuration:
Platform:
osname=openbsd
osvers=6.7
archname=amd64-openbsd
uname='openbsd'
config_args='-dsE -Dopenbsd_distribution=defined -Dccflags=-DNO_LOCALE_NUMERIC -DNO_LOCALE_COLLATE -Dmksymlinks'
hint=recommended
useposix=true
d_sigaction=define
useithreads=undef
usemultiplicity=undef
use64bitint=define
use64bitall=define
uselongdouble=undef
usemymalloc=n
default_inc_excludes_dot=define
bincompat5005=undef
Compiler:
cc='cc'
ccflags ='-DNO_LOCALE_NUMERIC -DNO_LOCALE_COLLATE -fno-strict-aliasing -fno-delete-null-pointer-checks -pipe -fstack-protector-strong -D_FORTIFY_SOURCE=2 -I/usr/local/include'
optimize='-O2'
cppflags='-DNO_LOCALE_NUMERIC -DNO_LOCALE_COLLATE -fno-strict-aliasing -fno-delete-null-pointer-checks -pipe -fstack-protector-strong -I/usr/local/include'
ccversion=''
gccversion='4.2.1 Compatible OpenBSD Clang 8.0.1 (tags/RELEASE_801/final)'
gccosandvers=''
intsize=4
longsize=8
ptrsize=8
doublesize=8
byteorder=12345678
doublekind=3
d_longlong=define
longlongsize=8
d_longdbl=define
longdblsize=16
longdblkind=3
ivtype='long'
ivsize=8
nvtype='double'
nvsize=8
Off_t='off_t'
lseeksize=8
alignbytes=8
prototype=define
Linker and Libraries:
ld='cc'
ldflags ='-Wl,-E -fstack-protector-strong -L/usr/local/lib'
libpth=/usr/lib /usr/lib
libs=-lm -lc
perllibs=-lm -lc
libc=/usr/lib/libc.a
so=so
useshrplib=true
libperl=libperl.so.20.0
gnulibc_version=''
Dynamic Linking:
dlsrc=dl_dlopen.xs
dlext=so
d_dlsymun=undef
ccdlflags='-Wl,-R/usr/libdata/perl5/amd64-openbsd/CORE'
cccdlflags='-DPIC -fPIC '
lddlflags='-shared -fPIC -fstack-protector-strong -L/usr/local/lib'
Characteristics of this binary (from libperl):
Compile-time options:
HAS_TIMES
PERLIO_LAYERS
PERL_COPY_ON_WRITE
PERL_DONT_CREATE_GVSV
PERL_MALLOC_WRAP
PERL_OP_PARENT
PERL_PRESERVE_IVUV
USE_64_BIT_ALL
USE_64_BIT_INT
USE_LARGE_FILES
USE_LOCALE
USE_LOCALE_CTYPE
USE_LOCALE_TIME
USE_PERLIO
USE_PERL_ATOF
Built under openbsd
%ENV:
PERL5LIB="/home/goku/perl5/lib/perl5"
PERL5OPT=""
PERL5_CPANPLUS_IS_RUNNING="68084"
PERL5_CPAN_IS_RUNNING="68084"
PERL5_CPAN_IS_RUNNING_IN_RECURSION="34916,68084"
PERLBREW_HOME="/home/goku/.perlbrew"
PERLBREW_PATH="/home/goku/perl5/perlbrew/bin"
PERLBREW_ROOT="/home/goku/perl5/perlbrew"
PERLBREW_SHELLRC_VERSION="0.88"
PERLBREW_VERSION="0.88"
PERL_CR_SMOKER_CURRENT="Bio-FastParsers-0.201110"
PERL_EXTUTILS_AUTOINSTALL="--defaultdeps"
PERL_LOCAL_LIB_ROOT="/home/goku/perl5"
PERL_MB_OPT="--install_base "/home/goku/perl5""
PERL_MM_OPT="INSTALL_BASE=/home/goku/perl5"
PERL_MM_USE_DEFAULT="1"
PERL_USE_UNSAFE_INC="1"
@INC:
/home/goku/perl5/lib/perl5/5.30.2/amd64-openbsd
/home/goku/perl5/lib/perl5/5.30.2
/home/goku/perl5/lib/perl5/amd64-openbsd
/home/goku/perl5/lib/perl5
/usr/local/libdata/perl5/site_perl/amd64-openbsd
/usr/local/libdata/perl5/site_perl
/usr/libdata/perl5/amd64-openbsd
/usr/libdata/perl5
.