Report for Cache-Memcached-Fast-CGI-0.06

Back
From: metabase:user:322078bc-2aae-11df-837a-5e0a49663a4f
Subject: PASS Cache-Memcached-Fast-CGI-0.06 v5.8.7 Mac OS X
Date: 2010-10-19T19:13:40Z

This distribution has been tested as part of the CPAN Testers
project, supporting the Perl programming language.  See
http://wiki.cpantesters.org/ for more information or email
questions to cpan-testers-discuss@perl.org


--

Dear HITSU,
    
This is a computer-generated error report created automatically by
CPANPLUS, version 0.9007. Testers personal comments may appear 
at the end of this report.

MAKE TEST passed:
# Testing Cache::Memcached::Fast::CGI 0.05, Perl 5.008007, /Volumes/Media/smoke/64bit/perl-5.8.7/bin/perl
t/00-load.t ....... ok
t/boilerplate.t ... ok
t/manifest.t ...... skipped: Author tests not required for installation
t/pod-coverage.t .. skipped: Test::Pod::Coverage 1.08 required for testing POD coverage
t/pod.t ........... skipped: Test::Pod 1.22 required for testing POD
All tests successful.

Test Summary Report
-------------------
t/boilerplate.t (Wstat: 0 Tests: 3 Failed: 0)
  TODO passed:   3
Files=5, Tests=6,  2 wallclock secs ( 0.26 usr  0.15 sys +  0.89 cusr  0.27 csys =  1.57 CPU)
Result: PASS

[MSG] [Tue Oct 19 20:19:59 2010] Sending test report for 'Cache-Memcached-Fast-CGI-0.06'

This report was machine-generated by CPANPLUS::Dist::YACSmoke 0.58.
Powered by minismokebox version 0.30

------------------------------
ENVIRONMENT AND OTHER CONTEXT
------------------------------

Environment variables:

    AUTOMATED_TESTING = 1
    PATH = /bin:/sbin:/usr/bin:/usr/sbin:/usr/local/bin:/usr/local/sbin
    PERL5LIB = :/Volumes/Media/smoke/64bit/conf/perl-5.8.7/.cpanplus/5.8.7/build/Cache-Memcached-Fast-0.19/blib/lib:/Volumes/Media/smoke/64bit/conf/perl-5.8.7/.cpanplus/5.8.7/build/Cache-Memcached-Fast-0.19/blib/arch:/Volumes/Media/smoke/64bit/conf/perl-5.8.7/.cpanplus/5.8.7/build/IO-Capture-0.05/blib/lib:/Volumes/Media/smoke/64bit/conf/perl-5.8.7/.cpanplus/5.8.7/build/IO-Capture-0.05/blib/arch:/Volumes/Media/smoke/64bit/conf/perl-5.8.7/.cpanplus/5.8.7/build/Cache-Memcached-Fast-CGI/blib/lib:/Volumes/Media/smoke/64bit/conf/perl-5.8.7/.cpanplus/5.8.7/build/Cache-Memcached-Fast-CGI/blib/arch
    PERL5_CPANPLUS_IS_RUNNING = 1489
    PERL5_CPANPLUS_IS_VERSION = 0.9007
    PERL5_MINISMOKEBOX = 0.30
    PERL5_YACSMOKE_BASE = /Volumes/Media/smoke/64bit/conf/perl-5.8.7
    PERL_EXTUTILS_AUTOINSTALL = --defaultdeps
    PERL_MM_USE_DEFAULT = 1
    SHELL = /bin/bash
    TERM = screen

Perl special variables (and OS-specific diagnostics, for MSWin32):

    Perl: $^X = /Volumes/Media/smoke/64bit/perl-5.8.7/bin/perl
    UID:  $<  = 502
    EUID: $>  = 502
    GID:  $(  = 502 502
    EGID: $)  = 502 502


-------------------------------


--

Summary of my perl5 (revision 5 version 8 subversion 7) configuration:
  Platform:
    osname=darwin, osvers=8.11.0, archname=darwin-64int-2level
    uname='darwin afalglas.bingosnet.co.uk 8.11.0 darwin kernel version 8.11.0: wed oct 10 18:26:00 pdt 2007; root:xnu-792.24.17~1release_ppc power macintosh powerpc '
    config_args='-de -Dprefix=/Volumes/Media/smoke/64bit/perl-5.8.7 -Duse64bitint'
    hint=recommended, useposix=true, d_sigaction=define
    usethreads=undef use5005threads=undef useithreads=undef usemultiplicity=undef
    useperlio=define d_sfio=undef uselargefiles=define usesocks=undef
    use64bitint=define use64bitall=undef uselongdouble=undef
    usemymalloc=n, bincompat5005=undef
  Compiler:
    cc='cc', ccflags ='-fno-common -DPERL_DARWIN -no-cpp-precomp -fno-strict-aliasing -pipe -I/usr/local/include',
    optimize='-O3',
    cppflags='-no-cpp-precomp -fno-common -DPERL_DARWIN -no-cpp-precomp -fno-strict-aliasing -pipe -I/usr/local/include'
    ccversion='', gccversion='4.0.1 (Apple Computer, Inc. build 5367)', gccosandvers=''
    intsize=4, longsize=4, ptrsize=4, doublesize=8, byteorder=87654321
    d_longlong=define, longlongsize=8, d_longdbl=define, longdblsize=16
    ivtype='long long', ivsize=8, nvtype='double', nvsize=8, Off_t='off_t', lseeksize=8
    alignbytes=8, prototype=define
  Linker and Libraries:
    ld='env MACOSX_DEPLOYMENT_TARGET=10.3 cc', ldflags =' -L/usr/local/lib'
    libpth=/usr/local/lib /usr/lib
    libs=-ldbm -ldl -lm -lc
    perllibs=-ldl -lm -lc
    libc=/usr/lib/libc.dylib, so=dylib, useshrplib=false, libperl=libperl.a
    gnulibc_version=''
  Dynamic Linking:
    dlsrc=dl_dlopen.xs, dlext=bundle, d_dlsymun=undef, ccdlflags=' '
    cccdlflags=' ', lddlflags=' -bundle -undefined dynamic_lookup -L/usr/local/lib'


Characteristics of this binary (from libperl): 
  Compile-time options: USE_64_BIT_INT USE_LARGE_FILES
  Built under darwin
  Compiled at Jun  9 2009 13:19:38
  %ENV:
    PERL5LIB=":/Volumes/Media/smoke/64bit/conf/perl-5.8.7/.cpanplus/5.8.7/build/Cache-Memcached-Fast-0.19/blib/lib:/Volumes/Media/smoke/64bit/conf/perl-5.8.7/.cpanplus/5.8.7/build/Cache-Memcached-Fast-0.19/blib/arch:/Volumes/Media/smoke/64bit/conf/perl-5.8.7/.cpanplus/5.8.7/build/IO-Capture-0.05/blib/lib:/Volumes/Media/smoke/64bit/conf/perl-5.8.7/.cpanplus/5.8.7/build/IO-Capture-0.05/blib/arch:/Volumes/Media/smoke/64bit/conf/perl-5.8.7/.cpanplus/5.8.7/build/Cache-Memcached-Fast-CGI/blib/lib:/Volumes/Media/smoke/64bit/conf/perl-5.8.7/.cpanplus/5.8.7/build/Cache-Memcached-Fast-CGI/blib/arch"
    PERL5_CPANPLUS_IS_RUNNING="1489"
    PERL5_CPANPLUS_IS_VERSION="0.9007"
    PERL5_MINISMOKEBOX="0.30"
    PERL5_YACSMOKE_BASE="/Volumes/Media/smoke/64bit/conf/perl-5.8.7"
    PERL_EXTUTILS_AUTOINSTALL="--defaultdeps"
    PERL_MM_USE_DEFAULT="1"
  @INC:
    /Volumes/Media/smoke/64bit/conf/perl-5.8.7/.cpanplus/5.8.7/build/Cache-Memcached-Fast-0.19/blib/lib
    /Volumes/Media/smoke/64bit/conf/perl-5.8.7/.cpanplus/5.8.7/build/Cache-Memcached-Fast-0.19/blib/arch
    /Volumes/Media/smoke/64bit/conf/perl-5.8.7/.cpanplus/5.8.7/build/IO-Capture-0.05/blib/lib
    /Volumes/Media/smoke/64bit/conf/perl-5.8.7/.cpanplus/5.8.7/build/IO-Capture-0.05/blib/arch
    /Volumes/Media/smoke/64bit/conf/perl-5.8.7/.cpanplus/5.8.7/build/Cache-Memcached-Fast-CGI/blib/lib
    /Volumes/Media/smoke/64bit/conf/perl-5.8.7/.cpanplus/5.8.7/build/Cache-Memcached-Fast-CGI/blib/arch
    /Volumes/Media/smoke/64bit/perl-5.8.7/lib/5.8.7/darwin-64int-2level
    /Volumes/Media/smoke/64bit/perl-5.8.7/lib/5.8.7
    /Volumes/Media/smoke/64bit/perl-5.8.7/lib/site_perl/5.8.7/darwin-64int-2level
    /Volumes/Media/smoke/64bit/perl-5.8.7/lib/site_perl/5.8.7
    /Volumes/Media/smoke/64bit/perl-5.8.7/lib/site_perl
    .