CGI-Application-Plugin-Authentication v0.23 Perl 5 v5.35.10 amd64-freebsd-thread-multi

Status
Pass
From
James E Keenan
Dist
CGI-Application-Plugin-Authentication v0.23
Platform
Perl 5 v5.35.10 amd64-freebsd-thread-multi
Date
2022-03-01 19:01:20
ID
fb2f44fe-9991-11ec-acf7-a0f9c6e46b64
This distribution has been tested as part of the CPAN Testers
project, supporting the Perl programming language.  See
http://wiki.cpantesters.org/ for more information or email
questions to cpan-testers-discuss@perl.org


--
Dear Wes Malone,

This is a computer-generated report for CGI-Application-Plugin-Authentication-0.23
on perl 5.35.10, created by CPAN-Reporter-1.2018.

Thank you for uploading your work to CPAN.  Congratulations!
All tests were successful.

Sections of this report:

    * Tester comments
    * Program output
    * Prerequisites
    * Environment and other context

------------------------------
TESTER COMMENTS
------------------------------

Additional comments from tester:

none provided

------------------------------
PROGRAM OUTPUT
------------------------------

Output from '/usr/bin/make test':

PERL_DL_NONLAZY=1 "/usr/home/jkeenan/testing/blead/bin/perl" "-MExtUtils::Command::MM" "-MTest::Harness" "-e" "undef *Test::Harness::Switches; test_harness(0, 'blib/lib', 'blib/arch')" t/*.t
t/01_basic.t ........................ ok
t/02_config.t ....................... ok
t/03_authenticate.t ................. skipped: CGI::Application::Plugin::Session required for this test
t/03_destination.t .................. ok
# Color::Calc required for this sub test
# Color::Calc required for this sub test
# Color::Calc required for this sub test
# Color::Calc required for this sub test
t/03_login_box.t .................... ok
t/03_login_box_basic.t .............. ok
# Color::Calc required
t/03_login_box_other.t .............. skipped: Color::Calc required
t/03_missing_color.t ................ ok
t/04_attributes.t ................... ok
t/05_autorunmode.t .................. skipped: CGI::Application::Plugin::AutoRunmode required for this test
# The following tests have some small time delays
t/06_timeout.t ...................... ok
t/07_protected_runmodes.t ........... ok
t/40_encoder_crypt.t ................ ok
t/40_encoder_lc.t ................... ok
t/40_encoder_md5.t .................. ok
t/40_encoder_sha1.t ................. ok
t/40_encoder_strip.t ................ ok
t/40_encoder_uc.t ................... ok
t/50_driver_missing_modules.t ....... ok
t/50_driver_undefined.t ............. ok
t/51_driver_dummy.t ................. ok
t/52_driver_generic.t ............... ok
t/53_driver_dbi.t ................... skipped: DBD::SQLite required for this test
t/53_driver_dbi_bad.t ............... skipped: DBD::SQLite required for this test
t/53_driver_dbi_die.t ............... ok
t/53_driver_dbi_syntax.t ............ skipped: DBD::SQLite required for this test
t/54_driver_htpasswd.t .............. skipped: Apache::Htpasswd >= 1.8 required for this test
t/55_driver_authensimple.t .......... skipped: Authen::Simple required for this test
t/55_driver_authensimple_die.t ...... ok
t/55_driver_missing_authensimple.t .. ok
t/60_parsimony.t .................... skipped: CGI::Application::Plugin::Session etc required for this test
t/60_store.t ........................ ok
t/60_store_cookie.t ................. ok
t/60_store_session.t ................ skipped: CGI::Application::Plugin::Session required for this test
t/61_cookie_badargs.t ............... ok
t/61_store_cookie_noexpiry.t ........ ok
t/61_store_cookie_other.t ........... ok
t/70_action_dispatch.t .............. skipped: CGI::Application::Plugin::ActionDispatch required
t/80_devpopup.t ..................... skipped: CGI::Application::Plugin::DevPopup required
t/98_pod.t .......................... skipped: Author test.  Set $ENV{TEST_AUTHOR} to a true value to run.
t/99_pod_coverage.t ................. skipped: Author test.  Set $ENV{TEST_AUTHOR} to a true value to run.
t/author-pod-syntax.t ............... skipped: these tests are for testing by the author
t/changes.t ......................... skipped: Author test.  Set $ENV{TEST_AUTHOR} to a true value to run.
t/manifest.t ........................ skipped: Author test.  Set $ENV{TEST_AUTHOR} to a true value to run.
t/podspell.t ........................ skipped: Author test.  Set $ENV{TEST_AUTHOR} to a true value to run.
t/prereq.t .......................... skipped: Author test.  Set $ENV{TEST_PREREQ} to a true value to run.
t/release-changes_has_content.t ..... skipped: these tests are for release candidate testing
All tests successful.
Files=47, Tests=383, 10 wallclock secs ( 0.19 usr  0.07 sys +  4.88 cusr  1.20 csys =  6.34 CPU)
Result: PASS

------------------------------
PREREQUISITES
------------------------------

Prerequisite modules loaded:

requires:

    Module                            Need     Have      
    --------------------------------- -------- ----------
    Attribute::Handlers               0        1.02      
    CGI                               3.16     4.54      
    CGI::Application                  4        4.61      
    Class::ISA                        0        0.36      
    Digest::SHA                       0        6.02      
    MIME::Base64                      0        3.16      
    perl                              5.008    5.035010  
    Scalar::Util                      0        1.61      
    UNIVERSAL::require                0        0.19      

build_requires:

    Module                            Need     Have      
    --------------------------------- -------- ----------
    ExtUtils::MakeMaker               0        7.64      
    Readonly                          0        2.05      
    Test::Exception                   0        0.43      
    Test::MockObject                  0        1.20200122
    Test::More                        1.302015 1.302188  
    Test::NoWarnings                  0        1.06      
    Test::Regression                  0        0.08      
    Test::Taint                       0        1.08      
    Test::Warn                        0.11     0.36      
    Test::Without::Module             0        0.20      

configure_requires:

    Module                            Need     Have      
    --------------------------------- -------- ----------
    ExtUtils::MakeMaker               0        7.64      

opt_requires:

    Module                            Need     Have      
    --------------------------------- -------- ----------
  ! Apache::Htpasswd                  1.8      n/a       
  ! CGI::Application::Plugin::Session 0        n/a       
  ! Color::Calc                       0.12     n/a       
    Digest::MD5                       0        2.58      


------------------------------
ENVIRONMENT AND OTHER CONTEXT
------------------------------

Environment variables:

    LANG = C.UTF-8
    NONINTERACTIVE_TESTING = 1
    PATH = /sbin:/bin:/usr/sbin:/usr/bin:/usr/local/sbin:/usr/local/bin:/home/jkeenan/bin:/home/jkeenan/bin/perl:/home/jkeenan/bin/shell
    PERL5LIB = 
    PERL5OPT = 
    PERL5_CPANPLUS_IS_RUNNING = 89879
    PERL5_CPAN_IS_RUNNING = 89879
    PERL_MM_USE_DEFAULT = 1
    PERL_USE_UNSAFE_INC = 1
    PERL_WORKDIR = /home/jkeenan/gitwork/perl
    SHELL = /bin/sh
    TERM = xterm-256color

Perl special variables (and OS-specific diagnostics, for MSWin32):

    $^X = /usr/home/jkeenan/testing/blead/bin/perl
    $UID/$EUID = 1002 / 1002
    $GID = 1002 1002 0 5
    $EGID = 1002 1002 0 5

Perl module toolchain versions installed:

    Module              Have    
    ------------------- --------
    CPAN                2.33    
    CPAN::Meta          2.150010
    Cwd                 3.83    
    ExtUtils::CBuilder  0.280236
    ExtUtils::Command   7.64    
    ExtUtils::Install   2.20    
    ExtUtils::MakeMaker 7.64    
    ExtUtils::Manifest  1.73    
    ExtUtils::ParseXS   3.44    
    File::Spec          3.83    
    JSON                4.05    
    JSON::PP            4.07    
    Module::Build       0.4231  
    Module::Signature   n/a     
    Parse::CPAN::Meta   2.150010
    Test::Harness       3.43    
    Test::More          1.302188
    YAML                n/a     
    YAML::Syck          n/a     
    version             0.9929  


--

Summary of my perl5 (revision 5 version 35 subversion 10) configuration:
  Commit id: f0ef35deb0072805b68cef82ebe28739f67ca79a
  Platform:
    osname=freebsd
    osvers=13.0-release
    archname=amd64-freebsd-thread-multi
    uname='freebsd perl-reporter-12 13.0-release freebsd 13.0-release #0 releng13.0-n244733-ea31abc261f: fri apr 9 04:24:09 utc 2021 root@releng1.nyi.freebsd.org:usrobjusrsrcamd64.amd64sysgeneric amd64 '
    config_args='-des -Dusedevel -Uversiononly -Dprefix=/home/jkeenan/testing/blead -Dman1dir=none -Dman3dir=none -Duseithreads -Doptimize=-O2 -pipe -fstack-protector -fno-strict-aliasing'
    hint=recommended
    useposix=true
    d_sigaction=define
    useithreads=define
    usemultiplicity=define
    use64bitint=define
    use64bitall=define
    uselongdouble=undef
    usemymalloc=n
    default_inc_excludes_dot=define
  Compiler:
    cc='cc'
    ccflags ='-DHAS_FPSETMASK -DHAS_FLOATINGPOINT_H -fno-strict-aliasing -pipe -fstack-protector-strong -I/usr/local/include'
    optimize='-O2 -pipe -fstack-protector -fno-strict-aliasing'
    cppflags='-DHAS_FPSETMASK -DHAS_FLOATINGPOINT_H -fno-strict-aliasing -pipe -fstack-protector-strong -I/usr/local/include'
    ccversion=''
    gccversion='FreeBSD Clang 11.0.1 (git@github.com:llvm/llvm-project.git llvmorg-11.0.1-0-g43ff75f2c3fe)'
    gccosandvers=''
    intsize=4
    longsize=8
    ptrsize=8
    doublesize=8
    byteorder=12345678
    doublekind=3
    d_longlong=define
    longlongsize=8
    d_longdbl=define
    longdblsize=16
    longdblkind=3
    ivtype='long'
    ivsize=8
    nvtype='double'
    nvsize=8
    Off_t='off_t'
    lseeksize=8
    alignbytes=8
    prototype=define
  Linker and Libraries:
    ld='cc'
    ldflags ='-pthread -Wl,-E  -fstack-protector-strong -L/usr/local/lib'
    libpth=/usr/lib /usr/local/lib /usr/lib/clang/11.0.1/lib
    libs=-lpthread -lgdbm -ldl -lm -lcrypt -lutil
    perllibs=-lpthread -ldl -lm -lcrypt -lutil
    libc=
    so=so
    useshrplib=false
    libperl=libperl.a
    gnulibc_version=''
  Dynamic Linking:
    dlsrc=dl_dlopen.xs
    dlext=so
    d_dlsymun=undef
    ccdlflags=' '
    cccdlflags='-DPIC -fPIC'
    lddlflags='-shared  -L/usr/local/lib -fstack-protector-strong'


Characteristics of this binary (from libperl): 
  Compile-time options:
    HAS_TIMES
    MULTIPLICITY
    PERLIO_LAYERS
    PERL_COPY_ON_WRITE
    PERL_DONT_CREATE_GVSV
    PERL_MALLOC_WRAP
    PERL_OP_PARENT
    PERL_PRESERVE_IVUV
    PERL_USE_DEVEL
    USE_64_BIT_ALL
    USE_64_BIT_INT
    USE_ITHREADS
    USE_LARGE_FILES
    USE_LOCALE
    USE_LOCALE_COLLATE
    USE_LOCALE_CTYPE
    USE_LOCALE_NUMERIC
    USE_LOCALE_TIME
    USE_PERLIO
    USE_PERL_ATOF
    USE_REENTRANT_API
    USE_THREAD_SAFE_LOCALE
  Built under freebsd
  Compiled at Mar  1 2022 13:09:38
  %ENV:
    PERL5LIB=""
    PERL5OPT=""
    PERL5_CPANPLUS_IS_RUNNING="89879"
    PERL5_CPAN_IS_RUNNING="89879"
    PERL_MM_USE_DEFAULT="1"
    PERL_USE_UNSAFE_INC="1"
    PERL_WORKDIR="/home/jkeenan/gitwork/perl"
  @INC:
    /home/jkeenan/testing/blead/lib/perl5/site_perl/5.35.10/amd64-freebsd-thread-multi
    /home/jkeenan/testing/blead/lib/perl5/site_perl/5.35.10
    /home/jkeenan/testing/blead/lib/perl5/5.35.10/amd64-freebsd-thread-multi
    /home/jkeenan/testing/blead/lib/perl5/5.35.10
    .