Filter-Crypto v2.10 Perl 5 v5.39.8 x86_64-linux-ld

Status
Pass
From
Andreas J. König (ANDK)
Dist
Filter-Crypto v2.10
Platform
Perl 5 v5.39.8 x86_64-linux-ld
Date
2024-03-08 23:31:25
ID
fb30862c-dda3-11ee-a6c5-665bca3a7c6b
This distribution has been tested as part of the CPAN Testers
project, supporting the Perl programming language.  See
http://wiki.cpantesters.org/ for more information or email
questions to cpan-testers-discuss@perl.org


--
Dear Steve Hay,

This is a computer-generated report for Filter-Crypto-2.10
on perl 5.39.8, created by CPAN-Reporter-1.2019.

Thank you for uploading your work to CPAN.  Congratulations!
All tests were successful.

Sections of this report:

    * Tester comments
    * Program output
    * Prerequisites
    * Environment and other context

------------------------------
TESTER COMMENTS
------------------------------

Additional comments from tester:

this report is from an automated smoke testing program
and was not reviewed by a human for accuracy

------------------------------
PROGRAM OUTPUT
------------------------------

Output from '/usr/bin/make test':

make[1]: Entering directory '/tmp/loop_over_bdir-1942-HD1cEy/Filter-Crypto-2.10-0/CryptFile'
"/tmp/basesmoker-reloperl-3I3J/bin/perl" -MExtUtils::Command::MM -e 'cp_nonempty' -- CryptFile.bs ../blib/arch/auto/Filter/Crypto/CryptFile/CryptFile.bs 644
Manifying 1 pod document
make[1]: Leaving directory '/tmp/loop_over_bdir-1942-HD1cEy/Filter-Crypto-2.10-0/CryptFile'
make[1]: Entering directory '/tmp/loop_over_bdir-1942-HD1cEy/Filter-Crypto-2.10-0/Decrypt'
"/tmp/basesmoker-reloperl-3I3J/bin/perl" -MExtUtils::Command::MM -e 'cp_nonempty' -- Decrypt.bs ../blib/arch/auto/Filter/Crypto/Decrypt/Decrypt.bs 644
Manifying 1 pod document
make[1]: Leaving directory '/tmp/loop_over_bdir-1942-HD1cEy/Filter-Crypto-2.10-0/Decrypt'
PERL_DL_NONLAZY=1 "/tmp/basesmoker-reloperl-3I3J/bin/perl" "-MExtUtils::Command::MM" "-MTest::Harness" "-e" "undef *Test::Harness::Switches; test_harness(0, 'blib/lib', 'blib/arch')" t/*.t
t/01_imports_01.t .... ok
t/01_imports_02.t .... ok
t/01_imports_03.t .... ok
t/01_imports_04.t .... ok
t/02_function.t ...... ok
t/03_script.t ........ ok
t/04_par.t ........... ok
t/05_errstr.t ........ ok
t/06_changes.t ....... skipped: Author testing only
t/07_critic.t ........ skipped: Author testing only
t/08_pod.t ........... skipped: Author testing only
t/09_pod_coverage.t .. skipped: Author testing only
All tests successful.
Files=12, Tests=448, 14 wallclock secs ( 0.10 usr  0.04 sys + 11.12 cusr  2.69 csys = 13.95 CPU)
Result: PASS

------------------------------
PREREQUISITES
------------------------------

Prerequisite modules loaded:

requires:

    Module                Need     Have     
    --------------------- -------- ---------
    Carp                  0        1.54     
    Config                0        5.039008 
    constant              0        1.33     
    Cwd                   0        3.90     
    Exporter              0        5.78     
    ExtUtils::MakeMaker   6.66     7.70     
    Fcntl                 0        1.16     
    File::Basename        0        2.86     
    File::Copy            0        2.41     
    File::Find            0        1.44     
    File::Spec::Functions 0        3.91     
    File::Temp            0        0.2311   
    Getopt::Long          0        2.57     
    perl                  5.008001 5.039008 
    Pod::Usage            1.15     2.03     
    Scalar::Util          0        1.63     
    strict                0        1.13     
    Text::ParseWords      0        3.31     
    Text::Wrap            0        2023.0511
    warnings              0        1.68     
    XSLoader              0        0.32     

build_requires:

    Module                Need     Have     
    --------------------- -------- ---------
    blib                  0        1.07     
    ExtUtils::MakeMaker   0        7.70     
    File::Path            0        2.18     
    FindBin               0        1.54     
    Test::More            0        1.302198 

configure_requires:

    Module                Need     Have     
    --------------------- -------- ---------
    Carp                  0        1.54     
    Config                0        5.039008 
    constant              0        1.33     
    Cwd                   0        3.90     
    ExtUtils::MakeMaker   6.66     7.70     
    Fcntl                 0        1.16     
    File::Basename        0        2.86     
    File::Copy            0        2.41     
    File::Spec::Functions 0        3.91     
    Getopt::Long          0        2.57     
    perl                  5.008001 5.039008 
    Pod::Usage            1.15     2.03     
    strict                0        1.13     
    Text::Wrap            0        2023.0511
    warnings              0        1.68     


------------------------------
ENVIRONMENT AND OTHER CONTEXT
------------------------------

Environment variables:

    AUTOMATED_TESTING = 1
    LANG = en_US.UTF-8
    LC_ADDRESS = de_DE.UTF-8
    LC_IDENTIFICATION = de_DE.UTF-8
    LC_MEASUREMENT = de_DE.UTF-8
    LC_MONETARY = de_DE.UTF-8
    LC_NAME = de_DE.UTF-8
    LC_NUMERIC = de_DE.UTF-8
    LC_PAPER = de_DE.UTF-8
    LC_TELEPHONE = de_DE.UTF-8
    LC_TIME = de_DE.UTF-8
    PATH = /home/sand/bin:/usr/local/bin:/usr/local/sbin:/usr/sbin:/usr/bin:/sbin:/bin:/usr/games:/usr/local/games:/snap/bin:/usr/local/perl/bin:/usr/X11/bin
    PERL = /tmp/basesmoker-reloperl-3I3J/bin/perl
    PERL5LIB = /tmp/loop_over_bdir-1942-HD1cEy/EJBCA-CrlPublish-0.60-0/blib/arch:/tmp/loop_over_bdir-1942-HD1cEy/EJBCA-CrlPublish-0.60-0/blib/lib:/tmp/loop_over_bdir-1942-HD1cEy/MP3-PodcastFetch-1.05-0/blib/arch:/tmp/loop_over_bdir-1942-HD1cEy/MP3-PodcastFetch-1.05-0/blib/lib:/tmp/loop_over_bdir-1942-HD1cEy/triceps-2.1.0-0/blib/arch:/tmp/loop_over_bdir-1942-HD1cEy/triceps-2.1.0-0/blib/lib:/tmp/loop_over_bdir-1942-HD1cEy/Net-OpenVPN-DDNS-0.1-0/blib/arch:/tmp/loop_over_bdir-1942-HD1cEy/Net-OpenVPN-DDNS-0.1-0/blib/lib:/tmp/loop_over_bdir-1942-HD1cEy/Net-ISP-Balance-1.31-0/blib/arch:/tmp/loop_over_bdir-1942-HD1cEy/Net-ISP-Balance-1.31-0/blib/lib:/tmp/loop_over_bdir-1942-HD1cEy/Dpkg-1.22.5-0/blib/arch:/tmp/loop_over_bdir-1942-HD1cEy/Dpkg-1.22.5-0/blib/lib
    PERL5OPT = 
    PERL5_CPANPLUS_IS_RUNNING = 1950
    PERL5_CPAN_IS_RUNNING = 1950
    PERL_CANARY_STABILITY_NOPROMPT = 1
    PERL_MM_USE_DEFAULT = 1
    PERL_USE_UNSAFE_INC = 1
    SHELL = /usr/bin/zsh
    TERM = screen

Perl special variables (and OS-specific diagnostics, for MSWin32):

    $^X = /tmp/basesmoker-reloperl-3I3J/bin/perl
    $UID/$EUID = 1005 / 1005
    $GID = 1005 1005
    $EGID = 1005 1005

Perl module toolchain versions installed:

    Module              Have    
    ------------------- --------
    CPAN                2.36    
    CPAN::Meta          2.150010
    Cwd                 3.90    
    ExtUtils::CBuilder  0.280240
    ExtUtils::Command   7.70    
    ExtUtils::Install   2.22    
    ExtUtils::MakeMaker 7.70    
    ExtUtils::Manifest  1.75    
    ExtUtils::ParseXS   3.51    
    File::Spec          3.90    
    JSON                4.10    
    JSON::PP            4.16    
    Module::Build       0.4234  
    Module::Signature   0.88    
    Parse::CPAN::Meta   2.150010
    Test2               1.302198
    Test::Harness       3.48    
    Test::More          1.302198
    YAML                1.31    
    YAML::Syck          1.34    
    version             0.9930  


--

Summary of my perl5 (revision 5 version 39 subversion 8) configuration:
  Commit id: 78455e6e7fa235411fb2b931eda9d816b5ea880f
  Platform:
    osname=linux
    osvers=6.5.0-18-generic
    archname=x86_64-linux-ld
    uname='linux k93jammy 6.5.0-18-generic #18~22.04.1-ubuntu smp preempt_dynamic wed feb 7 11:40:03 utc 2 x86_64 x86_64 x86_64 gnulinux '
    config_args='-Dprefix=/home/sand/src/perl/repoperls/installed-perls/host/k93jammy/v5.39.8/5674 -Dmyhostname=k93jammy -Dinstallusrbinperl=n -Uversiononly -Dusedevel -des -Ui_db -Dlibswanted=cl pthread socket inet nsl gdbm dbm malloc dl ld sun m crypt sec util c cposix posix ucb BSD gdbm_compat -Uuseithreads -Duselongdouble -DEBUGGING=-g'
    hint=recommended
    useposix=true
    d_sigaction=define
    useithreads=undef
    usemultiplicity=undef
    use64bitint=define
    use64bitall=define
    uselongdouble=define
    usemymalloc=n
    default_inc_excludes_dot=define
  Compiler:
    cc='cc'
    ccflags ='-fwrapv -fno-strict-aliasing -pipe -fstack-protector-strong -I/usr/local/include -D_LARGEFILE_SOURCE -D_FILE_OFFSET_BITS=64'
    optimize='-O2 -g'
    cppflags='-fwrapv -fno-strict-aliasing -pipe -fstack-protector-strong -I/usr/local/include'
    ccversion=''
    gccversion='11.4.0'
    gccosandvers=''
    intsize=4
    longsize=8
    ptrsize=8
    doublesize=8
    byteorder=12345678
    doublekind=3
    d_longlong=define
    longlongsize=8
    d_longdbl=define
    longdblsize=16
    longdblkind=3
    ivtype='long'
    ivsize=8
    nvtype='long double'
    nvsize=16
    Off_t='off_t'
    lseeksize=8
    alignbytes=16
    prototype=define
  Linker and Libraries:
    ld='cc'
    ldflags =' -fstack-protector-strong -L/usr/local/lib'
    libpth=/usr/local/lib /usr/lib/x86_64-linux-gnu /usr/lib /usr/lib64
    libs=-lpthread -lnsl -ldl -lm -lcrypt -lutil -lc
    perllibs=-lpthread -lnsl -ldl -lm -lcrypt -lutil -lc
    libc=/lib/x86_64-linux-gnu/libc.so.6
    so=so
    useshrplib=false
    libperl=libperl.a
    gnulibc_version='2.35'
  Dynamic Linking:
    dlsrc=dl_dlopen.xs
    dlext=so
    d_dlsymun=undef
    ccdlflags='-Wl,-E'
    cccdlflags='-fPIC'
    lddlflags='-shared -O2 -g -L/usr/local/lib -fstack-protector-strong'


Characteristics of this binary (from libperl): 
  Compile-time options:
    HAS_LONG_DOUBLE
    HAS_STRTOLD
    HAS_TIMES
    PERLIO_LAYERS
    PERL_COPY_ON_WRITE
    PERL_DONT_CREATE_GVSV
    PERL_HASH_FUNC_SIPHASH13
    PERL_HASH_USE_SBOX32
    PERL_MALLOC_WRAP
    PERL_OP_PARENT
    PERL_PRESERVE_IVUV
    PERL_USE_DEVEL
    PERL_USE_SAFE_PUTENV
    USE_64_BIT_ALL
    USE_64_BIT_INT
    USE_LARGE_FILES
    USE_LOCALE
    USE_LOCALE_COLLATE
    USE_LOCALE_CTYPE
    USE_LOCALE_NUMERIC
    USE_LOCALE_TIME
    USE_LONG_DOUBLE
    USE_PERLIO
    USE_PERL_ATOF
  Built under linux
  Compiled at Feb 24 2024 06:38:08
  %ENV:
    PERL="/tmp/basesmoker-reloperl-3I3J/bin/perl"
    PERL5LIB="/tmp/loop_over_bdir-1942-HD1cEy/EJBCA-CrlPublish-0.60-0/blib/arch:/tmp/loop_over_bdir-1942-HD1cEy/EJBCA-CrlPublish-0.60-0/blib/lib:/tmp/loop_over_bdir-1942-HD1cEy/MP3-PodcastFetch-1.05-0/blib/arch:/tmp/loop_over_bdir-1942-HD1cEy/MP3-PodcastFetch-1.05-0/blib/lib:/tmp/loop_over_bdir-1942-HD1cEy/triceps-2.1.0-0/blib/arch:/tmp/loop_over_bdir-1942-HD1cEy/triceps-2.1.0-0/blib/lib:/tmp/loop_over_bdir-1942-HD1cEy/Net-OpenVPN-DDNS-0.1-0/blib/arch:/tmp/loop_over_bdir-1942-HD1cEy/Net-OpenVPN-DDNS-0.1-0/blib/lib:/tmp/loop_over_bdir-1942-HD1cEy/Net-ISP-Balance-1.31-0/blib/arch:/tmp/loop_over_bdir-1942-HD1cEy/Net-ISP-Balance-1.31-0/blib/lib:/tmp/loop_over_bdir-1942-HD1cEy/Dpkg-1.22.5-0/blib/arch:/tmp/loop_over_bdir-1942-HD1cEy/Dpkg-1.22.5-0/blib/lib"
    PERL5OPT=""
    PERL5_CPANPLUS_IS_RUNNING="1950"
    PERL5_CPAN_IS_RUNNING="1950"
    PERL_CANARY_STABILITY_NOPROMPT="1"
    PERL_MM_USE_DEFAULT="1"
    PERL_USE_UNSAFE_INC="1"
  @INC:
    /tmp/loop_over_bdir-1942-HD1cEy/EJBCA-CrlPublish-0.60-0/blib/arch
    /tmp/loop_over_bdir-1942-HD1cEy/EJBCA-CrlPublish-0.60-0/blib/lib
    /tmp/loop_over_bdir-1942-HD1cEy/MP3-PodcastFetch-1.05-0/blib/arch
    /tmp/loop_over_bdir-1942-HD1cEy/MP3-PodcastFetch-1.05-0/blib/lib
    /tmp/loop_over_bdir-1942-HD1cEy/triceps-2.1.0-0/blib/arch
    /tmp/loop_over_bdir-1942-HD1cEy/triceps-2.1.0-0/blib/lib
    /tmp/loop_over_bdir-1942-HD1cEy/Net-OpenVPN-DDNS-0.1-0/blib/arch
    /tmp/loop_over_bdir-1942-HD1cEy/Net-OpenVPN-DDNS-0.1-0/blib/lib
    /tmp/loop_over_bdir-1942-HD1cEy/Net-ISP-Balance-1.31-0/blib/arch
    /tmp/loop_over_bdir-1942-HD1cEy/Net-ISP-Balance-1.31-0/blib/lib
    /tmp/loop_over_bdir-1942-HD1cEy/Dpkg-1.22.5-0/blib/arch
    /tmp/loop_over_bdir-1942-HD1cEy/Dpkg-1.22.5-0/blib/lib
    /home/sand/src/perl/repoperls/installed-perls/host/k93jammy/v5.39.8/5674/lib/site_perl/5.39.8/x86_64-linux-ld
    /home/sand/src/perl/repoperls/installed-perls/host/k93jammy/v5.39.8/5674/lib/site_perl/5.39.8
    /home/sand/src/perl/repoperls/installed-perls/host/k93jammy/v5.39.8/5674/lib/5.39.8/x86_64-linux-ld
    /home/sand/src/perl/repoperls/installed-perls/host/k93jammy/v5.39.8/5674/lib/5.39.8
    .