Catalyst-Model-DBIC-Schema v0.65 Perl 5 v5.22.2 x86_64-linux

Status
Pass
From
Andreas J. König (ANDK)
Dist
Catalyst-Model-DBIC-Schema v0.65
Platform
Perl 5 v5.22.2 x86_64-linux
Date
2017-10-17 22:31:56
ID
fb6e35e8-b38a-11e7-b099-49c69f3bb17c
This distribution has been tested as part of the CPAN Testers
project, supporting the Perl programming language.  See
http://wiki.cpantesters.org/ for more information or email
questions to cpan-testers-discuss@perl.org


--
Dear Gareth Kirwan,

This is a computer-generated report for Catalyst-Model-DBIC-Schema-0.65
on perl 5.22.2, created by CPAN-Reporter-1.2018.

Thank you for uploading your work to CPAN.  Congratulations!
All tests were successful.

Sections of this report:

    * Tester comments
    * Program output
    * Prerequisites
    * Environment and other context

------------------------------
TESTER COMMENTS
------------------------------

Additional comments from tester:

this report is from an automated smoke testing program
and was not reviewed by a human for accuracy

------------------------------
PROGRAM OUTPUT
------------------------------

Output from '/usr/bin/make test':

PERL_DL_NONLAZY=1 "/home/sand/src/perl/repoperls/installed-perls/host/k93msid/v5.22.2/89ad/bin/perl" "-MExtUtils::Command::MM" "-MTest::Harness" "-e" "undef *Test::Harness::Switches; test_harness(0, 'inc', 'blib/lib', 'blib/arch')" t/01use.t t/02pod.t t/05testapp.t t/06c3_issues.t t/07connect_info.t t/08helper.t t/09schema_options.t t/10literal_sql_through_accessor.t
t/01use.t ........................... ok
t/02pod.t ........................... skipped: set TEST_POD to enable this test
t/05testapp.t ....................... skipped: Enable this optional test with $ENV{C_M_DBIC_SCHEMA_TESTAPP}
t/06c3_issues.t ..................... ok
t/07connect_info.t .................. ok
t/08helper.t ........................ skipped: Test requires module 'Catalyst::Helper' but it's not found
t/09schema_options.t ................ ok
t/10literal_sql_through_accessor.t .. ok
All tests successful.
Files=8, Tests=25, 14 wallclock secs ( 0.03 usr  0.05 sys +  4.25 cusr  0.72 csys =  5.05 CPU)
Result: PASS

------------------------------
PREREQUISITES
------------------------------

Prerequisite modules loaded:

requires:

    Module                                  Need     Have       
    --------------------------------------- -------- -----------
    Carp::Clan                              0        6.06       
    Catalyst::Component::InstancePerContext 0        0.001001   
    Catalyst::Runtime                       5.80005  5.90115    
    CatalystX::Component::Traits            0.14     0.19       
    DBD::SQLite                             0        1.54       
    DBIx::Class                             0.08114  0.082899_15
    Hash::Merge                             0        0.200      
    List::MoreUtils                         0        0.425      
    Module::Runtime                         0.012    0.016      
    Moose                                   1.12     2.2006     
    MooseX::MarkAsMethods                   0.13     0.15       
    MooseX::Types                           0        0.50       
    MooseX::Types::LoadableClass            0.009    0.015      
    namespace::autoclean                    0.09     0.28       
    namespace::clean                        0        0.27       
    perl                                    5.008001 5.022002   
    Storable                                0        2.53_01    
    Test::Exception                         0        0.43       
    Test::More                              0.94     1.302103   
    Test::Requires                          0        0.10       
    Tie::IxHash                             0        1.23       
    Try::Tiny                               0        0.28       

build_requires:

    Module                                  Need     Have       
    --------------------------------------- -------- -----------
    DBD::SQLite                             0        1.54       
    ExtUtils::MakeMaker                     6.59     7.30       
    Storable                                0        2.53_01    
    Test::Exception                         0        0.43       
    Test::More                              0.94     1.302103   
    Test::Requires                          0        0.10       

configure_requires:

    Module                                  Need     Have       
    --------------------------------------- -------- -----------
    ExtUtils::MakeMaker                     6.59     7.30       


------------------------------
ENVIRONMENT AND OTHER CONTEXT
------------------------------

Environment variables:

    AUTOMATED_TESTING = 1
    LANG = en_US.UTF-8
    PATH = /home/sand/bin:/usr/local/bin:/usr/bin:/bin:/usr/games:/usr/local/perl/bin:/usr/X11/bin:/sbin:/usr/sbin
    PERL5LIB = /tmp/loop_over_bdir-22728-LPzswR/MooseX-Types-LoadableClass-0.015-0/blib/arch:/tmp/loop_over_bdir-22728-LPzswR/MooseX-Types-LoadableClass-0.015-0/blib/lib:/tmp/loop_over_bdir-22728-LPzswR/MooseX-MarkAsMethods-0.15-0/blib/arch:/tmp/loop_over_bdir-22728-LPzswR/MooseX-MarkAsMethods-0.15-0/blib/lib:/tmp/loop_over_bdir-22728-LPzswR/CatalystX-Component-Traits-0.19-0/blib/arch:/tmp/loop_over_bdir-22728-LPzswR/CatalystX-Component-Traits-0.19-0/blib/lib:/tmp/loop_over_bdir-22728-LPzswR/MooseX-Traits-Pluggable-0.12-0/blib/arch:/tmp/loop_over_bdir-22728-LPzswR/MooseX-Traits-Pluggable-0.12-0/blib/lib:/tmp/loop_over_bdir-22728-LPzswR/Catalyst-Component-InstancePerContext-0.001001-0/blib/arch:/tmp/loop_over_bdir-22728-LPzswR/Catalyst-Component-InstancePerContext-0.001001-0/blib/lib
    PERL5OPT = 
    PERL5_CPANPLUS_IS_RUNNING = 22730
    PERL5_CPAN_IS_RUNNING = 22730
    PERL5_CPAN_IS_RUNNING_IN_RECURSION = 1256,22730
    PERL_CANARY_STABILITY_NOPROMPT = 1
    PERL_MM_USE_DEFAULT = 1
    PERL_USE_UNSAFE_INC = 1
    SHELL = /usr/bin/zsh
    TERM = screen

Perl special variables (and OS-specific diagnostics, for MSWin32):

    $^X = /home/sand/src/perl/repoperls/installed-perls/host/k93msid/v5.22.2/89ad/bin/perl
    $UID/$EUID = 1005 / 1005
    $GID = 1005 1005
    $EGID = 1005 1005

Perl module toolchain versions installed:

    Module              Have    
    ------------------- --------
    CPAN                2.18    
    CPAN::Meta          2.150010
    Cwd                 3.62    
    ExtUtils::CBuilder  0.280226
    ExtUtils::Command   7.30    
    ExtUtils::Install   2.06    
    ExtUtils::MakeMaker 7.30    
    ExtUtils::Manifest  1.70    
    ExtUtils::ParseXS   3.35    
    File::Spec          3.62    
    JSON                2.94    
    JSON::PP            2.94    
    Module::Build       0.4224  
    Module::Signature   0.81    
    Parse::CPAN::Meta   2.150010
    Test::Harness       3.39    
    Test::More          1.302103
    YAML                1.23    
    YAML::Syck          1.30    
    version             0.9909  


--

Summary of my perl5 (revision 5 version 22 subversion 2) configuration:
  Derived from: 9cbffb38735712e3a34e6f537892b6ef06fb815f
  Platform:
    osname=linux, osvers=4.12.0-2-amd64, archname=x86_64-linux
    uname='linux k93msid 4.12.0-2-amd64 #1 smp debian 4.12.13-1 (2017-09-19) x86_64 gnulinux '
    config_args='-Dprefix=/home/sand/src/perl/repoperls/installed-perls/host/k93msid/v5.22.2/89ad -Dmyhostname=k93msid -Dinstallusrbinperl=n -Uversiononly -Dusedevel -des -Ui_db -Dlibswanted=cl pthread socket inet nsl gdbm dbm malloc dl ld sun m crypt sec util c cposix posix ucb BSD gdbm_compat -Uuseithreads -Uuselongdouble -DDEBUGGING=-g'
    hint=recommended, useposix=true, d_sigaction=define
    useithreads=undef, usemultiplicity=undef
    use64bitint=define, use64bitall=define, uselongdouble=undef
    usemymalloc=n, bincompat5005=undef
  Compiler:
    cc='cc', ccflags ='-fwrapv -fno-strict-aliasing -pipe -fstack-protector-strong -I/usr/local/include -D_LARGEFILE_SOURCE -D_FILE_OFFSET_BITS=64',
    optimize='-O2 -g',
    cppflags='-fwrapv -fno-strict-aliasing -pipe -fstack-protector-strong -I/usr/local/include'
    ccversion='', gccversion='7.2.0', gccosandvers=''
    intsize=4, longsize=8, ptrsize=8, doublesize=8, byteorder=12345678, doublekind=3
    d_longlong=define, longlongsize=8, d_longdbl=define, longdblsize=16, longdblkind=3
    ivtype='long', ivsize=8, nvtype='double', nvsize=8, Off_t='off_t', lseeksize=8
    alignbytes=8, prototype=define
  Linker and Libraries:
    ld='cc', ldflags =' -fstack-protector-strong -L/usr/local/lib'
    libpth=/usr/local/lib /usr/lib/gcc/x86_64-linux-gnu/7/include-fixed /usr/include/x86_64-linux-gnu /usr/lib /lib/x86_64-linux-gnu /lib/../lib /usr/lib/x86_64-linux-gnu /usr/lib/../lib /lib
    libs=-lpthread -lnsl -ldl -lm -lcrypt -lutil -lc
    perllibs=-lpthread -lnsl -ldl -lm -lcrypt -lutil -lc
    libc=libc-2.24.so, so=so, useshrplib=false, libperl=libperl.a
    gnulibc_version='2.24'
  Dynamic Linking:
    dlsrc=dl_dlopen.xs, dlext=so, d_dlsymun=undef, ccdlflags='-Wl,-E'
    cccdlflags='-fPIC', lddlflags='-shared -O2 -g -L/usr/local/lib -fstack-protector-strong'


Characteristics of this binary (from libperl): 
  Compile-time options: HAS_TIMES PERLIO_LAYERS PERL_DONT_CREATE_GVSV
                        PERL_HASH_FUNC_ONE_AT_A_TIME_HARD PERL_MALLOC_WRAP
                        PERL_NEW_COPY_ON_WRITE PERL_PRESERVE_IVUV
                        PERL_USE_DEVEL USE_64_BIT_ALL USE_64_BIT_INT
                        USE_LARGE_FILES USE_LOCALE USE_LOCALE_COLLATE
                        USE_LOCALE_CTYPE USE_LOCALE_NUMERIC USE_LOCALE_TIME
                        USE_PERLIO USE_PERL_ATOF
  Locally applied patches:
	uncommitted-changes
  Built under linux
  Compiled at Oct  4 2017 01:29:44
  %ENV:
    PERL5LIB="/tmp/loop_over_bdir-22728-LPzswR/MooseX-Types-LoadableClass-0.015-0/blib/arch:/tmp/loop_over_bdir-22728-LPzswR/MooseX-Types-LoadableClass-0.015-0/blib/lib:/tmp/loop_over_bdir-22728-LPzswR/MooseX-MarkAsMethods-0.15-0/blib/arch:/tmp/loop_over_bdir-22728-LPzswR/MooseX-MarkAsMethods-0.15-0/blib/lib:/tmp/loop_over_bdir-22728-LPzswR/CatalystX-Component-Traits-0.19-0/blib/arch:/tmp/loop_over_bdir-22728-LPzswR/CatalystX-Component-Traits-0.19-0/blib/lib:/tmp/loop_over_bdir-22728-LPzswR/MooseX-Traits-Pluggable-0.12-0/blib/arch:/tmp/loop_over_bdir-22728-LPzswR/MooseX-Traits-Pluggable-0.12-0/blib/lib:/tmp/loop_over_bdir-22728-LPzswR/Catalyst-Component-InstancePerContext-0.001001-0/blib/arch:/tmp/loop_over_bdir-22728-LPzswR/Catalyst-Component-InstancePerContext-0.001001-0/blib/lib"
    PERL5OPT=""
    PERL5_CPANPLUS_IS_RUNNING="22730"
    PERL5_CPAN_IS_RUNNING="22730"
    PERL5_CPAN_IS_RUNNING_IN_RECURSION="1256,22730"
    PERL_CANARY_STABILITY_NOPROMPT="1"
    PERL_MM_USE_DEFAULT="1"
    PERL_USE_UNSAFE_INC="1"
  @INC:
    /tmp/loop_over_bdir-22728-LPzswR/MooseX-Types-LoadableClass-0.015-0/blib/arch
    /tmp/loop_over_bdir-22728-LPzswR/MooseX-Types-LoadableClass-0.015-0/blib/lib
    /tmp/loop_over_bdir-22728-LPzswR/MooseX-MarkAsMethods-0.15-0/blib/arch
    /tmp/loop_over_bdir-22728-LPzswR/MooseX-MarkAsMethods-0.15-0/blib/lib
    /tmp/loop_over_bdir-22728-LPzswR/CatalystX-Component-Traits-0.19-0/blib/arch
    /tmp/loop_over_bdir-22728-LPzswR/CatalystX-Component-Traits-0.19-0/blib/lib
    /tmp/loop_over_bdir-22728-LPzswR/MooseX-Traits-Pluggable-0.12-0/blib/arch
    /tmp/loop_over_bdir-22728-LPzswR/MooseX-Traits-Pluggable-0.12-0/blib/lib
    /tmp/loop_over_bdir-22728-LPzswR/Catalyst-Component-InstancePerContext-0.001001-0/blib/arch
    /tmp/loop_over_bdir-22728-LPzswR/Catalyst-Component-InstancePerContext-0.001001-0/blib/lib
    /home/sand/src/perl/repoperls/installed-perls/host/k93msid/v5.22.2/89ad/lib/site_perl/5.22.2/x86_64-linux
    /home/sand/src/perl/repoperls/installed-perls/host/k93msid/v5.22.2/89ad/lib/site_perl/5.22.2
    /home/sand/src/perl/repoperls/installed-perls/host/k93msid/v5.22.2/89ad/lib/5.22.2/x86_64-linux
    /home/sand/src/perl/repoperls/installed-perls/host/k93msid/v5.22.2/89ad/lib/5.22.2
    .