DateTime-Format-Epoch v0.12 Perl 5 v5.12.1 i686-linux
- Status
- Pass
- From
- Roland van Ipenburg (IPENBURG)
- Dist
-
DateTime-Format-Epoch v0.12
- Platform
- Perl 5 v5.12.1 i686-linux
- Date
- 2010-08-25 00:01:59
- ID
- fb70fbbc-afdb-11df-b674-97fcd9a8da60
This distribution has been tested as part of the CPAN Testers
project, supporting the Perl programming language. See
http://wiki.cpantesters.org/ for more information or email
questions to cpan-testers-discuss@perl.org
--
Dear Alexandr Ciornii,
This is a computer-generated report for DateTime-Format-Epoch-0.12
on perl 5.12.1, created by CPAN-Reporter-1.18.
Thank you for uploading your work to CPAN. Congratulations!
All tests were successful.
Sections of this report:
* Tester comments
* Program output
* Prerequisites
* Environment and other context
------------------------------
TESTER COMMENTS
------------------------------
Additional comments from tester:
none provided
------------------------------
PROGRAM OUTPUT
------------------------------
Output from '/usr/bin/make test':
PERL_DL_NONLAZY=1 /usr/local/bin/perl "-MExtUtils::Command::MM" "-e" "test_harness(0, 'blib/lib', 'blib/arch')" t/*.t
# ==> DateTime version = 0.61
# ==> Math::BigInt version = 1.89_01
# ==> Math::BigInt lib = Math::BigInt::FastCalc
t/001_load.t .... ok
t/002_format.t .. ok
t/003_bigint.t .. ok
t/004_nano.t .... ok
t/005_leap.t .... ok
t/006_local.t ... ok
t/007_parse.t ... ok
t/008_dhms.t .... ok
t/101_load.t .... ok
t/102_format.t .. ok
t/201_load.t .... ok
t/202_format.t .. ok
t/301_load.t .... ok
t/302_format.t .. ok
t/303_parse.t ... ok
t/401_load.t .... ok
t/402_format.t .. ok
t/502_format.t .. ok
t/601_load.t .... ok
t/pod.t ......... ok
All tests successful.
Files=20, Tests=129, 6 wallclock secs ( 0.12 usr 0.05 sys + 5.04 cusr 0.27 csys = 5.48 CPU)
Result: PASS
------------------------------
PREREQUISITES
------------------------------
Prerequisite modules loaded:
requires:
Module Need Have
---------------- ---- -------
DateTime 0.31 0.61
Math::BigInt 1.66 1.89_01
Params::Validate 0 0.95
------------------------------
ENVIRONMENT AND OTHER CONTEXT
------------------------------
Environment variables:
LANG = en_US.UTF-8
PATH = /usr/bin:/bin
PERL5LIB =
PERL5OPT =
PERL5_CPANPLUS_IS_RUNNING = 16118
PERL5_CPAN_IS_RUNNING = 16118
SHELL = /bin/sh
Perl special variables (and OS-specific diagnostics, for MSWin32):
$^X = /usr/local/bin/perl
$UID/$EUID = 0 / 0
$GID = 0 0
$EGID = 0 0
Perl module toolchain versions installed:
Module Have
------------------- -------
CPAN 1.94_56
Cwd 3.31
ExtUtils::CBuilder 0.2703
ExtUtils::Command 1.16
ExtUtils::Install 1.55
ExtUtils::MakeMaker 6.56
ExtUtils::Manifest 1.58
ExtUtils::ParseXS 2.2206
File::Spec 3.31
Module::Build 0.3607
Module::Signature 0.64
Test::Harness 3.22
Test::More 0.96
YAML 0.71
YAML::Syck 1.12
version 0.82
--
Summary of my perl5 (revision 5 version 12 subversion 1) configuration:
Derived from: b85be81e3471288c8c432533cfaf3713e28157e9
Platform:
osname=linux, osvers=2.6.34.1.20100706, archname=i686-linux
uname='linux brieneno.lan 2.6.34.1.20100706 #1 smp preempt tue jul 6 18:11:09 cest 2010 i686 gnulinux '
config_args='-de'
hint=recommended, useposix=true, d_sigaction=define
useithreads=undef, usemultiplicity=undef
useperlio=define, d_sfio=undef, uselargefiles=define, usesocks=undef
use64bitint=undef, use64bitall=undef, uselongdouble=undef
usemymalloc=n, bincompat5005=undef
Compiler:
cc='cc', ccflags ='-fno-strict-aliasing -pipe -fstack-protector -I/usr/local/include -D_LARGEFILE_SOURCE -D_FILE_OFFSET_BITS=64',
optimize='-O2',
cppflags='-fno-strict-aliasing -pipe -fstack-protector -I/usr/local/include'
ccversion='', gccversion='4.3.2', gccosandvers=''
intsize=4, longsize=4, ptrsize=4, doublesize=8, byteorder=1234
d_longlong=define, longlongsize=8, d_longdbl=define, longdblsize=12
ivtype='long', ivsize=4, nvtype='double', nvsize=8, Off_t='off_t', lseeksize=8
alignbytes=4, prototype=define
Linker and Libraries:
ld='cc', ldflags =' -fstack-protector -L/usr/local/lib'
libpth=/usr/local/lib /lib /usr/lib /usr/lib64
libs=-lnsl -ldb -ldl -lm -lcrypt -lutil -lc
perllibs=-lnsl -ldl -lm -lcrypt -lutil -lc
libc=/lib/libc-2.7.so, so=so, useshrplib=false, libperl=libperl.a
gnulibc_version='2.7'
Dynamic Linking:
dlsrc=dl_dlopen.xs, dlext=so, d_dlsymun=undef, ccdlflags='-Wl,-E'
cccdlflags='-fPIC', lddlflags='-shared -O2 -L/usr/local/lib -fstack-protector'
Characteristics of this binary (from libperl):
Compile-time options: PERL_DONT_CREATE_GVSV PERL_MALLOC_WRAP
USE_LARGE_FILES USE_PERLIO USE_PERL_ATOF
Locally applied patches:
uncommitted-changes
Built under linux
Compiled at Jul 16 2010 18:49:10
%ENV:
PERL5LIB=""
PERL5OPT=""
PERL5_CPANPLUS_IS_RUNNING="16118"
PERL5_CPAN_IS_RUNNING="16118"
@INC:
/usr/local/lib/perl5/site_perl/5.12.1/i686-linux
/usr/local/lib/perl5/site_perl/5.12.1
/usr/local/lib/perl5/5.12.1/i686-linux
/usr/local/lib/perl5/5.12.1
/usr/local/lib/perl5/site_perl/5.12.0/i686-linux
/usr/local/lib/perl5/site_perl/5.12.0
/usr/local/lib/perl5/site_perl/5.11.0
/usr/local/lib/perl5/site_perl/5.10.0
/usr/local/lib/perl5/site_perl
.