Device-HID v0.007 Perl 5 v5.10.1 x86_64-linux
- Status
- Pass
- From
- Slaven Rezić (SREZIC)
- Dist
-
Device-HID v0.007
- Platform
- Perl 5 v5.10.1 x86_64-linux
- Date
- 2018-03-13 14:36:57
- ID
- fb7a7826-26cb-11e8-8264-e5ac1ec1f9c4
This distribution has been tested as part of the CPAN Testers
project, supporting the Perl programming language. See
http://wiki.cpantesters.org/ for more information or email
questions to cpan-testers-discuss@perl.org
--
Dear Ahmad Fatoum,
This is a computer-generated report for Device-HID-0.007
on perl 5.10.1, created by CPAN-Reporter-1.2018.
Thank you for uploading your work to CPAN. Congratulations!
All tests were successful.
Sections of this report:
* Tester comments
* Program output
* Prerequisites
* Environment and other context
------------------------------
TESTER COMMENTS
------------------------------
Additional comments from tester:
none provided
------------------------------
PROGRAM OUTPUT
------------------------------
Output from '/usr/bin/make test':
make[1]: Entering directory '/tmpfs/.cpan-build-cpansand/2018031312/Device-HID-0.007-17/XS'
"/bbbike/perl-5.10.1/bin/perl" -MExtUtils::Command::MM -e 'cp_nonempty' -- XS.bs ../blib/arch/auto/Device/HID/XS/XS.bs 644
Manifying 1 pod document
make[1]: Leaving directory '/tmpfs/.cpan-build-cpansand/2018031312/Device-HID-0.007-17/XS'
make[1]: Entering directory '/tmpfs/.cpan-build-cpansand/2018031312/Device-HID-0.007-17/XS'
"/bbbike/perl-5.10.1/bin/perl" -MExtUtils::Command::MM -e 'cp_nonempty' -- XS.bs ../blib/arch/auto/Device/HID/XS/XS.bs 644
PERL_DL_NONLAZY=1 "/bbbike/perl-5.10.1/bin/perl" "-MExtUtils::Command::MM" "-MTest::Harness" "-e" "undef *Test::Harness::Switches; test_harness(0, '../blib/lib', '../blib/arch')" t/*.t
t/Device-HID-XS.t .. ok
All tests successful.
Files=1, Tests=2, 0 wallclock secs ( 0.00 usr 0.01 sys + 0.02 cusr 0.01 csys = 0.04 CPU)
Result: PASS
make[1]: Leaving directory '/tmpfs/.cpan-build-cpansand/2018031312/Device-HID-0.007-17/XS'
PERL_DL_NONLAZY=1 "/bbbike/perl-5.10.1/bin/perl" "-MExtUtils::Command::MM" "-MTest::Harness" "-e" "undef *Test::Harness::Switches; test_harness(0, 'blib/lib', 'blib/arch')" t/*.t
t/00-compile.t ......... ok
#
# Versions for all modules listed in MYMETA.json (including optional ones):
#
# === Configure Requires ===
#
# Module Want Have
# ------------------- ---- ----
# Alien::HIDAPI any 0.03
# ExtUtils::MakeMaker any 7.32
# Inline::C any 0.78
#
# === Build Requires ===
#
# Module Want Have
# ------------------- ----- ----
# Alien::HIDAPI 0.004 0.03
# ExtUtils::MakeMaker any 7.32
#
# === Test Requires ===
#
# Module Want Have
# ------------------- ---- --------
# ExtUtils::MakeMaker any 7.32
# File::Spec any 3.62
# IO::Handle any 1.28
# IPC::Open3 any 1.04
# Test::HexString any 0.03
# Test::More any 1.302133
#
# === Test Recommends ===
#
# Module Want Have
# ---------- -------- --------
# CPAN::Meta 2.120900 2.150010
#
# === Runtime Requires ===
#
# Module Want Have
# ------------- ----- ----
# Alien::HIDAPI 0.004 0.03
#
t/00-report-prereqs.t .. ok
t/init.t ............... ok
Failed to hid_open at t/steam_controller.t line 10.
t/steam_controller.t ... ok
All tests successful.
Files=4, Tests=8, 0 wallclock secs ( 0.00 usr 0.02 sys + 0.19 cusr 0.04 csys = 0.25 CPU)
Result: PASS
------------------------------
PREREQUISITES
------------------------------
Prerequisite modules loaded:
requires:
Module Need Have
------------------- ----- --------
Alien::HIDAPI 0.004 0.03
perl 5.006 5.010001
build_requires:
Module Need Have
------------------- ----- --------
Alien::HIDAPI 0.004 0.03
ExtUtils::MakeMaker 0 7.32
File::Spec 0 3.62
IO::Handle 0 1.28
IPC::Open3 0 1.04
Test::HexString 0 0.03
Test::More 0 1.302133
configure_requires:
Module Need Have
------------------- ----- --------
Alien::HIDAPI 0 0.03
ExtUtils::MakeMaker 0 7.32
Inline::C 0 0.78
perl 5.006 5.010001
------------------------------
ENVIRONMENT AND OTHER CONTEXT
------------------------------
Environment variables:
LANG = C
LC_ALL = de_DE.UTF-8
PATH = /usr/local/bin:/usr/bin:/bin:/usr/local/sbin:/usr/sbin:/sbin:/home/cpansand/bin/linux-gnu:/home/cpansand/bin/sh:/home/cpansand/bin:/usr/games:/home/cpansand/devel:/home/eserte/src/srezic-misc/scripts
PERL5LIB = /home/cpansand/.cpan/build/2018031312/Device-BusPirate-0.14-17/blib/arch:/home/cpansand/.cpan/build/2018031312/Device-BusPirate-0.14-17/blib/lib:/home/cpansand/.cpan/build/2018031312/Device-Chip-0.11-36/blib/arch:/home/cpansand/.cpan/build/2018031312/Device-Chip-0.11-36/blib/lib
PERL5OPT =
PERL5_CPANPLUS_IS_RUNNING = 5367
PERL5_CPAN_IS_RUNNING = 5367
PERL5_CPAN_IS_RUNNING_IN_RECURSION = 27292,5367
PERLDOC = -MPod::Perldoc::ToTextOverstrike
PERL_BATCH = yes
PERL_CANARY_STABILITY_NOPROMPT = 1
PERL_CPAN_REPORTER_CONFIG = /var/tmp/cpansmoker-1023/2018031312/cpanreporter_000_config.ini
PERL_EXTUTILS_AUTOINSTALL = --defaultdeps
PERL_PARALLEL_SMOKER = yes
PERL_USE_UNSAFE_INC = 1
SHELL = /bin/zsh
TERM = screen
TMPDIR = /var/tmp/cpansmoker-1023/2018031312
Perl special variables (and OS-specific diagnostics, for MSWin32):
$^X = /bbbike/perl-5.10.1/bin/perl
$UID/$EUID = 1023 / 1023
$GID = 1023 1023
$EGID = 1023 1023
Perl module toolchain versions installed:
Module Have
------------------- --------
CPAN 2.16
CPAN::Meta 2.150010
Cwd 3.62
ExtUtils::CBuilder 0.280230
ExtUtils::Command 7.32
ExtUtils::Install 2.12
ExtUtils::MakeMaker 7.32
ExtUtils::Manifest 1.70
ExtUtils::ParseXS 3.30
File::Spec 3.62
JSON 2.94
JSON::PP 2.27400
Module::Build 0.4224
Module::Signature 0.81
Parse::CPAN::Meta 2.150010
Test::Harness 3.41
Test::More 1.302133
YAML 1.23
YAML::Syck 1.30
version 0.9916
--
Summary of my perl5 (revision 5 version 10 subversion 1) configuration:
Platform:
osname=linux, osvers=3.16.0-4-amd64, archname=x86_64-linux
uname='linux eserte 3.16.0-4-amd64 #1 smp debian 3.16.7-ckt25-2 (2016-04-08) x86_64 gnulinux '
config_args='-ds -e -Dprefix=/opt/perl-5.10.1 -Dcf_email=srezic@cpan.org'
hint=recommended, useposix=true, d_sigaction=define
useithreads=undef, usemultiplicity=undef
useperlio=define, d_sfio=undef, uselargefiles=define, usesocks=undef
use64bitint=define, use64bitall=define, uselongdouble=undef
usemymalloc=n, bincompat5005=undef
Compiler:
cc='cc', ccflags ='-fno-strict-aliasing -pipe -fstack-protector -I/usr/local/include -D_LARGEFILE_SOURCE -D_FILE_OFFSET_BITS=64',
optimize='-O2',
cppflags='-fno-strict-aliasing -pipe -fstack-protector -I/usr/local/include'
ccversion='', gccversion='4.9.2', gccosandvers=''
intsize=4, longsize=8, ptrsize=8, doublesize=8, byteorder=12345678
d_longlong=define, longlongsize=8, d_longdbl=define, longdblsize=16
ivtype='long', ivsize=8, nvtype='double', nvsize=8, Off_t='off_t', lseeksize=8
alignbytes=8, prototype=define
Linker and Libraries:
ld='cc', ldflags =' -fstack-protector -L/usr/local/lib'
libpth=/usr/local/lib /lib/x86_64-linux-gnu /lib/../lib /usr/lib/x86_64-linux-gnu /usr/lib/../lib /lib /usr/lib
libs=-lnsl -ldl -lm -lcrypt -lutil -lc
perllibs=-lnsl -ldl -lm -lcrypt -lutil -lc
libc=libc-2.19.so, so=so, useshrplib=false, libperl=libperl.a
gnulibc_version='2.19'
Dynamic Linking:
dlsrc=dl_dlopen.xs, dlext=so, d_dlsymun=undef, ccdlflags='-Wl,-E'
cccdlflags='-fPIC', lddlflags='-shared -O2 -L/usr/local/lib -fstack-protector'
Characteristics of this binary (from libperl):
Compile-time options: PERL_DONT_CREATE_GVSV PERL_MALLOC_WRAP USE_64_BIT_ALL
USE_64_BIT_INT USE_LARGE_FILES USE_PERLIO
Locally applied patches:
Devel::PatchPerl 1.42
Built under linux
Compiled at May 7 2016 09:04:56
%ENV:
PERL5LIB="/home/cpansand/.cpan/build/2018031312/Device-BusPirate-0.14-17/blib/arch:/home/cpansand/.cpan/build/2018031312/Device-BusPirate-0.14-17/blib/lib:/home/cpansand/.cpan/build/2018031312/Device-Chip-0.11-36/blib/arch:/home/cpansand/.cpan/build/2018031312/Device-Chip-0.11-36/blib/lib"
PERL5OPT=""
PERL5_CPANPLUS_IS_RUNNING="5367"
PERL5_CPAN_IS_RUNNING="5367"
PERL5_CPAN_IS_RUNNING_IN_RECURSION="27292,5367"
PERLDOC="-MPod::Perldoc::ToTextOverstrike"
PERL_BATCH="yes"
PERL_CANARY_STABILITY_NOPROMPT="1"
PERL_CPAN_REPORTER_CONFIG="/var/tmp/cpansmoker-1023/2018031312/cpanreporter_000_config.ini"
PERL_EXTUTILS_AUTOINSTALL="--defaultdeps"
PERL_PARALLEL_SMOKER="yes"
PERL_USE_UNSAFE_INC="1"
@INC:
/home/cpansand/.cpan/build/2018031312/Device-BusPirate-0.14-17/blib/arch
/home/cpansand/.cpan/build/2018031312/Device-BusPirate-0.14-17/blib/lib
/home/cpansand/.cpan/build/2018031312/Device-Chip-0.11-36/blib/arch
/home/cpansand/.cpan/build/2018031312/Device-Chip-0.11-36/blib/lib
/opt/perl-5.10.1/lib/5.10.1/x86_64-linux
/opt/perl-5.10.1/lib/5.10.1
/opt/perl-5.10.1/lib/site_perl/5.10.1/x86_64-linux
/opt/perl-5.10.1/lib/site_perl/5.10.1
.