Report for Salvation-MacroProcessor-0.93

Back
From: metabase:user:30ae4450-2aae-11df-837a-5e0a49663a4f
Subject: PASS Salvation-MacroProcessor-0.93 v5.25.10 
Date: 2017-04-10T22:41:34Z

This distribution has been tested as part of the CPAN Testers
project, supporting the Perl programming language.  See
http://wiki.cpantesters.org/ for more information or email
questions to cpan-testers-discuss@perl.org


--
Dear Gennadiy Filatov,

This is a computer-generated report for Salvation-MacroProcessor-0.93
on perl 5.25.10, created by CPAN-Reporter-1.2018.

Thank you for uploading your work to CPAN.  Congratulations!
All tests were successful.

Sections of this report:

    * Tester comments
    * Program output
    * Prerequisites
    * Environment and other context

------------------------------
TESTER COMMENTS
------------------------------

Additional comments from tester:

this report is from an automated smoke testing program
and was not reviewed by a human for accuracy

------------------------------
PROGRAM OUTPUT
------------------------------

Output from 'C:\Strawberry2510\perl\bin\perl.exe ./Build test':

t/00-description_adding/00-bare/00-method.t ............................................................. ok
t/00-description_adding/00-bare/01-attribute.t .......................................................... ok
t/00-description_adding/00-bare/02-stub_subroutine.t .................................................... ok
t/00-description_adding/01-with_query_parts/00-method/00-static.t ....................................... ok
t/00-description_adding/01-with_query_parts/00-method/01-dynamic/00-no_args.t ........................... ok
t/00-description_adding/01-with_query_parts/00-method/01-dynamic/01-with_args.t ......................... ok
t/00-description_adding/01-with_query_parts/01-attribute/00-static.t .................................... ok
t/00-description_adding/01-with_query_parts/01-attribute/01-dynamic/00-no_args.t ........................ ok
t/00-description_adding/01-with_query_parts/01-attribute/01-dynamic/01-with_args.t ...................... ok
t/00-description_adding/01-with_query_parts/01-attribute/01-dynamic/02-default_query_part_generation.t .. ok
t/00-description_adding/02-with_postfilter/00-method.t .................................................. ok
t/00-description_adding/02-with_postfilter/01-attribute.t ............................................... ok
t/01-simple_select.t .................................................................................... ok
t/02-share_adding.t ..................................................................................... ok
t/03-select_with_shares.t ............................................................................... ok
t/04-connector_adding.t ................................................................................. ok
t/05-complex_composition/00-roles.t ..................................................................... ok
t/05-complex_composition/01-inheritance.t ............................................................... ok
t/05-complex_composition/02-import.t .................................................................... ok
t/05-complex_composition/03-mixed.t ..................................................................... ok
t/05-complex_composition/04-chained_import.t ............................................................ ok
t/06-complex_select.t ................................................................................... ok
t/07-aliasing.t ......................................................................................... ok
All tests successful.
Files=23, Tests=118, 27 wallclock secs ( 0.14 usr +  0.19 sys =  0.33 CPU)
Result: PASS

------------------------------
PREREQUISITES
------------------------------

Prerequisite modules loaded:

requires:

    Module                      Need    Have    
    --------------------------- ------- --------
    B::Hooks::EndOfScope        0.11    0.21    
    Carp::Assert                0.20    0.21    
    Class::Load                 0.13    0.23    
    Class::Load::XS             0.03    0.09    
    Data::OptList               0.107   0.110   
    Devel::GlobalDestruction    0.04    0.14    
    Eval::Closure               0.08    0.14    
    List::MoreUtils             0.33    0.416   
    Module::Runtime             0.013   0.014   
    Moose                       2.0402  2.2004  
    MooseX::StrictConstructor   0.19    0.21    
    MRO::Compat                 0.11    0.12    
    namespace::autoclean        0.13    0.28    
    namespace::clean            0.23    0.27    
    Package::DeprecationManager 0.11    0.17    
    Package::Stash              0.33    0.37    
    Package::Stash::XS          0.25    0.28    
    Params::Util                1.04    1.07    
    perl                        v5.10.1 5.025010
    Sub::Exporter               0.982   0.987   
    Sub::Install                0.925   0.928   
    Sub::Name                   0.05    0.21    
    Try::Tiny                   0.11    0.28    
    Variable::Magic             0.48    0.61    
    version                     0.88    0.9917  

configure_requires:

    Module                      Need    Have    
    --------------------------- ------- --------
    Module::Build               0.36    0.4220  


------------------------------
ENVIRONMENT AND OTHER CONTEXT
------------------------------

Environment variables:

    AUTOMATED_TESTING = 1
    COMSPEC = C:\WINDOWS\system32\cmd.exe
    NUMBER_OF_PROCESSORS = 1
    PATH = C:\WINDOWS\system32;C:\WINDOWS;C:\WINDOWS\System32\Wbem;C:\Git\cmd;C:\Strawberry2510\c\bin;C:\Strawberry2510\perl\site\bin;C:\Strawberry2510\perl\bin
    PERL5LIB = 
    PERL5OPT = 
    PERL5_CPANPLUS_IS_RUNNING = 44068
    PERL5_CPAN_IS_RUNNING = 44068
    PERL5_CPAN_IS_RUNNING_IN_RECURSION = 2072,44068
    PERL_CR_SMOKER_CURRENT = Salvation-MacroProcessor-0.93
    PERL_CR_SMOKER_RUNONCE = 1
    PERL_EXTUTILS_AUTOINSTALL = --defaultdeps
    PERL_MM_USE_DEFAULT = 1
    PERL_USE_UNSAFE_INC = 1
    PROCESSOR_IDENTIFIER = x86 Family 16 Model 5 Stepping 3, AuthenticAMD
    TEMP = C:\DOCUME~1\a\LOCALS~1\Temp

Perl special variables (and OS-specific diagnostics, for MSWin32):

    $^X = C:\Strawberry2510\perl\bin\perl.exe
    $UID/$EUID = 0 / 0
    $GID = 0
    $EGID = 0
    Win32::GetOSName = WinXP/.Net
    Win32::GetOSVersion = Service Pack 3, 5, 1, 2600, 2, 3, 0, 256, 1
    Win32::FsType = NTFS
    Win32::IsAdminUser = 1

Perl module toolchain versions installed:

    Module              Have      
    ------------------- ----------
    CPAN                2.17      
    CPAN::Meta          2.150010  
    Cwd                 3.66      
    ExtUtils::CBuilder  0.280225  
    ExtUtils::Command   7.24      
    ExtUtils::Install   2.04      
    ExtUtils::MakeMaker 7.24      
    ExtUtils::Manifest  1.70      
    ExtUtils::ParseXS   3.33      
    File::Spec          3.66      
    JSON                2.90      
    JSON::PP            2.27400_02
    Module::Build       0.4220    
    Module::Signature   0.81      
    Parse::CPAN::Meta   2.150010  
    Test::Harness       3.36_01   
    Test::More          1.302075  
    YAML                1.23      
    YAML::Syck          1.29      
    version             0.9917    


--

Summary of my perl5 (revision 5 version 25 subversion 10) configuration:
   
  Platform:
    osname=MSWin32
    osvers=4.0
    archname=MSWin32-x86-multi-thread
    uname='Win32 strawberry-perl 5.25.10.1-beta1 #1 Fri Feb 24 21:36:42 2017 i386'
    config_args='undef'
    hint=recommended
    useposix=true
    d_sigaction=undef
    useithreads=define
    usemultiplicity=define
    use64bitint=undef
    use64bitall=undef
    uselongdouble=undef
    usemymalloc=n
    bincompat5005=undef
  Compiler:
    cc='gcc'
    ccflags =' -s -O2 -DWIN32  -DPERL_TEXTMODE_SCRIPTS -DPERL_IMPLICIT_CONTEXT -DPERL_IMPLICIT_SYS -fwrapv -fno-strict-aliasing -mms-bitfields'
    optimize='-s -O2'
    cppflags='-DWIN32'
    ccversion=''
    gccversion='4.9.2'
    gccosandvers=''
    intsize=4
    longsize=4
    ptrsize=4
    doublesize=8
    byteorder=1234
    doublekind=3
    d_longlong=define
    longlongsize=8
    d_longdbl=define
    longdblsize=12
    longdblkind=3
    ivtype='long'
    ivsize=4
    nvtype='double'
    nvsize=8
    Off_t='long long'
    lseeksize=8
    alignbytes=8
    prototype=define
  Linker and Libraries:
    ld='g++'
    ldflags ='-s -L"C:\STRAWB~1\perl\lib\CORE" -L"C:\STRAWB~1\c\lib"'
    libpth=C:\STRAWB~1\c\lib C:\STRAWB~1\c\i686-w64-mingw32\lib C:\STRAWB~1\c\lib\gcc\i686-w64-mingw32\4.9.2
    libs=-lmoldname -lkernel32 -luser32 -lgdi32 -lwinspool -lcomdlg32 -ladvapi32 -lshell32 -lole32 -loleaut32 -lnetapi32 -luuid -lws2_32 -lmpr -lwinmm -lversion -lodbc32 -lodbccp32 -lcomctl32
    perllibs=-lmoldname -lkernel32 -luser32 -lgdi32 -lwinspool -lcomdlg32 -ladvapi32 -lshell32 -lole32 -loleaut32 -lnetapi32 -luuid -lws2_32 -lmpr -lwinmm -lversion -lodbc32 -lodbccp32 -lcomctl32
    libc=
    so=dll
    useshrplib=true
    libperl=libperl525.a
    gnulibc_version=''
  Dynamic Linking:
    dlsrc=dl_win32.xs
    dlext=xs.dll
    d_dlsymun=undef
    ccdlflags=' '
    cccdlflags=' '
    lddlflags='-mdll -s -L"C:\STRAWB~1\perl\lib\CORE" -L"C:\STRAWB~1\c\lib"'


Characteristics of this binary (from libperl): 
  Compile-time options:
    HAS_TIMES
    HAVE_INTERP_INTERN
    MULTIPLICITY
    PERLIO_LAYERS
    PERL_COPY_ON_WRITE
    PERL_DONT_CREATE_GVSV
    PERL_HASH_FUNC_ONE_AT_A_TIME_HARD
    PERL_IMPLICIT_CONTEXT
    PERL_IMPLICIT_SYS
    PERL_MALLOC_WRAP
    PERL_OP_PARENT
    PERL_PRESERVE_IVUV
    USE_ITHREADS
    USE_LARGE_FILES
    USE_LOCALE
    USE_LOCALE_COLLATE
    USE_LOCALE_CTYPE
    USE_LOCALE_NUMERIC
    USE_LOCALE_TIME
    USE_PERLIO
    USE_PERL_ATOF
  Built under MSWin32
  Compiled at Feb 24 2017 21:45:33
  %ENV:
    PERL5_CPANPLUS_IS_RUNNING="44068"
    PERL5_CPAN_IS_RUNNING="44068"
    PERL5_CPAN_IS_RUNNING_IN_RECURSION="2072,44068"
    PERL_CR_SMOKER_CURRENT="Salvation-MacroProcessor-0.93"
    PERL_CR_SMOKER_RUNONCE="1"
    PERL_EXTUTILS_AUTOINSTALL="--defaultdeps"
    PERL_MM_USE_DEFAULT="1"
    PERL_USE_UNSAFE_INC="1"
  @INC:
    C:/Strawberry2510/perl/site/lib
    C:/Strawberry2510/perl/vendor/lib
    C:/Strawberry2510/perl/lib
    .