Test-Compile vv3.3.3 Perl 5 v5.36.1 i86pc-solaris

Status
Pass
From
Roland van Ipenburg (IPENBURG)
Dist
Test-Compile vv3.3.3
Platform
Perl 5 v5.36.1 i86pc-solaris
Date
2024-09-05 08:15:17
ID
fbf77bd0-6b5e-11ef-940c-f70f966bc6bd
This distribution has been tested as part of the CPAN Testers
project, supporting the Perl programming language.  See
http://wiki.cpantesters.org/ for more information or email
questions to cpan-testers-discuss@perl.org


--
Dear Evan Giles,

This is a computer-generated report for Test-Compile-v3.3.3
on perl 5.36.1, created by CPAN-Reporter-1.2019.

Thank you for uploading your work to CPAN.  Congratulations!
All tests were successful.

Sections of this report:

    * Tester comments
    * Program output
    * Prerequisites
    * Environment and other context

------------------------------
TESTER COMMENTS
------------------------------

Additional comments from tester:

none provided

------------------------------
PROGRAM OUTPUT
------------------------------

Output from './Build test':

t/000-compile.t ........................... ok
t/100-internal--default_locations.t ....... ok
t/100-internal--find-files-ignores-cvs.t .. ok
t/100-internal--find-files-ignores-svn.t .. ok
t/100-internal--find-files.t .............. ok
t/100-internal--perl-module.t ............. ok
t/100-internal--perl-script.t ............. ok
t/100-internal--read-shebang.t ............ ok
t/100-internal--skip.t .................... skipped: testing skip_all()
t/100-internal--taint-mode.t .............. ok
# Message displayed by the 'diag' method
t/100-internal--test-methods.t ............ ok
t/100-internal-all-pl-files.t ............. ok
t/100-internal-all-pm-files.t ............. ok
t/100-internal-basic.t .................... ok
t/100-internal-mess-with-lib.t ............ ok
t/100-internal-pl-file-compiles.t ......... ok
t/100-internal-pm-file-compiles.t ......... ok
t/100-internal-testfail.t ................. ok
t/100-internal-verbose.t .................. ok
t/200-all-files-ok.t ...................... ok
t/200-all-pl-files-ok.t ................... ok
t/200-all-pl-files.t ...................... ok
t/200-all-pm-files-ok.t ................... ok
t/200-import-check.t ...................... ok
t/200-px-file-ok.t ........................ ok
t/200-taint.t ............................. ok
t/999-has-version.t ....................... skipped: Set AUTHOR_TEST to run this test
t/999-perlcritic.t ........................ skipped: Set AUTHOR_TEST to run this test
t/999-pod-coverage.t ...................... skipped: Set AUTHOR_TEST to run this test
t/999-pod.t ............................... skipped: Set AUTHOR_TEST to run this test
t/999-portability.t ....................... skipped: Set AUTHOR_TEST to run this test
t/999-synopsis.t .......................... skipped: Set AUTHOR_TEST to run this test
t/999-version.t ........................... skipped: Set AUTHOR_TEST to run this test
All tests successful.
Files=33, Tests=114,  4 wallclock secs ( 0.08 usr  0.07 sys +  2.62 cusr  0.73 csys =  3.50 CPU)
Result: PASS

------------------------------
PREREQUISITES
------------------------------

Prerequisite modules loaded:

requires:

    Module        Need    Have    
    ------------- ------- --------
    Exporter      5.68    5.78    
    parent        0.225   0.242   
    perl          v5.10.0 5.036001

build_requires:

    Module        Need    Have    
    ------------- ------- --------
    Test::More    1.3     1.302202

configure_requires:

    Module        Need    Have    
    ------------- ------- --------
    Module::Build 0.38    0.4234  


------------------------------
ENVIRONMENT AND OTHER CONTEXT
------------------------------

Environment variables:

    LANG = en_US.UTF-8
    LC_ALL = en_US.UTF-8
    LC_COLLATE = 
    LC_CTYPE = UTF-8
    LC_MESSAGES = 
    LC_MONETARY = 
    LC_NUMERIC = 
    LC_TIME = 
    NONINTERACTIVE_TESTING = 1
    PATH = /opt/bin:/usr/bin:/usr/sbin
    PERL5LIB = /export/home/roland/.cpan/build/Sub-Exporter-0.991-2/blib/arch:/export/home/roland/.cpan/build/Sub-Exporter-0.991-2/blib/lib:/export/home/roland/.cpan/build/Software-License-0.104006-2/blib/arch:/export/home/roland/.cpan/build/Software-License-0.104006-2/blib/lib:/export/home/roland/.cpan/build/Socket-2.038-1/blib/arch:/export/home/roland/.cpan/build/Socket-2.038-1/blib/lib:/export/home/roland/.cpan/build/Regexp-Common-2024080801-1/blib/arch:/export/home/roland/.cpan/build/Regexp-Common-2024080801-1/blib/lib
    PERL5OPT = 
    PERL5_CPANPLUS_IS_RUNNING = 14405
    PERL5_CPAN_IS_RUNNING = 14405
    PERL_MM_USE_DEFAULT = 1
    PERL_USE_UNSAFE_INC = 1
    SHELL = /usr/bin/bash
    TERM = screen

Perl special variables (and OS-specific diagnostics, for MSWin32):

    $^X = /opt/bin/perl5.36.1
    $UID/$EUID = 100 / 100
    $GID = 10 10
    $EGID = 10 10

Perl module toolchain versions installed:

    Module              Have    
    ------------------- --------
    CPAN                2.37    
    CPAN::Meta          2.150010
    Cwd                 3.84    
    ExtUtils::CBuilder  0.280236
    ExtUtils::Command   7.70    
    ExtUtils::Install   2.22    
    ExtUtils::MakeMaker 7.70    
    ExtUtils::Manifest  1.75    
    ExtUtils::ParseXS   3.51    
    File::Spec          3.84    
    JSON                4.10    
    JSON::PP            4.16    
    Module::Build       0.4234  
    Module::Signature   0.88    
    Parse::CPAN::Meta   2.150010
    Test2               1.302202
    Test::Harness       3.50    
    Test::More          1.302202
    YAML                1.31    
    YAML::Syck          n/a     
    version             0.9933  


--

Summary of my perl5 (revision 5 version 36 subversion 1) configuration:
   
  Platform:
    osname=solaris
    osvers=2.11
    archname=i86pc-solaris
    uname='sunos solaris 5.11 11.4.42.111.0 i86pc i386 i86pc virtualbox '
    config_args='-des -Dinc_version_list=none'
    hint=recommended
    useposix=true
    d_sigaction=define
    useithreads=undef
    usemultiplicity=undef
    use64bitint=undef
    use64bitall=undef
    uselongdouble=undef
    usemymalloc=n
    default_inc_excludes_dot=define
  Compiler:
    cc='/opt/developerstudio12.6/bin/cc'
    ccflags ='-I/usr/gnu/include -D_LARGEFILE_SOURCE -D_FILE_OFFSET_BITS=64 -DPERL_USE_SAFE_PUTENV'
    optimize='-O'
    cppflags='-I/usr/gnu/include'
    ccversion='Studio 12.6 Sun C 5.15 SunOS_i386 2017/05/30'
    gccversion=''
    gccosandvers=''
    intsize=4
    longsize=4
    ptrsize=4
    doublesize=8
    byteorder=1234
    doublekind=3
    d_longlong=define
    longlongsize=8
    d_longdbl=define
    longdblsize=12
    longdblkind=3
    ivtype='long'
    ivsize=4
    nvtype='double'
    nvsize=8
    Off_t='off_t'
    lseeksize=8
    alignbytes=4
    prototype=define
  Linker and Libraries:
    ld='/opt/developerstudio12.6/bin/cc'
    ldflags =' -L/usr/lib -L/usr/ccs/lib -L/opt/developerstudio12.6/lib/compilers/sse2 -L/opt/developerstudio12.6/lib/compilers -L/lib -L/usr/gnu/lib '
    libpth=/usr/lib /usr/ccs/lib /opt/developerstudio12.6/lib/compilers/sse2 /opt/developerstudio12.6/lib/compilers /lib /usr/gnu/lib
    libs=-lpthread -lsocket -lnsl -lgdbm -ldb -ldl -lm -lc
    perllibs=-lpthread -lsocket -lnsl -ldl -lm -lc
    libc=/lib/libc.so
    so=so
    useshrplib=true
    libperl=libperl.so
    gnulibc_version=''
  Dynamic Linking:
    dlsrc=dl_dlopen.xs
    dlext=so
    d_dlsymun=undef
    ccdlflags='  -R /opt/lib/perl5/5.36.1/i86pc-solaris/CORE'
    cccdlflags='-KPIC'
    lddlflags='-G -L/usr/lib -L/usr/ccs/lib -L/opt/developerstudio12.6/lib/compilers/sse2 -L/opt/developerstudio12.6/lib/compilers -L/lib -L/usr/gnu/lib'


Characteristics of this binary (from libperl): 
  Compile-time options:
    HAS_TIMES
    PERLIO_LAYERS
    PERL_COPY_ON_WRITE
    PERL_DONT_CREATE_GVSV
    PERL_MALLOC_WRAP
    PERL_OP_PARENT
    PERL_PRESERVE_IVUV
    PERL_USE_SAFE_PUTENV
    USE_LARGE_FILES
    USE_LOCALE
    USE_LOCALE_COLLATE
    USE_LOCALE_CTYPE
    USE_LOCALE_NUMERIC
    USE_LOCALE_TIME
    USE_PERLIO
    USE_PERL_ATOF
  Built under solaris
  Compiled at Jun 12 2023 07:45:32
  %ENV:
    PERL5LIB="/export/home/roland/.cpan/build/Sub-Exporter-0.991-2/blib/arch:/export/home/roland/.cpan/build/Sub-Exporter-0.991-2/blib/lib:/export/home/roland/.cpan/build/Software-License-0.104006-2/blib/arch:/export/home/roland/.cpan/build/Software-License-0.104006-2/blib/lib:/export/home/roland/.cpan/build/Socket-2.038-1/blib/arch:/export/home/roland/.cpan/build/Socket-2.038-1/blib/lib:/export/home/roland/.cpan/build/Regexp-Common-2024080801-1/blib/arch:/export/home/roland/.cpan/build/Regexp-Common-2024080801-1/blib/lib"
    PERL5OPT=""
    PERL5_CPANPLUS_IS_RUNNING="14405"
    PERL5_CPAN_IS_RUNNING="14405"
    PERL_MM_USE_DEFAULT="1"
    PERL_USE_UNSAFE_INC="1"
  @INC:
    /export/home/roland/.cpan/build/Sub-Exporter-0.991-2/blib/arch
    /export/home/roland/.cpan/build/Sub-Exporter-0.991-2/blib/lib
    /export/home/roland/.cpan/build/Software-License-0.104006-2/blib/arch
    /export/home/roland/.cpan/build/Software-License-0.104006-2/blib/lib
    /export/home/roland/.cpan/build/Socket-2.038-1/blib/arch
    /export/home/roland/.cpan/build/Socket-2.038-1/blib/lib
    /export/home/roland/.cpan/build/Regexp-Common-2024080801-1/blib/arch
    /export/home/roland/.cpan/build/Regexp-Common-2024080801-1/blib/lib
    /opt/lib/perl5/site_perl/5.36.1/i86pc-solaris
    /opt/lib/perl5/site_perl/5.36.1
    /opt/lib/perl5/5.36.1/i86pc-solaris
    /opt/lib/perl5/5.36.1
    .