Report for Data-FormValidator-4.81

Back
From: metabase:user:68a9c4ac-1ec7-11e0-bf29-9c4bfeb2ac3f
Subject: PASS Data-FormValidator-4.81 v5.16.3 GNU/Linux
Date: 2013-07-23T23:09:53Z

This distribution has been tested as part of the CPAN Testers
project, supporting the Perl programming language.  See
http://wiki.cpantesters.org/ for more information or email
questions to cpan-testers-discuss@perl.org


--
Dear Mark Stosberg,

This is a computer-generated report for Data-FormValidator-4.81
on perl 5.16.3, created by CPAN-Reporter-1.2010.

Thank you for uploading your work to CPAN.  Congratulations!
All tests were successful.

Sections of this report:

    * Tester comments
    * Program output
    * Prerequisites
    * Environment and other context

------------------------------
TESTER COMMENTS
------------------------------

Additional comments from tester:

none provided

------------------------------
PROGRAM OUTPUT
------------------------------

Output from './Build test':

t/00_base.t .............................. ok
t/02_code_ref.t .......................... ok
t/03_dependency.t ........................ ok
t/04_arrayify_undef.t .................... ok
t/05_valid_ip_address.t .................. ok
t/06_regexp_map.t ........................ ok
t/09_require_some.t ...................... ok
t/11_procedural_match.t .................. ok
t/13_validator_packages.t ................ ok
t/15_literal_param_constraints.t ......... ok
t/16_cgi_object.t ........................ ok
t/17_multi_valued_keys.t ................. ok
t/18_constraint_refs.t ................... ok
t/19_refs_as_values.t .................... ok
t/20_careful_exception_handling.t ........ ok
t/21_multiple_fields.t ................... ok
t/25_results.t ........................... ok
t/26_qr.t ................................ ok
t/27_qualify_ref_happy_death.t ........... ok
t/28_defaults_for_new.t .................. ok
t/30_filter_definedness.t ................ ok
t/FV_length.t ............................ ok
t/any_errors.t ........................... ok
t/check_profile_syntax.t ................. ok
t/closure_msgs.t ......................... ok
t/constraint_method.t .................... ok
t/constraint_method_string.t ............. ok
t/constraint_method_zero.t ............... ok
t/constraint_regexp_map_profile_reuse.t .. ok
t/constraints_builtin.t .................. ok
t/constraints_builtin_closure.t .......... ok
t/constraints_factory.t .................. ok
t/constraints_invalid_once_only.t ........ ok
t/constraints_num_values.t ............... ok
t/constraints_regexp_map_interaction.t ... ok
t/constraints_reuse.t .................... ok
t/credit_card.t .......................... ok
t/dates.t ................................ ok
t/dates_closure.t ........................ ok
t/dependency_coderef.t ................... ok
t/dependency_groups.t .................... ok
t/filter_constraints.t ................... ok
"my" variable $replacer masks earlier declaration in same scope at t/filters_builtin.t line 17.
t/filters_builtin.t ...................... ok
t/filters_shouldnt_modify.t .............. ok
t/get_filtered_data.t .................... ok
t/get_input_data.t ....................... ok
t/missing_optional.t ..................... ok
t/msgs.t ................................. ok
t/multiple_constraints.t ................. ok
t/params_not_mentioned.t ................. ok
t/pod.t .................................. ok
t/procedural_valid.t ..................... ok
t/profile_checking.t ..................... ok
t/regexp_common.t ........................ ok
t/regexp_common_closure.t ................ ok
t/rename_builtin_constraints.t ........... ok
t/results_success.t ...................... ok
t/simple.t ............................... ok
t/tt_and_overload.t ...................... ok
t/undefined_arrayref.t ................... ok
t/unknown.t .............................. ok
t/untaint.t .............................. ok
# Adding CGI::Simple tests
# testing with CGI.pm version: 3.63
# testing with CGI::Simple version: 1.113
# Running tests with CGI
# Running tests with CGI::Simple
t/upload.t ............................... ok
# testing with CGI.pm version: 3.63
t/upload_closure.t ....................... ok
t/upload_mime_types.t .................... ok
All tests successful.
Files=65, Tests=631,  5 wallclock secs ( 0.37 usr  0.11 sys +  3.88 cusr  0.46 csys =  4.82 CPU)
Result: PASS

------------------------------
PREREQUISITES
------------------------------

Prerequisite modules loaded:

requires:

    Module          Need  Have      
    --------------- ----- ----------
    Date::Calc      5     6.3       
    Email::Valid    0     0.190     
    File::MMagic    1.17  1.30      
    Image::Size     0     3.232     
    MIME::Types     1.005 1.38      
    overload        0     1.18      
    perl            5.008 5.016003  
    Perl6::Junction 1.1   1.50000   
    Regexp::Common  0     2013031301
    Scalar::Util    0     1.27      
    Test::More      0     0.98      

build_requires:

    Module          Need  Have      
    --------------- ----- ----------
    CGI             3.48  3.63      

configure_requires:

    Module          Need  Have      
    --------------- ----- ----------
    Module::Build   0.38  0.4005    


------------------------------
ENVIRONMENT AND OTHER CONTEXT
------------------------------

Environment variables:

    LANG = en_US.UTF-8
    LANGUAGE = en_US.UTF-8
    LC_ALL = en_US.UTF-8
    LC_CTYPE = en_US.UTF-8
    PATH = /home/rando/devel/linux:/home/rando/python/venv/2.7.3/bin:/home/rando/perl5/perlbrew/bin:/home/rando/perl5/perlbrew/perls/local/bin:/home/rando/java/grails-2.1.1/bin:/home/rando/java/groovy-2.0.5/bin:/home/rando/java/jdk1.7.0_11/bin:/home/rando/bin:/home/rando/bin/contrib:/usr/lib/lightdm/lightdm:/usr/local/sbin:/usr/local/bin:/usr/sbin:/usr/bin:/sbin:/bin:/usr/games
    PERL5LIB = 
    PERL5OPT = 
    PERL5_CPANPLUS_IS_RUNNING = 30987
    PERL5_CPAN_IS_RUNNING = 30987
    PERLBREW_BASHRC_VERSION = 0.61
    PERLBREW_HOME = /home/rando/.perlbrew
    PERLBREW_MANPATH = /home/rando/perl5/perlbrew/perls/local/man
    PERLBREW_PATH = /home/rando/perl5/perlbrew/bin:/home/rando/perl5/perlbrew/perls/local/bin
    PERLBREW_PERL = local
    PERLBREW_ROOT = /home/rando/perl5/perlbrew
    PERLBREW_VERSION = 0.61
    PERL_CPANM_OPT = --save-dists /home/rando/perl5/cpan/mini --mirror http://cpan.local:4999/-CPAN/ --mirror http://cpan.ezarticleinformation.com/ --mirror http://search.cpan.org/CPAN/
    SHELL = /bin/bash
    TERM = screen-256color

Perl special variables (and OS-specific diagnostics, for MSWin32):

    $^X = /home/rando/perl5/perlbrew/perls/5.16.3-st/bin/perl
    $UID/$EUID = 1000 / 1000
    $GID = 1000 4 24 27 30 46 110 123 127 1000
    $EGID = 1000 4 24 27 30 46 110 123 127 1000

Perl module toolchain versions installed:

    Module              Have    
    ------------------- --------
    CPAN                2.00    
    CPAN::Meta          2.131560
    Cwd                 3.40    
    ExtUtils::CBuilder  0.280206
    ExtUtils::Command   1.17    
    ExtUtils::Install   1.58    
    ExtUtils::MakeMaker 6.68    
    ExtUtils::Manifest  1.61    
    ExtUtils::ParseXS   3.18    
    File::Spec          3.40    
    JSON                2.59    
    JSON::PP            2.27202 
    Module::Build       0.4005  
    Module::Signature   0.73    
    Parse::CPAN::Meta   1.4404  
    Test::Harness       3.28    
    Test::More          0.98    
    YAML                0.84    
    YAML::Syck          1.27    
    version             0.9902  


--

Summary of my perl5 (revision 5 version 16 subversion 3) configuration:
   
  Platform:
    osname=linux, osvers=3.2.0-38-generic, archname=x86_64-linux-thread-multi
    uname='linux raptor 3.2.0-38-generic #61-ubuntu smp tue feb 19 12:18:21 utc 2013 x86_64 x86_64 x86_64 gnulinux '
    config_args='-de -Dprefix=/home/rando/perl5/perlbrew/perls/5.16.3-st -Dusethreads -Duseshrplib -Dlddlflags=-shared -O2 -L/home/rando/perl5/perlbrew/perls/5.16.3-st/lib/5.16.3/x86_64-linux-thread-multi/CORE -Aeval:scriptdir=/home/rando/perl5/perlbrew/perls/5.16.3-st/bin'
    hint=recommended, useposix=true, d_sigaction=define
    useithreads=define, usemultiplicity=define
    useperlio=define, d_sfio=undef, uselargefiles=define, usesocks=undef
    use64bitint=define, use64bitall=define, uselongdouble=undef
    usemymalloc=n, bincompat5005=undef
  Compiler:
    cc='cc', ccflags ='-D_REENTRANT -D_GNU_SOURCE -fno-strict-aliasing -pipe -fstack-protector -I/usr/local/include -D_LARGEFILE_SOURCE -D_FILE_OFFSET_BITS=64',
    optimize='-O2',
    cppflags='-D_REENTRANT -D_GNU_SOURCE -fno-strict-aliasing -pipe -fstack-protector -I/usr/local/include'
    ccversion='', gccversion='4.6.3', gccosandvers=''
    intsize=4, longsize=8, ptrsize=8, doublesize=8, byteorder=12345678
    d_longlong=define, longlongsize=8, d_longdbl=define, longdblsize=16
    ivtype='long', ivsize=8, nvtype='double', nvsize=8, Off_t='off_t', lseeksize=8
    alignbytes=8, prototype=define
  Linker and Libraries:
    ld='cc', ldflags =' -fstack-protector -L/usr/local/lib'
    libpth=/usr/local/lib /lib/x86_64-linux-gnu /lib/../lib /usr/lib/x86_64-linux-gnu /usr/lib/../lib /lib /usr/lib
    libs=-lnsl -ldl -lm -lcrypt -lutil -lpthread -lc
    perllibs=-lnsl -ldl -lm -lcrypt -lutil -lpthread -lc
    libc=, so=so, useshrplib=true, libperl=libperl.so
    gnulibc_version='2.15'
  Dynamic Linking:
    dlsrc=dl_dlopen.xs, dlext=so, d_dlsymun=undef, ccdlflags='-Wl,-E -Wl,-rpath,/home/rando/perl5/perlbrew/perls/5.16.3-st/lib/5.16.3/x86_64-linux-thread-multi/CORE'
    cccdlflags='-fPIC', lddlflags='-shared -O2 -L/home/rando/perl5/perlbrew/perls/5.16.3-st/lib/5.16.3/x86_64-linux-thread-multi/CORE -L/usr/local/lib -fstack-protector'


Characteristics of this binary (from libperl): 
  Compile-time options: HAS_TIMES MULTIPLICITY PERLIO_LAYERS
                        PERL_DONT_CREATE_GVSV PERL_IMPLICIT_CONTEXT
                        PERL_MALLOC_WRAP PERL_PRESERVE_IVUV USE_64_BIT_ALL
                        USE_64_BIT_INT USE_ITHREADS USE_LARGE_FILES
                        USE_LOCALE USE_LOCALE_COLLATE USE_LOCALE_CTYPE
                        USE_LOCALE_NUMERIC USE_PERLIO USE_PERL_ATOF
                        USE_REENTRANT_API
  Built under linux
  Compiled at Mar 12 2013 15:18:19
  %ENV:
    PERL5LIB=""
    PERL5OPT=""
    PERL5_CPANPLUS_IS_RUNNING="30987"
    PERL5_CPAN_IS_RUNNING="30987"
    PERLBREW_BASHRC_VERSION="0.61"
    PERLBREW_HOME="/home/rando/.perlbrew"
    PERLBREW_MANPATH="/home/rando/perl5/perlbrew/perls/local/man"
    PERLBREW_PATH="/home/rando/perl5/perlbrew/bin:/home/rando/perl5/perlbrew/perls/local/bin"
    PERLBREW_PERL="local"
    PERLBREW_ROOT="/home/rando/perl5/perlbrew"
    PERLBREW_VERSION="0.61"
    PERL_CPANM_OPT="--save-dists /home/rando/perl5/cpan/mini --mirror http://cpan.local:4999/-CPAN/ --mirror http://cpan.ezarticleinformation.com/ --mirror http://search.cpan.org/CPAN/"
  @INC:
    /home/rando/perl5/perlbrew/perls/5.16.3-st/lib/site_perl/5.16.3/x86_64-linux-thread-multi
    /home/rando/perl5/perlbrew/perls/5.16.3-st/lib/site_perl/5.16.3
    /home/rando/perl5/perlbrew/perls/5.16.3-st/lib/5.16.3/x86_64-linux-thread-multi
    /home/rando/perl5/perlbrew/perls/5.16.3-st/lib/5.16.3
    .