Report for Dist-Zilla-Plugin-HelpWanted-0.3.0

Back
From: metabase:user:3138bf04-2aae-11df-837a-5e0a49663a4f
Subject: PASS Dist-Zilla-Plugin-HelpWanted-0.3.0 v5.12.4 Mac OS X
Date: 2013-08-27T18:25:00Z

This distribution has been tested as part of the CPAN Testers
project, supporting the Perl programming language.  See
http://wiki.cpantesters.org/ for more information or email
questions to cpan-testers-discuss@perl.org


--
Dear Yanick Champoux,

This is a computer-generated report for Dist-Zilla-Plugin-HelpWanted-0.3.0
on perl 5.12.4, created by CPAN-Reporter-1.2010.

Thank you for uploading your work to CPAN.  Congratulations!
All tests were successful.

Sections of this report:

    * Tester comments
    * Program output
    * Prerequisites
    * Environment and other context

------------------------------
TESTER COMMENTS
------------------------------

Additional comments from tester:

none provided

------------------------------
PROGRAM OUTPUT
------------------------------

Output from './Build test':

t/00-compile.t ................ ok
# 
# 
# Generated by Dist::Zilla::Plugin::ReportVersions::Tiny v1.08
# perl: 5.012004 (wanted any version) on darwin from /usr/bin/perl
# 
# Dist::Zilla::Plugin::MetaYAML                 => 4.300036   (want any version)
# Dist::Zilla::Role::InstallTool                => 4.300036   (want any version)
# Dist::Zilla::Role::Plugin                     => 4.300036   (want any version)
# File::Spec                                    => 3.40       (want any version)
# IO::Handle                                    => 1.28       (want any version)
# IPC::Open3                                    => 1.05       (want any version)
# JSON::Any                                     => 1.30       (want any version)
# List::MoreUtils                               => 0.33       (want any version)
# Module::Build                                 => 0.4007     (want 0.3601) 
# Moose                                         => 2.1005     (want any version)
# Test::DZil                                    => 4.300036   (want any version)
# Test::More                                    => 0.98       (want 0.96)   
# strict                                        => 1.04       (want any version)
# version                                       => 0.9903     (want 0.9901) 
# warnings                                      => 1.09       (want any version)
# 
# Thanks for using my code.  I hope it works for you.
# If not, please try and include this output in the bug report.
# That will help me reproduce the issue and solve your problem.
# 
t/000-report-versions-tiny.t .. ok
t/basic.t ..................... ok
All tests successful.
Files=3, Tests=5,  2 wallclock secs ( 0.03 usr  0.01 sys +  2.03 cusr  0.11 csys =  2.18 CPU)
Result: PASS

------------------------------
PREREQUISITES
------------------------------

Prerequisite modules loaded:

requires:

    Module                         Need   Have    
    ------------------------------ ------ --------
    Dist::Zilla::Role::InstallTool 0      4.300036
    Dist::Zilla::Role::Plugin      0      4.300036
    List::MoreUtils                0      0.33    
    Moose                          0      2.1005  
    strict                         0      1.04    
    warnings                       0      1.09    

build_requires:

    Module                         Need   Have    
    ------------------------------ ------ --------
    Dist::Zilla::Plugin::MetaYAML  0      4.300036
    File::Spec                     0      3.40    
    IO::Handle                     0      1.28    
    IPC::Open3                     0      1.05    
    JSON::Any                      0      1.30    
    Module::Build                  0.3601 0.4007  
    Test::DZil                     0      4.300036
    Test::More                     0.96   0.98    

configure_requires:

    Module                         Need   Have    
    ------------------------------ ------ --------
    Module::Build                  0.3601 0.4007  


------------------------------
ENVIRONMENT AND OTHER CONTEXT
------------------------------

Environment variables:

    LANG = en_US.UTF-8
    LC_ALL = en_US.UTF-8
    LC_CTYPE = UTF-8
    PATH = /usr/bin:/bin
    PERL5LIB = 
    PERL5OPT = 
    PERL5_CPANPLUS_IS_RUNNING = 2019
    PERL5_CPAN_IS_RUNNING = 2019
    SHELL = /bin/bash
    TERM = xterm-256color
    VERSIONER_PERL_PREFER_32_BIT = no
    VERSIONER_PERL_VERSION = 5.12

Perl special variables (and OS-specific diagnostics, for MSWin32):

    $^X = /usr/bin/perl
    $UID/$EUID = 0 / 0
    $GID = 0 0 401 403 1 2 3 4 5 8 9 12 20 29 33 61 80 98 100 204 402
    $EGID = 0 0 401 403 1 2 3 4 5 8 9 12 20 29 33 61 80 98 100 204 402

Perl module toolchain versions installed:

    Module              Have    
    ------------------- --------
    CPAN                2.00    
    CPAN::Meta          2.132140
    Cwd                 3.40    
    ExtUtils::CBuilder  0.280205
    ExtUtils::Command   1.17    
    ExtUtils::Install   1.55    
    ExtUtils::MakeMaker 6.72    
    ExtUtils::Manifest  1.61    
    ExtUtils::ParseXS   3.21    
    File::Spec          3.40    
    JSON                2.59    
    JSON::PP            2.27202 
    Module::Build       0.4007  
    Module::Signature   0.73    
    Parse::CPAN::Meta   1.4405  
    Test::Harness       3.28    
    Test::More          0.98    
    YAML                0.84    
    YAML::Syck          1.27    
    version             0.9903  


--

Summary of my perl5 (revision 5 version 12 subversion 4) configuration:
   
  Platform:
    osname=darwin, osvers=12.0, archname=darwin-thread-multi-2level
    uname='darwin b1026.apple.com 12.0 darwin kernel version 12.0.0: tue may 15 23:31:29 pdt 2012; root:xnu-2050.6.70~1release_x86_64 x86_64 '
    config_args='-ds -e -Dprefix=/usr -Dccflags=-g  -pipe  -Dldflags= -Dman3ext=3pm -Duseithreads -Duseshrplib -Dinc_version_list=none -Dcc=clang'
    hint=recommended, useposix=true, d_sigaction=define
    useithreads=define, usemultiplicity=define
    useperlio=define, d_sfio=undef, uselargefiles=define, usesocks=undef
    use64bitint=define, use64bitall=define, uselongdouble=undef
    usemymalloc=n, bincompat5005=undef
  Compiler:
    cc='clang', ccflags ='-arch i386 -arch x86_64 -g -pipe -fno-common -DPERL_DARWIN -fno-strict-aliasing -fstack-protector -I/usr/local/include',
    optimize='-Os',
    cppflags='-g -pipe -fno-common -DPERL_DARWIN -fno-strict-aliasing -fstack-protector -I/usr/local/include'
    ccversion='', gccversion='4.2.1 Compatible Apple Clang 4.0 (tags/Apple/clang-418.0.60)', gccosandvers=''
    intsize=4, longsize=8, ptrsize=8, doublesize=8, byteorder=12345678
    d_longlong=define, longlongsize=8, d_longdbl=define, longdblsize=16
    ivtype='long', ivsize=8, nvtype='double', nvsize=8, Off_t='off_t', lseeksize=8
    alignbytes=8, prototype=define
  Linker and Libraries:
    ld='clang -mmacosx-version-min=10.8', ldflags ='-arch i386 -arch x86_64 -fstack-protector -L/usr/local/lib'
    libpth=/usr/local/lib /usr/lib
    libs=-ldbm -ldl -lm -lutil -lc
    perllibs=-ldl -lm -lutil -lc
    libc=, so=dylib, useshrplib=true, libperl=libperl.dylib
    gnulibc_version=''
  Dynamic Linking:
    dlsrc=dl_dlopen.xs, dlext=bundle, d_dlsymun=undef, ccdlflags=' '
    cccdlflags=' ', lddlflags='-arch i386 -arch x86_64 -bundle -undefined dynamic_lookup -L/usr/local/lib -fstack-protector'


Characteristics of this binary (from libperl): 
  Compile-time options: MULTIPLICITY PERL_DONT_CREATE_GVSV
                        PERL_IMPLICIT_CONTEXT PERL_MALLOC_WRAP USE_64_BIT_ALL
                        USE_64_BIT_INT USE_ITHREADS USE_LARGE_FILES
                        USE_PERLIO USE_PERL_ATOF USE_REENTRANT_API
  Locally applied patches:
	/Library/Perl/Updates/<version> comes before system perl directories
	installprivlib and installarchlib points to the Updates directory
  Built under darwin
  Compiled at Jun 20 2012 13:55:28
  %ENV:
    PERL5LIB=""
    PERL5OPT=""
    PERL5_CPANPLUS_IS_RUNNING="2019"
    PERL5_CPAN_IS_RUNNING="2019"
  @INC:
    /Library/Perl/5.12/darwin-thread-multi-2level
    /Library/Perl/5.12
    /Network/Library/Perl/5.12/darwin-thread-multi-2level
    /Network/Library/Perl/5.12
    /Library/Perl/Updates/5.12.4/darwin-thread-multi-2level
    /Library/Perl/Updates/5.12.4
    /System/Library/Perl/5.12/darwin-thread-multi-2level
    /System/Library/Perl/5.12
    /System/Library/Perl/Extras/5.12/darwin-thread-multi-2level
    /System/Library/Perl/Extras/5.12
    .