Alien-raylib v0.019 Perl 5 v5.18.4 amd64-freebsd

Status
Pass
From
Slaven Rezić (SREZIC)
Dist
Alien-raylib v0.019
Platform
Perl 5 v5.18.4 amd64-freebsd
Date
2018-07-03 20:38:04
ID
fc41e2ac-7f00-11e8-a11e-f91adcf75b1f
This distribution has been tested as part of the CPAN Testers
project, supporting the Perl programming language.  See
http://wiki.cpantesters.org/ for more information or email
questions to cpan-testers-discuss@perl.org


--
Dear Ahmad Fatoum,

This is a computer-generated report for Alien-raylib-0.019
on perl 5.18.4, created by CPAN-Reporter-1.2018.

Thank you for uploading your work to CPAN.  Congratulations!
All tests were successful.

Sections of this report:

    * Tester comments
    * Program output
    * Prerequisites
    * Environment and other context

------------------------------
TESTER COMMENTS
------------------------------

Additional comments from tester:

none provided

------------------------------
PROGRAM OUTPUT
------------------------------

Output from '/usr/bin/make test':

"/usr/perl5.18.4p/bin/perl" -MAlien::Build::MM=cmd -e test
Alien::Build::Plugin::PkgConfig::Negotiate> Using PkgConfig plugin: PkgConfig::CommandLine
PERL_DL_NONLAZY=1 "/usr/perl5.18.4p/bin/perl" "-MExtUtils::Command::MM" "-MTest::Harness" "-e" "undef *Test::Harness::Switches; test_harness(0, 'blib/lib', 'blib/arch')" t/*.t
t/00-compile.t ......... ok
# 
# Versions for all modules listed in MYMETA.json (including optional ones):
# 
# === Configure Requires ===
# 
#     Module                             Want Have
#     ---------------------------------- ---- ----
#     Alien::Build                       0.32 1.41
#     Alien::Build::MM                   0.32 1.41
#     Alien::Build::Plugin::Build::CMake 0.99 1.41
#     ExtUtils::MakeMaker                6.52 7.34
# 
# === Build Requires ===
# 
#     Module                                        Want     Have
#     -------------------------------------------- ----- --------
#     Alien::Build                                  0.32     1.41
#     Alien::Build::MM                              0.32     1.41
#     Alien::Build::Plugin::Gather::IsolateDynamic  0.48     1.41
#     Alien::cmake3                                 0.02     0.04
#     Archive::Tar                                   any     2.30
#     Config                                         any 5.018004
#     ExtUtils::MakeMaker                           6.52     7.34
#     HTTP::Tiny                                   0.044    0.070
#     IO::Socket::SSL                               1.56    2.052
#     IO::Zlib                                       any     1.10
#     Net::SSLeay                                   1.49     1.84
#     URI                                            any     1.74
# 
# === Test Requires ===
# 
#     Module              Want     Have
#     ------------------- ---- --------
#     ExtUtils::MakeMaker 6.52     7.34
#     File::Spec           any     3.74
#     IO::Handle           any     1.34
#     IPC::Open3           any     1.13
#     Test::More           any 1.302136
# 
# === Test Recommends ===
# 
#     Module         Want     Have
#     ---------- -------- --------
#     CPAN::Meta 2.120900 2.150010
# 
# === Runtime Requires ===
# 
#     Module       Want Have
#     ------------ ---- ----
#     Alien::Build 0.25 1.41
# 
t/00-report-prereqs.t .. ok
# Trying out GetRandomValue
t/init.t ............... ok
# LIBS: -L/home/cpansand/.cpan/build/2018070404/Alien-raylib-0.019-1/blib/lib/auto/share/dist/Alien-raylib/lib -lraylib
t/libs.t ............... ok
All tests successful.
Files=4, Tests=7,  4 wallclock secs ( 0.03 usr  0.02 sys +  1.20 cusr  0.49 csys =  1.74 CPU)
Result: PASS

------------------------------
PREREQUISITES
------------------------------

Prerequisite modules loaded:

requires:

    Module                                       Need  Have    
    -------------------------------------------- ----- --------
    Alien::Build                                 0.25  1.41    
    perl                                         5.008 5.018004

build_requires:

    Module                                       Need  Have    
    -------------------------------------------- ----- --------
    Alien::Build                                 0.32  1.41    
    Alien::Build::MM                             0.32  1.41    
    Alien::Build::Plugin::Gather::IsolateDynamic 0.48  1.41    
    Alien::cmake3                                0.02  0.04    
    Archive::Tar                                 0     2.30    
    Config                                       0     5.018004
    ExtUtils::MakeMaker                          6.52  7.34    
    File::Spec                                   0     3.74    
    HTTP::Tiny                                   0.044 0.070   
    IO::Handle                                   0     1.34    
    IO::Socket::SSL                              1.56  2.052   
    IO::Zlib                                     0     1.10    
    IPC::Open3                                   0     1.13    
    Net::SSLeay                                  1.49  1.84    
    Test::More                                   0     1.302136
    URI                                          0     1.74    

configure_requires:

    Module                                       Need  Have    
    -------------------------------------------- ----- --------
    Alien::Build                                 0.32  1.41    
    Alien::Build::MM                             0.32  1.41    
    Alien::Build::Plugin::Build::CMake           0.99  1.41    
    ExtUtils::MakeMaker                          6.52  7.34    


------------------------------
ENVIRONMENT AND OTHER CONTEXT
------------------------------

Environment variables:

    PATH = /usr/local/bin:/usr/bin:/bin:/usr/local/sbin:/usr/sbin:/sbin:/home/cpansand/bin/sh:/home/cpansand/bin:/usr/games:/home/cpansand/devel:/home/eserte/src/srezic-misc/scripts
    PERL5LIB = /home/cpansand/.cpan/build/2018070404/Module-AutoLoad-0.05-1/blib/arch:/home/cpansand/.cpan/build/2018070404/Module-AutoLoad-0.05-1/blib/lib
    PERL5OPT = 
    PERL5_CPANPLUS_IS_RUNNING = 75236
    PERL5_CPAN_IS_RUNNING = 75236
    PERL5_CPAN_IS_RUNNING_IN_RECURSION = 74359,75236
    PERL_BATCH = yes
    PERL_CANARY_STABILITY_NOPROMPT = 1
    PERL_CPAN_REPORTER_CONFIG = /var/tmp/cpansmoker-1023/2018070404/cpanreporter_000_config.ini
    PERL_EXTUTILS_AUTOINSTALL = --defaultdeps
    SHELL = /bin/sh
    TMPDIR = /var/tmp/cpansmoker-1023/2018070404

Perl special variables (and OS-specific diagnostics, for MSWin32):

    $^X = /usr/perl5.18.4p/bin/perl
    $UID/$EUID = 1023 / 1023
    $GID = 1023 1023
    $EGID = 1023 1023

Perl module toolchain versions installed:

    Module              Have    
    ------------------- --------
    CPAN                2.16    
    CPAN::Meta          2.150010
    Cwd                 3.74    
    ExtUtils::CBuilder  0.280230
    ExtUtils::Command   7.34    
    ExtUtils::Install   2.06    
    ExtUtils::MakeMaker 7.34    
    ExtUtils::Manifest  1.70    
    ExtUtils::ParseXS   3.35    
    File::Spec          3.74    
    JSON                2.97001 
    JSON::PP            2.97001 
    Module::Build       0.4224  
    Module::Signature   0.81    
    Parse::CPAN::Meta   2.150010
    Test::Harness       3.42    
    Test::More          1.302136
    YAML                1.26    
    YAML::Syck          1.30    
    version             0.9922  


--

Summary of my perl5 (revision 5 version 18 subversion 4) configuration:
   
  Platform:
    osname=freebsd, osvers=12.0-current, archname=amd64-freebsd
    uname='freebsd ali1.bbbike.org 12.0-current freebsd 12.0-current #0 bd8385a990e(master)-dirty: fri nov 17 03:13:11 utc 2017 root@ali1.bbbike.org:usrobjhomeprojectsfreebsdamd64.amd64sysgeneric-nodebug amd64 '
    config_args='-ds -e -Dprefix=/usr/perl5.18.4p -Dcf_email=srezic@cpan.org -Doptimize=-O2 -pipe'
    hint=recommended, useposix=true, d_sigaction=define
    useithreads=undef, usemultiplicity=undef
    useperlio=define, d_sfio=undef, uselargefiles=define, usesocks=undef
    use64bitint=define, use64bitall=define, uselongdouble=undef
    usemymalloc=n, bincompat5005=undef
  Compiler:
    cc='cc', ccflags ='-DHAS_FPSETMASK -DHAS_FLOATINGPOINT_H -fno-strict-aliasing -pipe -fstack-protector -I/usr/local/include',
    optimize='-O2 -pipe',
    cppflags='-DHAS_FPSETMASK -DHAS_FLOATINGPOINT_H -fno-strict-aliasing -pipe -fstack-protector -I/usr/local/include'
    ccversion='', gccversion='4.2.1 Compatible FreeBSD Clang 5.0.0 (tags/RELEASE_500/final 312559)', gccosandvers=''
    intsize=4, longsize=8, ptrsize=8, doublesize=8, byteorder=12345678
    d_longlong=define, longlongsize=8, d_longdbl=define, longdblsize=16
    ivtype='long', ivsize=8, nvtype='double', nvsize=8, Off_t='off_t', lseeksize=8
    alignbytes=8, prototype=define
  Linker and Libraries:
    ld='cc', ldflags ='-pthread -Wl,-E  -fstack-protector -L/usr/local/lib'
    libpth=/usr/lib /usr/local/lib
    libs=-lgdbm -lm -lcrypt -lutil -lc
    perllibs=-lm -lcrypt -lutil -lc
    libc=, so=so, useshrplib=false, libperl=libperl.a
    gnulibc_version=''
  Dynamic Linking:
    dlsrc=dl_dlopen.xs, dlext=so, d_dlsymun=undef, ccdlflags=' '
    cccdlflags='-DPIC -fPIC', lddlflags='-shared  -L/usr/local/lib -fstack-protector'


Characteristics of this binary (from libperl): 
  Compile-time options: HAS_TIMES PERLIO_LAYERS PERL_DONT_CREATE_GVSV
                        PERL_HASH_FUNC_ONE_AT_A_TIME_HARD PERL_MALLOC_WRAP
                        PERL_PRESERVE_IVUV PERL_SAWAMPERSAND USE_64_BIT_ALL
                        USE_64_BIT_INT USE_LARGE_FILES USE_LOCALE
                        USE_LOCALE_COLLATE USE_LOCALE_CTYPE
                        USE_LOCALE_NUMERIC USE_PERLIO USE_PERL_ATOF
  Built under freebsd
  Compiled at Nov 17 2017 06:44:20
  %ENV:
    PERL5LIB="/home/cpansand/.cpan/build/2018070404/Module-AutoLoad-0.05-1/blib/arch:/home/cpansand/.cpan/build/2018070404/Module-AutoLoad-0.05-1/blib/lib"
    PERL5OPT=""
    PERL5_CPANPLUS_IS_RUNNING="75236"
    PERL5_CPAN_IS_RUNNING="75236"
    PERL5_CPAN_IS_RUNNING_IN_RECURSION="74359,75236"
    PERL_BATCH="yes"
    PERL_CANARY_STABILITY_NOPROMPT="1"
    PERL_CPAN_REPORTER_CONFIG="/var/tmp/cpansmoker-1023/2018070404/cpanreporter_000_config.ini"
    PERL_EXTUTILS_AUTOINSTALL="--defaultdeps"
  @INC:
    /home/cpansand/.cpan/build/2018070404/Module-AutoLoad-0.05-1/blib/arch
    /home/cpansand/.cpan/build/2018070404/Module-AutoLoad-0.05-1/blib/lib
    /usr/perl5.18.4p/lib/site_perl/5.18.4/amd64-freebsd
    /usr/perl5.18.4p/lib/site_perl/5.18.4
    /usr/perl5.18.4p/lib/5.18.4/amd64-freebsd
    /usr/perl5.18.4p/lib/5.18.4
    .