Data-Collector v0.15 Perl 5 v5.31.7 x86_64-linux-ld

Status
Pass
From
Andreas J. König (ANDK)
Dist
Data-Collector v0.15
Platform
Perl 5 v5.31.7 x86_64-linux-ld
Date
2019-12-04 02:44:26
ID
fc61f218-163f-11ea-aef3-1eae4b51b558
This distribution has been tested as part of the CPAN Testers
project, supporting the Perl programming language.  See
http://wiki.cpantesters.org/ for more information or email
questions to cpan-testers-discuss@perl.org


--
Dear Sawyer X,

This is a computer-generated report for Data-Collector-0.15
on perl 5.31.7, created by CPAN-Reporter-1.2018.

Thank you for uploading your work to CPAN.  Congratulations!
All tests were successful.

Sections of this report:

    * Tester comments
    * Program output
    * Prerequisites
    * Environment and other context

------------------------------
TESTER COMMENTS
------------------------------

Additional comments from tester:

this report is from an automated smoke testing program
and was not reviewed by a human for accuracy

------------------------------
PROGRAM OUTPUT
------------------------------

Output from './Build test':

t/00-compile.t ........................ ok
# Testing Data::Collector 0.15, Perl 5.031007, /tmp/basesmoker-reloperl-kiOx/bin/perl
t/00-load.t ........................... ok
t/collector/collect.t ................. ok
t/collector/nonexistent_engine.t ...... ok
t/collector/nonexistent_serializer.t .. ok
t/engine/basic.t ...................... ok
Use of uninitialized value in numeric eq (==) at /home/sand/src/perl/repoperls/installed-perls/host/k93msid/v5.31.6-76-gdc10ea26d7/af11/lib/site_perl/5.31.7/Net/OpenSSH.pm line 762.
Use of uninitialized value in numeric eq (==) at /home/sand/src/perl/repoperls/installed-perls/host/k93msid/v5.31.6-76-gdc10ea26d7/af11/lib/site_perl/5.31.7/Net/OpenSSH.pm line 764.
Use of uninitialized value in numeric ne (!=) at /home/sand/src/perl/repoperls/installed-perls/host/k93msid/v5.31.6-76-gdc10ea26d7/af11/lib/site_perl/5.31.7/Net/OpenSSH.pm line 1020.
	(in cleanup) Can't use an undefined value as an ARRAY reference at /home/sand/src/perl/repoperls/installed-perls/host/k93msid/v5.31.6-76-gdc10ea26d7/af11/lib/site_perl/5.31.7/Net/OpenSSH.pm line 122.
Use of uninitialized value in numeric eq (==) at /home/sand/src/perl/repoperls/installed-perls/host/k93msid/v5.31.6-76-gdc10ea26d7/af11/lib/site_perl/5.31.7/Net/OpenSSH.pm line 762.
Use of uninitialized value in numeric eq (==) at /home/sand/src/perl/repoperls/installed-perls/host/k93msid/v5.31.6-76-gdc10ea26d7/af11/lib/site_perl/5.31.7/Net/OpenSSH.pm line 764.
Use of uninitialized value in numeric ne (!=) at /home/sand/src/perl/repoperls/installed-perls/host/k93msid/v5.31.6-76-gdc10ea26d7/af11/lib/site_perl/5.31.7/Net/OpenSSH.pm line 1020.
	(in cleanup) Can't use an undefined value as an ARRAY reference at /home/sand/src/perl/repoperls/installed-perls/host/k93msid/v5.31.6-76-gdc10ea26d7/af11/lib/site_perl/5.31.7/Net/OpenSSH.pm line 122.
Use of uninitialized value in numeric eq (==) at /home/sand/src/perl/repoperls/installed-perls/host/k93msid/v5.31.6-76-gdc10ea26d7/af11/lib/site_perl/5.31.7/Net/OpenSSH.pm line 762.
Use of uninitialized value in numeric eq (==) at /home/sand/src/perl/repoperls/installed-perls/host/k93msid/v5.31.6-76-gdc10ea26d7/af11/lib/site_perl/5.31.7/Net/OpenSSH.pm line 764.
Use of uninitialized value in numeric ne (!=) at /home/sand/src/perl/repoperls/installed-perls/host/k93msid/v5.31.6-76-gdc10ea26d7/af11/lib/site_perl/5.31.7/Net/OpenSSH.pm line 1020.
	(in cleanup) Can't use an undefined value as an ARRAY reference at /home/sand/src/perl/repoperls/installed-perls/host/k93msid/v5.31.6-76-gdc10ea26d7/af11/lib/site_perl/5.31.7/Net/OpenSSH.pm line 122.
t/engine/openssh.t .................... ok
t/engine/subclassing.t ................ ok
t/info/base.t ......................... ok
t/info/reserved_keys.t ................ ok
t/release-pod-syntax.t ................ skipped: these tests are for release candidate testing
t/serializers/json.t .................. ok
All tests successful.
Files=12, Tests=72,  5 wallclock secs ( 0.03 usr  0.06 sys +  4.35 cusr  0.73 csys =  5.17 CPU)
Result: PASS

------------------------------
PREREQUISITES
------------------------------

Prerequisite modules loaded:

requires:

    Module                     Need   Have    
    -------------------------- ------ --------
    Carp                       0      1.50    
    Class::Load                0      0.25    
    Data::Dumper               0      2.174   
    File::HomeDir              0      1.004   
    File::Spec                 0      3.78    
    indirect                   0      0.39    
    IPC::System::Simple        0      1.25    
    JSON                       0      4.02    
    List::MoreUtils            0      0.428   
    List::Util                 0      1.53    
    Module::Pluggable::Object  0      5.2     
    Moose                      0      2.2012  
    Moose::Role                0      2.2012  
    MooseX::Getopt::Dashes     0      0.74    
    MooseX::SimpleConfig       0      0.11    
    MooseX::Types::Path::Class 0      0.09    
    MooseX::Types::Set::Object 0      0.05    
    namespace::autoclean       0      0.29    
    Net::OpenSSH               0      0.78    
    Set::Object                0      1.39    
    strictures                 1      2.000006
    YAML                       0      1.29    

build_requires:

    Module                     Need   Have    
    -------------------------- ------ --------
    File::Find                 0      1.37    
    File::Temp                 0      0.2309  
    Module::Build              0.3601 0.4229  
    strict                     0      1.11    
    Sub::Override              0      0.09    
    Test::Fatal                0      0.014   
    Test::More                 0      1.302170
    warnings                   0      1.45    

configure_requires:

    Module                     Need   Have    
    -------------------------- ------ --------
    ExtUtils::MakeMaker        6.30   7.38    
    Module::Build              0.3601 0.4229  


------------------------------
ENVIRONMENT AND OTHER CONTEXT
------------------------------

Environment variables:

    AUTOMATED_TESTING = 1
    LANG = en_US.UTF-8
    PATH = /home/sand/bin:/usr/local/bin:/usr/bin:/bin:/usr/games:/usr/local/perl/bin:/usr/X11/bin:/sbin:/usr/sbin
    PERL5LIB = 
    PERL5OPT = 
    PERL5_CPANPLUS_IS_RUNNING = 1916280
    PERL5_CPAN_IS_RUNNING = 1916280
    PERL_CANARY_STABILITY_NOPROMPT = 1
    PERL_MM_USE_DEFAULT = 1
    PERL_USE_UNSAFE_INC = 1
    SHELL = /usr/bin/zsh
    TERM = screen

Perl special variables (and OS-specific diagnostics, for MSWin32):

    $^X = /tmp/basesmoker-reloperl-kiOx/bin/perl
    $UID/$EUID = 1005 / 1005
    $GID = 1005 1005
    $EGID = 1005 1005

Perl module toolchain versions installed:

    Module              Have    
    ------------------- --------
    CPAN                2.27    
    CPAN::Meta          2.150010
    Cwd                 3.78    
    ExtUtils::CBuilder  0.280233
    ExtUtils::Command   7.38    
    ExtUtils::Install   2.14    
    ExtUtils::MakeMaker 7.38    
    ExtUtils::Manifest  1.72    
    ExtUtils::ParseXS   3.40    
    File::Spec          3.78    
    JSON                4.02    
    JSON::PP            4.04    
    Module::Build       0.4229  
    Module::Signature   0.83    
    Parse::CPAN::Meta   2.150010
    Test::Harness       3.42    
    Test::More          1.302170
    YAML                1.29    
    YAML::Syck          1.31    
    version             0.9924  


--

Summary of my perl5 (revision 5 version 31 subversion 7) configuration:
  Commit id: dc10ea26d793374ef5558c52a5cc16ca5e28c293
  Platform:
    osname=linux
    osvers=5.3.0-2-amd64
    archname=x86_64-linux-ld
    uname='linux k93msid 5.3.0-2-amd64 #1 smp debian 5.3.9-3 (2019-11-19) x86_64 gnulinux '
    config_args='-Dprefix=/home/sand/src/perl/repoperls/installed-perls/host/k93msid/v5.31.6-76-gdc10ea26d7/af11 -Dmyhostname=k93msid -Dinstallusrbinperl=n -Uversiononly -Dusedevel -des -Ui_db -Dlibswanted=cl pthread socket inet nsl gdbm dbm malloc dl ld sun m crypt sec util c cposix posix ucb BSD gdbm_compat -Uuseithreads -Duselongdouble -DEBUGGING=-g'
    hint=recommended
    useposix=true
    d_sigaction=define
    useithreads=undef
    usemultiplicity=undef
    use64bitint=define
    use64bitall=define
    uselongdouble=define
    usemymalloc=n
    default_inc_excludes_dot=define
    bincompat5005=undef
  Compiler:
    cc='cc'
    ccflags ='-fwrapv -fno-strict-aliasing -pipe -fstack-protector-strong -I/usr/local/include -D_LARGEFILE_SOURCE -D_FILE_OFFSET_BITS=64 -D_FORTIFY_SOURCE=2'
    optimize='-O2 -g'
    cppflags='-fwrapv -fno-strict-aliasing -pipe -fstack-protector-strong -I/usr/local/include'
    ccversion=''
    gccversion='9.2.1 20191109'
    gccosandvers=''
    intsize=4
    longsize=8
    ptrsize=8
    doublesize=8
    byteorder=12345678
    doublekind=3
    d_longlong=define
    longlongsize=8
    d_longdbl=define
    longdblsize=16
    longdblkind=3
    ivtype='long'
    ivsize=8
    nvtype='long double'
    nvsize=16
    Off_t='off_t'
    lseeksize=8
    alignbytes=16
    prototype=define
  Linker and Libraries:
    ld='cc'
    ldflags =' -fstack-protector-strong -L/usr/local/lib'
    libpth=/usr/local/lib /usr/lib/gcc/x86_64-linux-gnu/9/include-fixed /usr/include/x86_64-linux-gnu /usr/lib /lib/x86_64-linux-gnu /lib/../lib /usr/lib/x86_64-linux-gnu /usr/lib/../lib /lib
    libs=-lpthread -lnsl -ldl -lm -lcrypt -lutil -lc
    perllibs=-lpthread -lnsl -ldl -lm -lcrypt -lutil -lc
    libc=libc-2.29.so
    so=so
    useshrplib=false
    libperl=libperl.a
    gnulibc_version='2.29'
  Dynamic Linking:
    dlsrc=dl_dlopen.xs
    dlext=so
    d_dlsymun=undef
    ccdlflags='-Wl,-E'
    cccdlflags='-fPIC'
    lddlflags='-shared -O2 -g -L/usr/local/lib -fstack-protector-strong'


Characteristics of this binary (from libperl): 
  Compile-time options:
    HAS_TIMES
    PERLIO_LAYERS
    PERL_COPY_ON_WRITE
    PERL_DONT_CREATE_GVSV
    PERL_MALLOC_WRAP
    PERL_OP_PARENT
    PERL_PRESERVE_IVUV
    PERL_USE_DEVEL
    USE_64_BIT_ALL
    USE_64_BIT_INT
    USE_LARGE_FILES
    USE_LOCALE
    USE_LOCALE_COLLATE
    USE_LOCALE_CTYPE
    USE_LOCALE_NUMERIC
    USE_LOCALE_TIME
    USE_LONG_DOUBLE
    USE_PERLIO
    USE_PERL_ATOF
  Built under linux
  Compiled at Dec  2 2019 17:59:42
  %ENV:
    PERL5LIB=""
    PERL5OPT=""
    PERL5_CPANPLUS_IS_RUNNING="1916280"
    PERL5_CPAN_IS_RUNNING="1916280"
    PERL_CANARY_STABILITY_NOPROMPT="1"
    PERL_MM_USE_DEFAULT="1"
    PERL_USE_UNSAFE_INC="1"
  @INC:
    /home/sand/src/perl/repoperls/installed-perls/host/k93msid/v5.31.6-76-gdc10ea26d7/af11/lib/site_perl/5.31.7/x86_64-linux-ld
    /home/sand/src/perl/repoperls/installed-perls/host/k93msid/v5.31.6-76-gdc10ea26d7/af11/lib/site_perl/5.31.7
    /home/sand/src/perl/repoperls/installed-perls/host/k93msid/v5.31.6-76-gdc10ea26d7/af11/lib/5.31.7/x86_64-linux-ld
    /home/sand/src/perl/repoperls/installed-perls/host/k93msid/v5.31.6-76-gdc10ea26d7/af11/lib/5.31.7
    .