Alien-Build-Plugin-Fetch-Cache v0.04 Perl 5 v5.26.1 RC1 amd64-freebsd
- Status
- Pass
- From
- Slaven Rezić (SREZIC)
- Dist
-
Alien-Build-Plugin-Fetch-Cache v0.04
- Platform
- Perl 5 v5.26.1 RC1 amd64-freebsd
- Date
- 2017-09-12 07:50:03
- ID
- fc90c5a2-978e-11e7-ae02-c78938c0581f
This distribution has been tested as part of the CPAN Testers
project, supporting the Perl programming language. See
http://wiki.cpantesters.org/ for more information or email
questions to cpan-testers-discuss@perl.org
--
Dear Graham Ollis,
This is a computer-generated report for Alien-Build-Plugin-Fetch-Cache-0.04
on perl 5.26.1, created by CPAN-Reporter-1.2018.
Thank you for uploading your work to CPAN. Congratulations!
All tests were successful.
Sections of this report:
* Tester comments
* Program output
* Prerequisites
* Environment and other context
------------------------------
TESTER COMMENTS
------------------------------
Additional comments from tester:
none provided
------------------------------
PROGRAM OUTPUT
------------------------------
Output from '/usr/bin/make test':
PERL_DL_NONLAZY=1 "/usr/perl5.26.1-RC1p/bin/perl5.26.1" "-MExtUtils::Command::MM" "-MTest::Harness" "-e" "undef *Test::Harness::Switches; test_harness(0, 'blib/lib', 'blib/arch')" t/*.t
#
#
#
# HARNESS_ACTIVE=1
# HARNESS_VERSION=3.38
# PERL5LIB=/home/cpansand/.cpan/build/2017091206/Alien-Build-Plugin-Fetch-Cache-0.04-0/blib/lib:/home/cpansand/.cpan/build/2017091206/Alien-Build-Plugin-Fetch-Cache-0.04-0/blib/arch:
# PERL5OPT=
# PERL5_CPANPLUS_IS_RUNNING=67355
# PERL5_CPAN_IS_RUNNING=67355
# PERL5_CPAN_IS_RUNNING_IN_RECURSION=48145,67355
# PERLDOC=-MPod::Perldoc::ToTextOverstrike
# PERL_BATCH=yes
# PERL_CANARY_STABILITY_NOPROMPT=1
# PERL_CPAN_REPORTER_CONFIG=/var/tmp/cpansmoker-1023/2017091203/cpanreporter_000_config.ini
# PERL_DL_NONLAZY=1
# PERL_EXTUTILS_AUTOINSTALL=--defaultdeps
# PERL_USE_UNSAFE_INC=1
# SHELL=/usr/local/bin/zsh
#
#
#
# PERL5LIB path
# /home/cpansand/.cpan/build/2017091206/Alien-Build-Plugin-Fetch-Cache-0.04-0/blib/lib
# /home/cpansand/.cpan/build/2017091206/Alien-Build-Plugin-Fetch-Cache-0.04-0/blib/arch
#
#
#
# perl 5.026001
# Alien::Build 1.12
# Capture::Tiny 0.46
# Digest::MD5 2.55
# ExtUtils::MakeMaker 7.3
# File::chdir 0.1010
# Number::Bytes::Human 0.11
# Path::Tiny 0.104
# Sereal 3.015
# Test2::Plugin::FauxHomeDir 0.03
# Test2::V0 0.000075
# Test::Alien::Build 1.12
# Test::Script 1.23
# URI 1.72
#
#
#
t/00_diag.t ......................... ok
t/01_use.t .......................... ok
t/abcache.t ......................... ok
t/alien_build_plugin_fetch_cache.t .. ok
All tests successful.
Files=4, Tests=4, 1 wallclock secs ( 0.02 usr 0.01 sys + 0.61 cusr 0.17 csys = 0.81 CPU)
Result: PASS
------------------------------
PREREQUISITES
------------------------------
Prerequisite modules loaded:
requires:
Module Need Have
-------------------------- -------- --------
Alien::Build 0.57 1.12
Digest::MD5 0 2.55
Number::Bytes::Human 0 0.11
Path::Tiny 0.100 0.104
perl 5.010001 5.026001
Sereal 3.015 3.015
URI 1.71 1.72
build_requires:
Module Need Have
-------------------------- -------- --------
Capture::Tiny 0 0.46
ExtUtils::MakeMaker 0 7.30
File::chdir 0 0.1010
Test2::Plugin::FauxHomeDir 0 0.03
Test2::V0 0.000060 0.000075
Test::Alien::Build 0 1.12
Test::Script 0 1.23
configure_requires:
Module Need Have
-------------------------- -------- --------
ExtUtils::MakeMaker 0 7.30
perl 5.010001 5.026001
------------------------------
ENVIRONMENT AND OTHER CONTEXT
------------------------------
Environment variables:
PATH = /usr/local/bin:/usr/bin:/bin:/usr/local/sbin:/usr/sbin:/sbin:/home/cpansand/bin/freebsd11.0:/home/cpansand/bin/sh:/home/cpansand/bin:/usr/games:/home/cpansand/devel:/home/eserte/src/srezic-misc/scripts
PERL5LIB =
PERL5OPT =
PERL5_CPANPLUS_IS_RUNNING = 67355
PERL5_CPAN_IS_RUNNING = 67355
PERL5_CPAN_IS_RUNNING_IN_RECURSION = 48145,67355
PERLDOC = -MPod::Perldoc::ToTextOverstrike
PERL_BATCH = yes
PERL_CANARY_STABILITY_NOPROMPT = 1
PERL_CPAN_REPORTER_CONFIG = /var/tmp/cpansmoker-1023/2017091203/cpanreporter_000_config.ini
PERL_EXTUTILS_AUTOINSTALL = --defaultdeps
PERL_USE_UNSAFE_INC = 1
SHELL = /usr/local/bin/zsh
TERM = screen
TMPDIR = /var/tmp/cpansmoker-1023/2017091203
Perl special variables (and OS-specific diagnostics, for MSWin32):
$^X = /usr/perl5.26.1-RC1p/bin/perl5.26.1
$UID/$EUID = 1023 / 1023
$GID = 1023 1023
$EGID = 1023 1023
Perl module toolchain versions installed:
Module Have
------------------- --------
CPAN 2.18
CPAN::Meta 2.150010
Cwd 3.67
ExtUtils::CBuilder 0.280226
ExtUtils::Command 7.30
ExtUtils::Install 2.06
ExtUtils::MakeMaker 7.30
ExtUtils::Manifest 1.70
ExtUtils::ParseXS 3.35
File::Spec 3.67
JSON 2.94
JSON::PP 2.94
Module::Build 0.4224
Module::Signature 0.81
Parse::CPAN::Meta 2.150010
Test::Harness 3.38
Test::More 1.302096
YAML 1.23
YAML::Syck 1.30
version 0.9917
--
Summary of my perl5 (revision 5 version 26 subversion 1) configuration:
Platform:
osname=freebsd
osvers=11.1-stable
archname=amd64-freebsd
uname='freebsd ali3.bbbike.org 11.1-stable freebsd 11.1-stable #0 r313908+86423c22e2d(stable11): thu sep 7 22:30:27 utc 2017 root@ali3.bbbike.org:usrobjhomeprojectsfreebsdsysgeneric amd64 '
config_args='-ds -e -Dprefix=/usr/perl5.26.1-RC1p -Dcf_email=srezic@cpan.org -Doptimize=-O2 -pipe'
hint=recommended
useposix=true
d_sigaction=define
useithreads=undef
usemultiplicity=undef
use64bitint=define
use64bitall=define
uselongdouble=undef
usemymalloc=n
default_inc_excludes_dot=define
bincompat5005=undef
Compiler:
cc='cc'
ccflags ='-DHAS_FPSETMASK -DHAS_FLOATINGPOINT_H -fno-strict-aliasing -pipe -fstack-protector-strong -I/usr/local/include -D_FORTIFY_SOURCE=2'
optimize='-O2 -pipe'
cppflags='-DHAS_FPSETMASK -DHAS_FLOATINGPOINT_H -fno-strict-aliasing -pipe -fstack-protector-strong -I/usr/local/include'
ccversion=''
gccversion='4.2.1 Compatible FreeBSD Clang 4.0.0 (tags/RELEASE_400/final 297347)'
gccosandvers=''
intsize=4
longsize=8
ptrsize=8
doublesize=8
byteorder=12345678
doublekind=3
d_longlong=define
longlongsize=8
d_longdbl=define
longdblsize=16
longdblkind=3
ivtype='long'
ivsize=8
nvtype='double'
nvsize=8
Off_t='off_t'
lseeksize=8
alignbytes=8
prototype=define
Linker and Libraries:
ld='cc'
ldflags ='-pthread -Wl,-E -fstack-protector-strong -L/usr/local/lib'
libpth=/usr/lib /usr/local/lib /usr/bin/../lib/clang/4.0.0/lib /usr/lib
libs=-lpthread -lgdbm -lm -lcrypt -lutil -lc
perllibs=-lpthread -lm -lcrypt -lutil -lc
libc=
so=so
useshrplib=false
libperl=libperl.a
gnulibc_version=''
Dynamic Linking:
dlsrc=dl_dlopen.xs
dlext=so
d_dlsymun=undef
ccdlflags=' '
cccdlflags='-DPIC -fPIC'
lddlflags='-shared -L/usr/local/lib -fstack-protector-strong'
Characteristics of this binary (from libperl):
Compile-time options:
HAS_TIMES
PERLIO_LAYERS
PERL_COPY_ON_WRITE
PERL_DONT_CREATE_GVSV
PERL_MALLOC_WRAP
PERL_OP_PARENT
PERL_PRESERVE_IVUV
USE_64_BIT_ALL
USE_64_BIT_INT
USE_LARGE_FILES
USE_LOCALE
USE_LOCALE_COLLATE
USE_LOCALE_CTYPE
USE_LOCALE_NUMERIC
USE_LOCALE_TIME
USE_PERLIO
USE_PERL_ATOF
Locally applied patches:
RC1
Built under freebsd
Compiled at Sep 10 2017 15:53:34
%ENV:
PERL5LIB=""
PERL5OPT=""
PERL5_CPANPLUS_IS_RUNNING="67355"
PERL5_CPAN_IS_RUNNING="67355"
PERL5_CPAN_IS_RUNNING_IN_RECURSION="48145,67355"
PERLDOC="-MPod::Perldoc::ToTextOverstrike"
PERL_BATCH="yes"
PERL_CANARY_STABILITY_NOPROMPT="1"
PERL_CPAN_REPORTER_CONFIG="/var/tmp/cpansmoker-1023/2017091203/cpanreporter_000_config.ini"
PERL_EXTUTILS_AUTOINSTALL="--defaultdeps"
PERL_USE_UNSAFE_INC="1"
@INC:
/usr/perl5.26.1-RC1p/lib/site_perl/5.26.1/amd64-freebsd
/usr/perl5.26.1-RC1p/lib/site_perl/5.26.1
/usr/perl5.26.1-RC1p/lib/5.26.1/amd64-freebsd
/usr/perl5.26.1-RC1p/lib/5.26.1
.