HTML-Template-Pluggable v0.22 Perl 5 v5.24.2 amd64-freebsd
- Status
- Pass
- From
- Slaven Rezić
- Dist
-
HTML-Template-Pluggable v0.22
- Platform
- Perl 5 v5.24.2 amd64-freebsd
- Date
- 2022-05-11 20:43:17
- ID
- fcaac590-d16a-11ec-bf1c-a34e1f24ea8f
This distribution has been tested as part of the CPAN Testers
project, supporting the Perl programming language. See
http://wiki.cpantesters.org/ for more information or email
questions to cpan-testers-discuss@perl.org
--
Dear Rhesa Rozendaal,
This is a computer-generated report for HTML-Template-Pluggable-0.22
on perl 5.24.2, created by CPAN-Reporter-1.2018.
Thank you for uploading your work to CPAN. Congratulations!
All tests were successful.
Sections of this report:
* Tester comments
* Program output
* Prerequisites
* Environment and other context
------------------------------
TESTER COMMENTS
------------------------------
Additional comments from tester:
none provided
------------------------------
PROGRAM OUTPUT
------------------------------
Output from './Build test':
t/RT40714-1.t ....................... ok
t/RT40714-2.t ....................... skipped: Number::Format required for these tests
t/RT49123.t ......................... ok
t/before_output.t ................... ok
t/dot_can.t ......................... ok
t/dot_for_loops.t ................... ok
t/dot_loop.t ........................ ok
t/dot_nested.t ...................... ok
t/dot_notation.t .................... ok
t/dot_notation_methods_with_args.t .. ok
t/dot_notation_mixnmatch.t .......... ok
t/dot_notation_recursive.t .......... ok
t/pod-coverage.t .................... ok
t/pod.t ............................. ok
t/side_effects.t .................... ok
All tests successful.
Files=15, Tests=102, 2 wallclock secs ( 0.01 usr 0.08 sys + 0.48 cusr 1.68 csys = 2.25 CPU)
Result: PASS
------------------------------
PREREQUISITES
------------------------------
Prerequisite modules loaded:
requires:
Module Need Have
---------------- ---- ----------
CGI 3.06 4.36
Class::Trigger 0 0.14
HTML::Template 2.7 2.97
Regexp::Common 0 2017060201
Scalar::Util 0 1.50
Test::MockObject 1 1.20200122
Test::More 0 1.302140
configure_requires:
Module Need Have
---------------- ---- ----------
Module::Build 0.42 0.4224
------------------------------
ENVIRONMENT AND OTHER CONTEXT
------------------------------
Environment variables:
LC_ALL = de_DE.ISO8859-1
PATH = /usr/local/bin:/usr/bin:/bin:/usr/local/sbin:/usr/sbin:/sbin:/home/cpansand/bin/freebsd10.3:/home/cpansand/bin/sh:/home/cpansand/bin:/usr/games:/home/cpansand/devel:/home/eserte/src/srezic-misc/scripts
PERL5LIB = /home/cpansand/.cpan/build/2022051121/Regexp-Common-2017060201-3B0aNb/blib/arch:/home/cpansand/.cpan/build/2022051121/Regexp-Common-2017060201-3B0aNb/blib/lib:/home/cpansand/.cpan/build/2022051121/HTML-Template-2.97-jxu02T/blib/arch:/home/cpansand/.cpan/build/2022051121/HTML-Template-2.97-jxu02T/blib/lib:/home/cpansand/.cpan/build/2022051121/Test-MockObject-1.20200122-f8Wo9x/blib/arch:/home/cpansand/.cpan/build/2022051121/Test-MockObject-1.20200122-f8Wo9x/blib/lib:/home/cpansand/.cpan/build/2022051121/UNIVERSAL-isa-1.20171012-lxQy6V/blib/arch:/home/cpansand/.cpan/build/2022051121/UNIVERSAL-isa-1.20171012-lxQy6V/blib/lib:/home/cpansand/.cpan/build/2022051121/UNIVERSAL-can-1.20140328-cvjb0u/blib/arch:/home/cpansand/.cpan/build/2022051121/UNIVERSAL-can-1.20140328-cvjb0u/blib/lib
PERL5OPT =
PERL5_CPANPLUS_IS_RUNNING = 23732
PERL5_CPAN_IS_RUNNING = 23732
PERL5_CPAN_IS_RUNNING_IN_RECURSION = 67603,23732
PERLDOC = -MPod::Perldoc::ToTextOverstrike
PERL_BATCH = yes
PERL_CANARY_STABILITY_NOPROMPT = 1
PERL_CPAN_REPORTER_CONFIG = /var/tmp/cpansmoker-1023/2022051119/cpanreporter_000_config.ini
PERL_EXTUTILS_AUTOINSTALL = --defaultdeps
SHELL = /usr/local/bin/zsh
TERM = screen
TMPDIR = /var/tmp/cpansmoker-1023/2022051119
Perl special variables (and OS-specific diagnostics, for MSWin32):
$^X = /usr/perl5.24.2p/bin/perl
$UID/$EUID = 1023 / 1023
$GID = 1023 1023
$EGID = 1023 1023
Perl module toolchain versions installed:
Module Have
------------------- ----------
CPAN 2.11_01
CPAN::Meta 2.150010
Cwd 3.75
ExtUtils::CBuilder 0.280225
ExtUtils::Command 7.58
ExtUtils::Install 2.06
ExtUtils::MakeMaker 7.58
ExtUtils::Manifest 1.71
ExtUtils::ParseXS 3.31
File::Spec 3.75
JSON 2.94
JSON::PP 2.27300_01
Module::Build 0.4224
Module::Signature n/a
Parse::CPAN::Meta 2.150010
Test::Harness 3.36_01
Test::More 1.302140
YAML 1.23
YAML::Syck 1.30
version 0.9924
--
Summary of my perl5 (revision 5 version 24 subversion 2) configuration:
Platform:
osname=freebsd, osvers=10.3-release-p11, archname=amd64-freebsd
uname='freebsd cvrsnica-freebsd-101.herceg.de 10.3-release-p11 freebsd 10.3-release-p11 #0: mon oct 24 18:49:24 utc 2016 root@amd64-builder.daemonology.net:usrobjusrsrcsysgeneric amd64 '
config_args='-ds -e -Dprefix=/usr/perl5.24.2p -Dcf_email=srezic@cpan.org -Doptimize=-O2 -pipe'
hint=recommended, useposix=true, d_sigaction=define
useithreads=undef, usemultiplicity=undef
use64bitint=define, use64bitall=define, uselongdouble=undef
usemymalloc=n, bincompat5005=undef
Compiler:
cc='cc', ccflags ='-DHAS_FPSETMASK -DHAS_FLOATINGPOINT_H -fno-strict-aliasing -pipe -fstack-protector -I/usr/local/include -D_FORTIFY_SOURCE=2',
optimize='-O2 -pipe',
cppflags='-DHAS_FPSETMASK -DHAS_FLOATINGPOINT_H -fno-strict-aliasing -pipe -fstack-protector -I/usr/local/include'
ccversion='', gccversion='4.2.1 Compatible FreeBSD Clang 3.4.1 (tags/RELEASE_34/dot1-final 208032)', gccosandvers=''
intsize=4, longsize=8, ptrsize=8, doublesize=8, byteorder=12345678, doublekind=3
d_longlong=define, longlongsize=8, d_longdbl=define, longdblsize=16, longdblkind=3
ivtype='long', ivsize=8, nvtype='double', nvsize=8, Off_t='off_t', lseeksize=8
alignbytes=8, prototype=define
Linker and Libraries:
ld='cc', ldflags ='-pthread -Wl,-E -fstack-protector -L/usr/local/lib'
libpth=/usr/lib /usr/local/lib /usr/include/clang/3.4.1 /usr/lib
libs=-lpthread -lgdbm -lm -lcrypt -lutil -lc
perllibs=-lpthread -lm -lcrypt -lutil -lc
libc=, so=so, useshrplib=false, libperl=libperl.a
gnulibc_version=''
Dynamic Linking:
dlsrc=dl_dlopen.xs, dlext=so, d_dlsymun=undef, ccdlflags=' '
cccdlflags='-DPIC -fPIC', lddlflags='-shared -L/usr/local/lib -fstack-protector'
Characteristics of this binary (from libperl):
Compile-time options: HAS_TIMES PERLIO_LAYERS PERL_COPY_ON_WRITE
PERL_DONT_CREATE_GVSV
PERL_HASH_FUNC_ONE_AT_A_TIME_HARD PERL_MALLOC_WRAP
PERL_PRESERVE_IVUV USE_64_BIT_ALL USE_64_BIT_INT
USE_LARGE_FILES USE_LOCALE USE_LOCALE_COLLATE
USE_LOCALE_CTYPE USE_LOCALE_NUMERIC USE_LOCALE_TIME
USE_PERLIO USE_PERL_ATOF
Built under freebsd
Compiled at Jul 29 2017 11:20:18
%ENV:
PERL5LIB="/home/cpansand/.cpan/build/2022051121/Regexp-Common-2017060201-3B0aNb/blib/arch:/home/cpansand/.cpan/build/2022051121/Regexp-Common-2017060201-3B0aNb/blib/lib:/home/cpansand/.cpan/build/2022051121/HTML-Template-2.97-jxu02T/blib/arch:/home/cpansand/.cpan/build/2022051121/HTML-Template-2.97-jxu02T/blib/lib:/home/cpansand/.cpan/build/2022051121/Test-MockObject-1.20200122-f8Wo9x/blib/arch:/home/cpansand/.cpan/build/2022051121/Test-MockObject-1.20200122-f8Wo9x/blib/lib:/home/cpansand/.cpan/build/2022051121/UNIVERSAL-isa-1.20171012-lxQy6V/blib/arch:/home/cpansand/.cpan/build/2022051121/UNIVERSAL-isa-1.20171012-lxQy6V/blib/lib:/home/cpansand/.cpan/build/2022051121/UNIVERSAL-can-1.20140328-cvjb0u/blib/arch:/home/cpansand/.cpan/build/2022051121/UNIVERSAL-can-1.20140328-cvjb0u/blib/lib"
PERL5OPT=""
PERL5_CPANPLUS_IS_RUNNING="23732"
PERL5_CPAN_IS_RUNNING="23732"
PERL5_CPAN_IS_RUNNING_IN_RECURSION="67603,23732"
PERLDOC="-MPod::Perldoc::ToTextOverstrike"
PERL_BATCH="yes"
PERL_CANARY_STABILITY_NOPROMPT="1"
PERL_CPAN_REPORTER_CONFIG="/var/tmp/cpansmoker-1023/2022051119/cpanreporter_000_config.ini"
PERL_EXTUTILS_AUTOINSTALL="--defaultdeps"
@INC:
/home/cpansand/.cpan/build/2022051121/Regexp-Common-2017060201-3B0aNb/blib/arch
/home/cpansand/.cpan/build/2022051121/Regexp-Common-2017060201-3B0aNb/blib/lib
/home/cpansand/.cpan/build/2022051121/HTML-Template-2.97-jxu02T/blib/arch
/home/cpansand/.cpan/build/2022051121/HTML-Template-2.97-jxu02T/blib/lib
/home/cpansand/.cpan/build/2022051121/Test-MockObject-1.20200122-f8Wo9x/blib/arch
/home/cpansand/.cpan/build/2022051121/Test-MockObject-1.20200122-f8Wo9x/blib/lib
/home/cpansand/.cpan/build/2022051121/UNIVERSAL-isa-1.20171012-lxQy6V/blib/arch
/home/cpansand/.cpan/build/2022051121/UNIVERSAL-isa-1.20171012-lxQy6V/blib/lib
/home/cpansand/.cpan/build/2022051121/UNIVERSAL-can-1.20140328-cvjb0u/blib/arch
/home/cpansand/.cpan/build/2022051121/UNIVERSAL-can-1.20140328-cvjb0u/blib/lib
/usr/perl5.24.2p/lib/site_perl/5.24.2/amd64-freebsd
/usr/perl5.24.2p/lib/site_perl/5.24.2
/usr/perl5.24.2p/lib/5.24.2/amd64-freebsd
/usr/perl5.24.2p/lib/5.24.2
.