Web-Scraper v0.38 Perl 5 v5.16.3 x86_64-linux
- Status
- Pass
- From
- Andreas J. König (ANDK)
- Dist
-
Web-Scraper v0.38
- Platform
- Perl 5 v5.16.3 x86_64-linux
- Date
- 2018-12-29 23:39:30
- ID
- fcac7b86-0bc2-11e9-a48c-6d894acb5b29
This distribution has been tested as part of the CPAN Testers
project, supporting the Perl programming language. See
http://wiki.cpantesters.org/ for more information or email
questions to cpan-testers-discuss@perl.org
--
Dear Tatsuhiko Miyagawa,
This is a computer-generated report for Web-Scraper-0.38
on perl 5.16.3, created by CPAN-Reporter-1.2018.
Thank you for uploading your work to CPAN. Congratulations!
All tests were successful.
Sections of this report:
* Tester comments
* Program output
* Prerequisites
* Environment and other context
------------------------------
TESTER COMMENTS
------------------------------
Additional comments from tester:
this report is from an automated smoke testing program
and was not reviewed by a human for accuracy
------------------------------
PROGRAM OUTPUT
------------------------------
Output from './Build test':
t/00_compile.t .......... ok
t/01_process.t .......... ok
t/02_process_multi.t .... ok
t/03_scraper_nest.t ..... ok
t/04_callback.t ......... ok
t/05_process_first.t .... ok
t/06_define.t ........... ok
t/07-live.t ............. skipped: LIVE_TEST not enabled
t/08-leak.t ............. skipped: LEAK_TEST is not defined
t/09-process_hash.t ..... ok
t/11_absolute.t ......... ok
t/12_html.t ............. ok
t/13_textnode.t ......... ok
t/14_absolute_nested.t .. ok
t/15_absolute_hash.t .... ok
t/16_filter.t ........... ok
t/17_filter_loop.t ...... ok
t/18_http_response.t .... skipped: LIVE_TEST not enabled
t/19_decode_content.t ... skipped: LIVE_TEST not enabled
t/20_comment_nodes.t .... skipped: Please upgrade HTML::TreeBuilder::XPath and HTML::TreeBuilder::LibXML modules for comment nodes supporting
t/21_html5.t ............ ok
t/22_filter_regex.t ..... ok
t/redefine.t ............ ok
t/release-pod-syntax.t .. skipped: these tests are for release candidate testing
t/xml-simple.t .......... skipped: Test requires module 'HTML::TreeBuilder::LibXML' but it's not found
All tests successful.
Files=25, Tests=42, 6 wallclock secs ( 0.06 usr 0.12 sys + 1.91 cusr 0.61 csys = 2.70 CPU)
Result: PASS
------------------------------
PREREQUISITES
------------------------------
Prerequisite modules loaded:
requires:
Module Need Have
------------------------ -------- --------
HTML::Entities 0 3.69
HTML::Selector::XPath 0.03 0.25
HTML::Tagset 0 3.20
HTML::TreeBuilder 3.23 5.07
HTML::TreeBuilder::XPath 0.08 0.14
LWP 5.827 6.36
perl 5.008001 5.016003
Scalar::Util 0 1.50
UNIVERSAL::require 0 0.18
URI 0 1.74
XML::XPathEngine 0.08 0.14
YAML 0 1.26
build_requires:
Module Need Have
------------------------ -------- --------
ExtUtils::MakeMaker 6.59 7.35_07
Test::Base 0 0.89
Test::More 0 1.302144
Test::Requires 0 0.10
configure_requires:
Module Need Have
------------------------ -------- --------
Module::Build::Tiny 0.039 0.039
------------------------------
ENVIRONMENT AND OTHER CONTEXT
------------------------------
Environment variables:
AUTOMATED_TESTING = 1
LANG = en_US.UTF-8
PATH = /home/sand/bin:/usr/local/bin:/usr/bin:/bin:/usr/games:/usr/local/perl/bin:/usr/X11/bin:/sbin:/usr/sbin
PERL5LIB = /tmp/loop_over_bdir-6257-PMd3DU/Novel-Robot-Browser-0.21-0/blib/arch:/tmp/loop_over_bdir-6257-PMd3DU/Novel-Robot-Browser-0.21-0/blib/lib:/tmp/loop_over_bdir-6257-PMd3DU/Parallel-Loops-0.10-0/blib/arch:/tmp/loop_over_bdir-6257-PMd3DU/Parallel-Loops-0.10-0/blib/lib:/tmp/loop_over_bdir-6257-PMd3DU/Novel-Robot-Packer-0.20-0/blib/arch:/tmp/loop_over_bdir-6257-PMd3DU/Novel-Robot-Packer-0.20-0/blib/lib:/tmp/loop_over_bdir-6257-PMd3DU/HTML-Formatter-2.16-0/blib/arch:/tmp/loop_over_bdir-6257-PMd3DU/HTML-Formatter-2.16-0/blib/lib:/tmp/loop_over_bdir-6257-PMd3DU/Font-AFM-1.20-0/blib/arch:/tmp/loop_over_bdir-6257-PMd3DU/Font-AFM-1.20-0/blib/lib:/tmp/loop_over_bdir-6257-PMd3DU/Encode-Detect-CJK-2.0.2-0/blib/arch:/tmp/loop_over_bdir-6257-PMd3DU/Encode-Detect-CJK-2.0.2-0/blib/lib
PERL5OPT =
PERL5_CPANPLUS_IS_RUNNING = 6258
PERL5_CPAN_IS_RUNNING = 6258
PERL5_CPAN_IS_RUNNING_IN_RECURSION = 5756,6258
PERL_CANARY_STABILITY_NOPROMPT = 1
PERL_MM_USE_DEFAULT = 1
PERL_USE_UNSAFE_INC = 1
SHELL = /usr/bin/zsh
TERM = screen
Perl special variables (and OS-specific diagnostics, for MSWin32):
$^X = /home/sand/src/perl/repoperls/installed-perls/host/k93msid/v5.16.3/da1c/bin/perl
$UID/$EUID = 1005 / 1005
$GID = 1005 1005
$EGID = 1005 1005
Perl module toolchain versions installed:
Module Have
------------------- --------
CPAN 2.22
CPAN::Meta 2.150010
Cwd 3.75
ExtUtils::CBuilder 0.280230
ExtUtils::Command 7.35_07
ExtUtils::Install 2.06
ExtUtils::MakeMaker 7.35_07
ExtUtils::Manifest 1.70
ExtUtils::ParseXS 3.35
File::Spec 3.75
JSON 4.00
JSON::PP 3.99_01
Module::Build 0.4224
Module::Signature 0.83
Parse::CPAN::Meta 2.150010
Test::Harness 3.42
Test::More 1.302144
YAML 1.26
YAML::Syck 1.31
version 0.9924
--
Summary of my perl5 (revision 5 version 16 subversion 3) configuration:
Derived from: fd04d42d38f4751b981eb6e9213ee1ab8ef11ea6
Platform:
osname=linux, osvers=4.18.0-2-amd64, archname=x86_64-linux
uname='linux k93msid 4.18.0-2-amd64 #1 smp debian 4.18.10-2 (2018-10-07) x86_64 gnulinux '
config_args='-Dprefix=/home/sand/src/perl/repoperls/installed-perls/host/k93msid/v5.16.3/da1c -Dmyhostname=k93msid -Dinstallusrbinperl=n -Uversiononly -Dusedevel -des -Ui_db -Dlibswanted=cl pthread socket inet nsl gdbm dbm malloc dl ld sun m crypt sec util c cposix posix ucb BSD gdbm_compat -Uuseithreads -Uuselongdouble -DEBUGGING=-g'
hint=recommended, useposix=true, d_sigaction=define
useithreads=undef, usemultiplicity=undef
useperlio=define, d_sfio=undef, uselargefiles=define, usesocks=undef
use64bitint=define, use64bitall=define, uselongdouble=undef
usemymalloc=n, bincompat5005=undef
Compiler:
cc='cc', ccflags ='-fno-strict-aliasing -pipe -fstack-protector -I/usr/local/include -D_LARGEFILE_SOURCE -D_FILE_OFFSET_BITS=64',
optimize='-O2 -g',
cppflags='-fno-strict-aliasing -pipe -fstack-protector -I/usr/local/include'
ccversion='', gccversion='8.2.0', gccosandvers=''
intsize=4, longsize=8, ptrsize=8, doublesize=8, byteorder=12345678
d_longlong=define, longlongsize=8, d_longdbl=define, longdblsize=16
ivtype='long', ivsize=8, nvtype='double', nvsize=8, Off_t='off_t', lseeksize=8
alignbytes=8, prototype=define
Linker and Libraries:
ld='cc', ldflags =' -fstack-protector -L/usr/local/lib'
libpth=/usr/local/lib /lib/x86_64-linux-gnu /lib/../lib /usr/lib/x86_64-linux-gnu /usr/lib/../lib /lib /usr/lib
libs=-lpthread -lnsl -ldl -lm -lcrypt -lutil -lc
perllibs=-lpthread -lnsl -ldl -lm -lcrypt -lutil -lc
libc=libc-2.27.so, so=so, useshrplib=false, libperl=libperl.a
gnulibc_version='2.27'
Dynamic Linking:
dlsrc=dl_dlopen.xs, dlext=so, d_dlsymun=undef, ccdlflags='-Wl,-E'
cccdlflags='-fPIC', lddlflags='-shared -O2 -g -L/usr/local/lib -fstack-protector'
Characteristics of this binary (from libperl):
Compile-time options: HAS_TIMES PERLIO_LAYERS PERL_DONT_CREATE_GVSV
PERL_MALLOC_WRAP PERL_PRESERVE_IVUV PERL_USE_DEVEL
USE_64_BIT_ALL USE_64_BIT_INT USE_LARGE_FILES
USE_LOCALE USE_LOCALE_COLLATE USE_LOCALE_CTYPE
USE_LOCALE_NUMERIC USE_PERLIO USE_PERL_ATOF
Locally applied patches:
uncommitted-changes
Built under linux
Compiled at Oct 29 2018 00:31:44
%ENV:
PERL5LIB="/tmp/loop_over_bdir-6257-PMd3DU/Novel-Robot-Browser-0.21-0/blib/arch:/tmp/loop_over_bdir-6257-PMd3DU/Novel-Robot-Browser-0.21-0/blib/lib:/tmp/loop_over_bdir-6257-PMd3DU/Parallel-Loops-0.10-0/blib/arch:/tmp/loop_over_bdir-6257-PMd3DU/Parallel-Loops-0.10-0/blib/lib:/tmp/loop_over_bdir-6257-PMd3DU/Novel-Robot-Packer-0.20-0/blib/arch:/tmp/loop_over_bdir-6257-PMd3DU/Novel-Robot-Packer-0.20-0/blib/lib:/tmp/loop_over_bdir-6257-PMd3DU/HTML-Formatter-2.16-0/blib/arch:/tmp/loop_over_bdir-6257-PMd3DU/HTML-Formatter-2.16-0/blib/lib:/tmp/loop_over_bdir-6257-PMd3DU/Font-AFM-1.20-0/blib/arch:/tmp/loop_over_bdir-6257-PMd3DU/Font-AFM-1.20-0/blib/lib:/tmp/loop_over_bdir-6257-PMd3DU/Encode-Detect-CJK-2.0.2-0/blib/arch:/tmp/loop_over_bdir-6257-PMd3DU/Encode-Detect-CJK-2.0.2-0/blib/lib"
PERL5OPT=""
PERL5_CPANPLUS_IS_RUNNING="6258"
PERL5_CPAN_IS_RUNNING="6258"
PERL5_CPAN_IS_RUNNING_IN_RECURSION="5756,6258"
PERL_CANARY_STABILITY_NOPROMPT="1"
PERL_MM_USE_DEFAULT="1"
PERL_USE_UNSAFE_INC="1"
@INC:
/tmp/loop_over_bdir-6257-PMd3DU/Novel-Robot-Browser-0.21-0/blib/arch
/tmp/loop_over_bdir-6257-PMd3DU/Novel-Robot-Browser-0.21-0/blib/lib
/tmp/loop_over_bdir-6257-PMd3DU/Parallel-Loops-0.10-0/blib/arch
/tmp/loop_over_bdir-6257-PMd3DU/Parallel-Loops-0.10-0/blib/lib
/tmp/loop_over_bdir-6257-PMd3DU/Novel-Robot-Packer-0.20-0/blib/arch
/tmp/loop_over_bdir-6257-PMd3DU/Novel-Robot-Packer-0.20-0/blib/lib
/tmp/loop_over_bdir-6257-PMd3DU/HTML-Formatter-2.16-0/blib/arch
/tmp/loop_over_bdir-6257-PMd3DU/HTML-Formatter-2.16-0/blib/lib
/tmp/loop_over_bdir-6257-PMd3DU/Font-AFM-1.20-0/blib/arch
/tmp/loop_over_bdir-6257-PMd3DU/Font-AFM-1.20-0/blib/lib
/tmp/loop_over_bdir-6257-PMd3DU/Encode-Detect-CJK-2.0.2-0/blib/arch
/tmp/loop_over_bdir-6257-PMd3DU/Encode-Detect-CJK-2.0.2-0/blib/lib
/home/sand/src/perl/repoperls/installed-perls/host/k93msid/v5.16.3/da1c/lib/site_perl/5.16.3/x86_64-linux
/home/sand/src/perl/repoperls/installed-perls/host/k93msid/v5.16.3/da1c/lib/site_perl/5.16.3
/home/sand/src/perl/repoperls/installed-perls/host/k93msid/v5.16.3/da1c/lib/5.16.3/x86_64-linux
/home/sand/src/perl/repoperls/installed-perls/host/k93msid/v5.16.3/da1c/lib/5.16.3
.