Report for Dancer-Plugin-FontSubset-0.1.1

Back
From: metabase:user:320bfe00-2aae-11df-837a-5e0a49663a4f
Subject: PASS Dancer-Plugin-FontSubset-0.1.1 v5.12.5 GNU/Linux
Date: 2013-06-23T03:07:07Z

This distribution has been tested as part of the CPAN Testers
project, supporting the Perl programming language.  See
http://wiki.cpantesters.org/ for more information or email
questions to cpan-testers-discuss@perl.org


--
Dear Yanick Champoux,

This is a computer-generated report for Dancer-Plugin-FontSubset-0.1.1
on perl 5.12.5, created by CPAN-Reporter-1.2009.

Thank you for uploading your work to CPAN.  Congratulations!
All tests were successful.

Sections of this report:

    * Tester comments
    * Program output
    * Prerequisites
    * Environment and other context

------------------------------
TESTER COMMENTS
------------------------------

Additional comments from tester:

this report is from an automated smoke testing program
and was not reviewed by a human for accuracy

------------------------------
PROGRAM OUTPUT
------------------------------

Output from './Build test':

t/00-compile.t ................ ok
# 
# 
# Generated by Dist::Zilla::Plugin::ReportVersions::Tiny v1.08
# perl: 5.012005 (wanted any version) on linux from /home/sand/src/perl/repoperls/installed-perls/perl/v5.12.5/a2da/bin/perl
# 
# Dancer                                        => 1.3113     (want any version)
# Dancer::Plugin                                => <undef>    (want any version)
# Dancer::Plugin::Cache::CHI                    => 1.4.0      (want any version)
# Dancer::Test                                  => <undef>    (want any version)
# File::Find                                    => 1.15       (want any version)
# File::Temp                                    => 0.2301     (want any version)
# Font::TTF::Font                               => 0.39       (want any version)
# Font::TTF::Scripts::Name                      => <undef>    (want any version)
# List::AllUtils                                => 0.03       (want any version)
# Module::Build                                 => 0.4005     (want 0.3601) 
# Moo                                           => 1.002      (want any version)
# MooX::Singleton                               => 1.20       (want any version)
# Test::More                                    => 0.98       (want 0.88)   
# strict                                        => 1.04       (want any version)
# version                                       => 0.9902     (want 0.9901) 
# warnings                                      => 1.09       (want any version)
# 
# Thanks for using my code.  I hope it works for you.
# If not, please try and include this output in the bug report.
# That will help me reproduce the issue and solve your problem.
# 
t/000-report-versions-tiny.t .. ok
Use of uninitialized value in array element at /home/src/perl/repoperls/installed-perls/perl/v5.12.5/a2da/lib/site_perl/5.12.5/Font/TTF/OS_2.pm line 302.
Use of uninitialized value in array element at /home/src/perl/repoperls/installed-perls/perl/v5.12.5/a2da/lib/site_perl/5.12.5/Font/TTF/OS_2.pm line 302.
Use of uninitialized value in array element at /home/src/perl/repoperls/installed-perls/perl/v5.12.5/a2da/lib/site_perl/5.12.5/Font/TTF/OS_2.pm line 302.
Use of uninitialized value in array element at /home/src/perl/repoperls/installed-perls/perl/v5.12.5/a2da/lib/site_perl/5.12.5/Font/TTF/OS_2.pm line 302.
Use of uninitialized value in array element at /home/src/perl/repoperls/installed-perls/perl/v5.12.5/a2da/lib/site_perl/5.12.5/Font/TTF/OS_2.pm line 302.
Use of uninitialized value in array element at /home/src/perl/repoperls/installed-perls/perl/v5.12.5/a2da/lib/site_perl/5.12.5/Font/TTF/OS_2.pm line 302.
Use of uninitialized value in array element at /home/src/perl/repoperls/installed-perls/perl/v5.12.5/a2da/lib/site_perl/5.12.5/Font/TTF/OS_2.pm line 302.
Use of uninitialized value in array element at /home/src/perl/repoperls/installed-perls/perl/v5.12.5/a2da/lib/site_perl/5.12.5/Font/TTF/OS_2.pm line 302.
Use of uninitialized value in array element at /home/src/perl/repoperls/installed-perls/perl/v5.12.5/a2da/lib/site_perl/5.12.5/Font/TTF/OS_2.pm line 302.
Use of uninitialized value in array element at /home/src/perl/repoperls/installed-perls/perl/v5.12.5/a2da/lib/site_perl/5.12.5/Font/TTF/OS_2.pm line 302.
Use of uninitialized value in array element at /home/src/perl/repoperls/installed-perls/perl/v5.12.5/a2da/lib/site_perl/5.12.5/Font/TTF/OS_2.pm line 302.
Use of uninitialized value in array element at /home/src/perl/repoperls/installed-perls/perl/v5.12.5/a2da/lib/site_perl/5.12.5/Font/TTF/OS_2.pm line 302.
Use of uninitialized value in array element at /home/src/perl/repoperls/installed-perls/perl/v5.12.5/a2da/lib/site_perl/5.12.5/Font/TTF/OS_2.pm line 302.
Use of uninitialized value in array element at /home/src/perl/repoperls/installed-perls/perl/v5.12.5/a2da/lib/site_perl/5.12.5/Font/TTF/OS_2.pm line 302.
Use of uninitialized value in array element at /home/src/perl/repoperls/installed-perls/perl/v5.12.5/a2da/lib/site_perl/5.12.5/Font/TTF/OS_2.pm line 302.
Use of uninitialized value in array element at /home/src/perl/repoperls/installed-perls/perl/v5.12.5/a2da/lib/site_perl/5.12.5/Font/TTF/OS_2.pm line 302.
Use of uninitialized value in array element at /home/src/perl/repoperls/installed-perls/perl/v5.12.5/a2da/lib/site_perl/5.12.5/Font/TTF/OS_2.pm line 302.
Use of uninitialized value in array element at /home/src/perl/repoperls/installed-perls/perl/v5.12.5/a2da/lib/site_perl/5.12.5/Font/TTF/OS_2.pm line 302.
Use of uninitialized value in array element at /home/src/perl/repoperls/installed-perls/perl/v5.12.5/a2da/lib/site_perl/5.12.5/Font/TTF/OS_2.pm line 302.
Use of uninitialized value in array element at /home/src/perl/repoperls/installed-perls/perl/v5.12.5/a2da/lib/site_perl/5.12.5/Font/TTF/OS_2.pm line 302.
Use of uninitialized value in array element at /home/src/perl/repoperls/installed-perls/perl/v5.12.5/a2da/lib/site_perl/5.12.5/Font/TTF/OS_2.pm line 302.
Use of uninitialized value in array element at /home/src/perl/repoperls/installed-perls/perl/v5.12.5/a2da/lib/site_perl/5.12.5/Font/TTF/OS_2.pm line 302.
Use of uninitialized value in array element at /home/src/perl/repoperls/installed-perls/perl/v5.12.5/a2da/lib/site_perl/5.12.5/Font/TTF/OS_2.pm line 302.
Use of uninitialized value in array element at /home/src/perl/repoperls/installed-perls/perl/v5.12.5/a2da/lib/site_perl/5.12.5/Font/TTF/OS_2.pm line 302.
Use of uninitialized value in array element at /home/src/perl/repoperls/installed-perls/perl/v5.12.5/a2da/lib/site_perl/5.12.5/Font/TTF/OS_2.pm line 303.
Use of uninitialized value $xMin in numeric lt (<) at /home/src/perl/repoperls/installed-perls/perl/v5.12.5/a2da/lib/site_perl/5.12.5/Font/TTF/Head.pm line 170.
Use of uninitialized value $yMin in numeric lt (<) at /home/src/perl/repoperls/installed-perls/perl/v5.12.5/a2da/lib/site_perl/5.12.5/Font/TTF/Head.pm line 171.
Use of uninitialized value $xMax in numeric gt (>) at /home/src/perl/repoperls/installed-perls/perl/v5.12.5/a2da/lib/site_perl/5.12.5/Font/TTF/Head.pm line 172.
Use of uninitialized value $yMax in numeric gt (>) at /home/src/perl/repoperls/installed-perls/perl/v5.12.5/a2da/lib/site_perl/5.12.5/Font/TTF/Head.pm line 173.
Use of uninitialized value $maw in numeric gt (>) at /home/src/perl/repoperls/installed-perls/perl/v5.12.5/a2da/lib/site_perl/5.12.5/Font/TTF/Hhea.pm line 132.
Use of uninitialized value $mlsb in numeric lt (<) at /home/src/perl/repoperls/installed-perls/perl/v5.12.5/a2da/lib/site_perl/5.12.5/Font/TTF/Hhea.pm line 133.
Use of uninitialized value $mrsb in numeric lt (<) at /home/src/perl/repoperls/installed-perls/perl/v5.12.5/a2da/lib/site_perl/5.12.5/Font/TTF/Hhea.pm line 134.
Use of uninitialized value $mext in numeric gt (>) at /home/src/perl/repoperls/installed-perls/perl/v5.12.5/a2da/lib/site_perl/5.12.5/Font/TTF/Hhea.pm line 135.
Use of uninitialized value in numeric gt (>) at /home/src/perl/repoperls/installed-perls/perl/v5.12.5/a2da/lib/site_perl/5.12.5/Font/TTF/Maxp.pm line 152.
Use of uninitialized value in numeric gt (>) at /home/src/perl/repoperls/installed-perls/perl/v5.12.5/a2da/lib/site_perl/5.12.5/Font/TTF/Maxp.pm line 152.
Use of uninitialized value in numeric gt (>) at /home/src/perl/repoperls/installed-perls/perl/v5.12.5/a2da/lib/site_perl/5.12.5/Font/TTF/Maxp.pm line 152.
Use of uninitialized value $n[2] in numeric gt (>) at /home/src/perl/repoperls/installed-perls/perl/v5.12.5/a2da/lib/site_perl/5.12.5/Font/TTF/Maxp.pm line 152.
Use of uninitialized value in numeric gt (>) at /home/src/perl/repoperls/installed-perls/perl/v5.12.5/a2da/lib/site_perl/5.12.5/Font/TTF/Maxp.pm line 152.
Use of uninitialized value $n[3] in numeric gt (>) at /home/src/perl/repoperls/installed-perls/perl/v5.12.5/a2da/lib/site_perl/5.12.5/Font/TTF/Maxp.pm line 152.
Use of uninitialized value in numeric gt (>) at /home/src/perl/repoperls/installed-perls/perl/v5.12.5/a2da/lib/site_perl/5.12.5/Font/TTF/Maxp.pm line 152.
Use of uninitialized value in numeric gt (>) at /home/src/perl/repoperls/installed-perls/perl/v5.12.5/a2da/lib/site_perl/5.12.5/Font/TTF/Maxp.pm line 152.
Use of uninitialized value $n[5] in numeric gt (>) at /home/src/perl/repoperls/installed-perls/perl/v5.12.5/a2da/lib/site_perl/5.12.5/Font/TTF/Maxp.pm line 152.
Use of uninitialized value in numeric gt (>) at /home/src/perl/repoperls/installed-perls/perl/v5.12.5/a2da/lib/site_perl/5.12.5/Font/TTF/Maxp.pm line 152.
Use of uninitialized value in numeric gt (>) at /home/src/perl/repoperls/installed-perls/perl/v5.12.5/a2da/lib/site_perl/5.12.5/Font/TTF/Maxp.pm line 152.
Use of uninitialized value $n[2] in numeric gt (>) at /home/src/perl/repoperls/installed-perls/perl/v5.12.5/a2da/lib/site_perl/5.12.5/Font/TTF/Maxp.pm line 152.
Use of uninitialized value in numeric gt (>) at /home/src/perl/repoperls/installed-perls/perl/v5.12.5/a2da/lib/site_perl/5.12.5/Font/TTF/Maxp.pm line 152.
Use of uninitialized value $n[3] in numeric gt (>) at /home/src/perl/repoperls/installed-perls/perl/v5.12.5/a2da/lib/site_perl/5.12.5/Font/TTF/Maxp.pm line 152.
Use of uninitialized value in numeric gt (>) at /home/src/perl/repoperls/installed-perls/perl/v5.12.5/a2da/lib/site_perl/5.12.5/Font/TTF/Maxp.pm line 152.
Use of uninitialized value $n[5] in numeric gt (>) at /home/src/perl/repoperls/installed-perls/perl/v5.12.5/a2da/lib/site_perl/5.12.5/Font/TTF/Maxp.pm line 152.
Use of uninitialized value in numeric gt (>) at /home/src/perl/repoperls/installed-perls/perl/v5.12.5/a2da/lib/site_perl/5.12.5/Font/TTF/Maxp.pm line 152.
Use of uninitialized value $n[2] in numeric gt (>) at /home/src/perl/repoperls/installed-perls/perl/v5.12.5/a2da/lib/site_perl/5.12.5/Font/TTF/Maxp.pm line 152.
Use of uninitialized value in numeric gt (>) at /home/src/perl/repoperls/installed-perls/perl/v5.12.5/a2da/lib/site_perl/5.12.5/Font/TTF/Maxp.pm line 152.
Use of uninitialized value $n[3] in numeric gt (>) at /home/src/perl/repoperls/installed-perls/perl/v5.12.5/a2da/lib/site_perl/5.12.5/Font/TTF/Maxp.pm line 152.
Use of uninitialized value in numeric gt (>) at /home/src/perl/repoperls/installed-perls/perl/v5.12.5/a2da/lib/site_perl/5.12.5/Font/TTF/Maxp.pm line 152.
Use of uninitialized value $n[5] in numeric gt (>) at /home/src/perl/repoperls/installed-perls/perl/v5.12.5/a2da/lib/site_perl/5.12.5/Font/TTF/Maxp.pm line 152.
Filehandle $fh opened only for output at /home/src/perl/repoperls/installed-perls/perl/v5.12.5/a2da/lib/5.12.5/x86_64-linux-thread-multi-ld/IO/Handle.pm line 445.
Use of uninitialized value in pack at /home/src/perl/repoperls/installed-perls/perl/v5.12.5/a2da/lib/site_perl/5.12.5/Font/TTF/Cmap.pm line 330.
Use of uninitialized value in pack at /home/src/perl/repoperls/installed-perls/perl/v5.12.5/a2da/lib/site_perl/5.12.5/Font/TTF/Cmap.pm line 330.
Use of uninitialized value in pack at /home/src/perl/repoperls/installed-perls/perl/v5.12.5/a2da/lib/site_perl/5.12.5/Font/TTF/Cmap.pm line 330.
Use of uninitialized value in pack at /home/src/perl/repoperls/installed-perls/perl/v5.12.5/a2da/lib/site_perl/5.12.5/Font/TTF/Cmap.pm line 330.
Use of uninitialized value in pack at /home/src/perl/repoperls/installed-perls/perl/v5.12.5/a2da/lib/site_perl/5.12.5/Font/TTF/Cmap.pm line 330.
Use of uninitialized value in pack at /home/src/perl/repoperls/installed-perls/perl/v5.12.5/a2da/lib/site_perl/5.12.5/Font/TTF/Cmap.pm line 330.
Use of uninitialized value in pack at /home/src/perl/repoperls/installed-perls/perl/v5.12.5/a2da/lib/site_perl/5.12.5/Font/TTF/Cmap.pm line 330.
Use of uninitialized value in pack at /home/src/perl/repoperls/installed-perls/perl/v5.12.5/a2da/lib/site_perl/5.12.5/Font/TTF/Cmap.pm line 330.
Use of uninitialized value in pack at /home/src/perl/repoperls/installed-perls/perl/v5.12.5/a2da/lib/site_perl/5.12.5/Font/TTF/Cmap.pm line 330.
Use of uninitialized value in pack at /home/src/perl/repoperls/installed-perls/perl/v5.12.5/a2da/lib/site_perl/5.12.5/Font/TTF/Cmap.pm line 330.
Use of uninitialized value in pack at /home/src/perl/repoperls/installed-perls/perl/v5.12.5/a2da/lib/site_perl/5.12.5/Font/TTF/Cmap.pm line 330.
Use of uninitialized value in pack at /home/src/perl/repoperls/installed-perls/perl/v5.12.5/a2da/lib/site_perl/5.12.5/Font/TTF/Cmap.pm line 330.
Use of uninitialized value in pack at /home/src/perl/repoperls/installed-perls/perl/v5.12.5/a2da/lib/site_perl/5.12.5/Font/TTF/Cmap.pm line 330.
Use of uninitialized value in pack at /home/src/perl/repoperls/installed-perls/perl/v5.12.5/a2da/lib/site_perl/5.12.5/Font/TTF/Cmap.pm line 330.
Use of uninitialized value in pack at /home/src/perl/repoperls/installed-perls/perl/v5.12.5/a2da/lib/site_perl/5.12.5/Font/TTF/Cmap.pm line 330.
Use of uninitialized value in pack at /home/src/perl/repoperls/installed-perls/perl/v5.12.5/a2da/lib/site_perl/5.12.5/Font/TTF/Cmap.pm line 330.
Use of uninitialized value in pack at /home/src/perl/repoperls/installed-perls/perl/v5.12.5/a2da/lib/site_perl/5.12.5/Font/TTF/Cmap.pm line 330.
Use of uninitialized value in pack at /home/src/perl/repoperls/installed-perls/perl/v5.12.5/a2da/lib/site_perl/5.12.5/Font/TTF/Cmap.pm line 330.
Use of uninitialized value in pack at /home/src/perl/repoperls/installed-perls/perl/v5.12.5/a2da/lib/site_perl/5.12.5/Font/TTF/Cmap.pm line 330.
Use of uninitialized value in pack at /home/src/perl/repoperls/installed-perls/perl/v5.12.5/a2da/lib/site_perl/5.12.5/Font/TTF/Cmap.pm line 330.
Use of uninitialized value in pack at /home/src/perl/repoperls/installed-perls/perl/v5.12.5/a2da/lib/site_perl/5.12.5/Font/TTF/Cmap.pm line 330.
Use of uninitialized value in pack at /home/src/perl/repoperls/installed-perls/perl/v5.12.5/a2da/lib/site_perl/5.12.5/Font/TTF/Cmap.pm line 330.
Use of uninitialized value in pack at /home/src/perl/repoperls/installed-perls/perl/v5.12.5/a2da/lib/site_perl/5.12.5/Font/TTF/Cmap.pm line 330.
Use of uninitialized value in pack at /home/src/perl/repoperls/installed-perls/perl/v5.12.5/a2da/lib/site_perl/5.12.5/Font/TTF/Cmap.pm line 330.
Use of uninitialized value in pack at /home/src/perl/repoperls/installed-perls/perl/v5.12.5/a2da/lib/site_perl/5.12.5/Font/TTF/Cmap.pm line 330.
Use of uninitialized value in pack at /home/src/perl/repoperls/installed-perls/perl/v5.12.5/a2da/lib/site_perl/5.12.5/Font/TTF/Cmap.pm line 330.
Use of uninitialized value in pack at /home/src/perl/repoperls/installed-perls/perl/v5.12.5/a2da/lib/site_perl/5.12.5/Font/TTF/Cmap.pm line 330.
Use of uninitialized value in pack at /home/src/perl/repoperls/installed-perls/perl/v5.12.5/a2da/lib/site_perl/5.12.5/Font/TTF/Cmap.pm line 330.
Use of uninitialized value in pack at /home/src/perl/repoperls/installed-perls/perl/v5.12.5/a2da/lib/site_perl/5.12.5/Font/TTF/Cmap.pm line 330.
Use of uninitialized value in pack at /home/src/perl/repoperls/installed-perls/perl/v5.12.5/a2da/lib/site_perl/5.12.5/Font/TTF/Cmap.pm line 330.
Use of uninitialized value in pack at /home/src/perl/repoperls/installed-perls/perl/v5.12.5/a2da/lib/site_perl/5.12.5/Font/TTF/Cmap.pm line 330.
Use of uninitialized value in pack at /home/src/perl/repoperls/installed-perls/perl/v5.12.5/a2da/lib/site_perl/5.12.5/Font/TTF/Cmap.pm line 330.
Use of uninitialized value in pack at /home/src/perl/repoperls/installed-perls/perl/v5.12.5/a2da/lib/site_perl/5.12.5/Font/TTF/Cmap.pm line 330.
Use of uninitialized value in pack at /home/src/perl/repoperls/installed-perls/perl/v5.12.5/a2da/lib/site_perl/5.12.5/Font/TTF/Cmap.pm line 330.
Use of uninitialized value in pack at /home/src/perl/repoperls/installed-perls/perl/v5.12.5/a2da/lib/site_perl/5.12.5/Font/TTF/Cmap.pm line 330.
Use of uninitialized value in pack at /home/src/perl/repoperls/installed-perls/perl/v5.12.5/a2da/lib/site_perl/5.12.5/Font/TTF/Cmap.pm line 330.
Use of uninitialized value in pack at /home/src/perl/repoperls/installed-perls/perl/v5.12.5/a2da/lib/site_perl/5.12.5/Font/TTF/Cmap.pm line 330.
Use of uninitialized value in pack at /home/src/perl/repoperls/installed-perls/perl/v5.12.5/a2da/lib/site_perl/5.12.5/Font/TTF/Cmap.pm line 330.
Use of uninitialized value in pack at /home/src/perl/repoperls/installed-perls/perl/v5.12.5/a2da/lib/site_perl/5.12.5/Font/TTF/Cmap.pm line 330.
Use of uninitialized value in pack at /home/src/perl/repoperls/installed-perls/perl/v5.12.5/a2da/lib/site_perl/5.12.5/Font/TTF/Cmap.pm line 330.
Use of uninitialized value in pack at /home/src/perl/repoperls/installed-perls/perl/v5.12.5/a2da/lib/site_perl/5.12.5/Font/TTF/Cmap.pm line 330.
Use of uninitialized value in pack at /home/src/perl/repoperls/installed-perls/perl/v5.12.5/a2da/lib/site_perl/5.12.5/Font/TTF/Cmap.pm line 330.
Use of uninitialized value in pack at /home/src/perl/repoperls/installed-perls/perl/v5.12.5/a2da/lib/site_perl/5.12.5/Font/TTF/Cmap.pm line 330.
Use of uninitialized value in pack at /home/src/perl/repoperls/installed-perls/perl/v5.12.5/a2da/lib/site_perl/5.12.5/Font/TTF/Cmap.pm line 330.
Use of uninitialized value in pack at /home/src/perl/repoperls/installed-perls/perl/v5.12.5/a2da/lib/site_perl/5.12.5/Font/TTF/Cmap.pm line 330.
Use of uninitialized value in pack at /home/src/perl/repoperls/installed-perls/perl/v5.12.5/a2da/lib/site_perl/5.12.5/Font/TTF/Cmap.pm line 330.
Use of uninitialized value in pack at /home/src/perl/repoperls/installed-perls/perl/v5.12.5/a2da/lib/site_perl/5.12.5/Font/TTF/Cmap.pm line 330.
Use of uninitialized value in pack at /home/src/perl/repoperls/installed-perls/perl/v5.12.5/a2da/lib/site_perl/5.12.5/Font/TTF/Cmap.pm line 330.
Use of uninitialized value in pack at /home/src/perl/repoperls/installed-perls/perl/v5.12.5/a2da/lib/site_perl/5.12.5/Font/TTF/Cmap.pm line 330.
Use of uninitialized value in pack at /home/src/perl/repoperls/installed-perls/perl/v5.12.5/a2da/lib/site_perl/5.12.5/Font/TTF/Cmap.pm line 330.
Use of uninitialized value in pack at /home/src/perl/repoperls/installed-perls/perl/v5.12.5/a2da/lib/site_perl/5.12.5/Font/TTF/Cmap.pm line 330.
Use of uninitialized value in pack at /home/src/perl/repoperls/installed-perls/perl/v5.12.5/a2da/lib/site_perl/5.12.5/Font/TTF/Cmap.pm line 330.
Use of uninitialized value in pack at /home/src/perl/repoperls/installed-perls/perl/v5.12.5/a2da/lib/site_perl/5.12.5/Font/TTF/Cmap.pm line 330.
Use of uninitialized value in pack at /home/src/perl/repoperls/installed-perls/perl/v5.12.5/a2da/lib/site_perl/5.12.5/Font/TTF/Cmap.pm line 330.
Use of uninitialized value in pack at /home/src/perl/repoperls/installed-perls/perl/v5.12.5/a2da/lib/site_perl/5.12.5/Font/TTF/Cmap.pm line 330.
Use of uninitialized value in pack at /home/src/perl/repoperls/installed-perls/perl/v5.12.5/a2da/lib/site_perl/5.12.5/Font/TTF/Cmap.pm line 330.
Use of uninitialized value in pack at /home/src/perl/repoperls/installed-perls/perl/v5.12.5/a2da/lib/site_perl/5.12.5/Font/TTF/Cmap.pm line 330.
Use of uninitialized value in pack at /home/src/perl/repoperls/installed-perls/perl/v5.12.5/a2da/lib/site_perl/5.12.5/Font/TTF/Cmap.pm line 330.
Use of uninitialized value in pack at /home/src/perl/repoperls/installed-perls/perl/v5.12.5/a2da/lib/site_perl/5.12.5/Font/TTF/Cmap.pm line 330.
Use of uninitialized value in pack at /home/src/perl/repoperls/installed-perls/perl/v5.12.5/a2da/lib/site_perl/5.12.5/Font/TTF/Cmap.pm line 330.
Use of uninitialized value in pack at /home/src/perl/repoperls/installed-perls/perl/v5.12.5/a2da/lib/site_perl/5.12.5/Font/TTF/Cmap.pm line 330.
Use of uninitialized value in pack at /home/src/perl/repoperls/installed-perls/perl/v5.12.5/a2da/lib/site_perl/5.12.5/Font/TTF/Cmap.pm line 330.
Use of uninitialized value in pack at /home/src/perl/repoperls/installed-perls/perl/v5.12.5/a2da/lib/site_perl/5.12.5/Font/TTF/Cmap.pm line 330.
Use of uninitialized value in pack at /home/src/perl/repoperls/installed-perls/perl/v5.12.5/a2da/lib/site_perl/5.12.5/Font/TTF/Cmap.pm line 330.
Use of uninitialized value in pack at /home/src/perl/repoperls/installed-perls/perl/v5.12.5/a2da/lib/site_perl/5.12.5/Font/TTF/Cmap.pm line 330.
Use of uninitialized value in pack at /home/src/perl/repoperls/installed-perls/perl/v5.12.5/a2da/lib/site_perl/5.12.5/Font/TTF/Cmap.pm line 330.
Use of uninitialized value in pack at /home/src/perl/repoperls/installed-perls/perl/v5.12.5/a2da/lib/site_perl/5.12.5/Font/TTF/Cmap.pm line 330.
Use of uninitialized value in pack at /home/src/perl/repoperls/installed-perls/perl/v5.12.5/a2da/lib/site_perl/5.12.5/Font/TTF/Cmap.pm line 330.
Use of uninitialized value in pack at /home/src/perl/repoperls/installed-perls/perl/v5.12.5/a2da/lib/site_perl/5.12.5/Font/TTF/Cmap.pm line 330.
Use of uninitialized value in pack at /home/src/perl/repoperls/installed-perls/perl/v5.12.5/a2da/lib/site_perl/5.12.5/Font/TTF/Cmap.pm line 330.
Use of uninitialized value in pack at /home/src/perl/repoperls/installed-perls/perl/v5.12.5/a2da/lib/site_perl/5.12.5/Font/TTF/Cmap.pm line 330.
Use of uninitialized value in pack at /home/src/perl/repoperls/installed-perls/perl/v5.12.5/a2da/lib/site_perl/5.12.5/Font/TTF/Cmap.pm line 330.
Use of uninitialized value in pack at /home/src/perl/repoperls/installed-perls/perl/v5.12.5/a2da/lib/site_perl/5.12.5/Font/TTF/Cmap.pm line 330.
Use of uninitialized value in pack at /home/src/perl/repoperls/installed-perls/perl/v5.12.5/a2da/lib/site_perl/5.12.5/Font/TTF/Cmap.pm line 330.
Use of uninitialized value in pack at /home/src/perl/repoperls/installed-perls/perl/v5.12.5/a2da/lib/site_perl/5.12.5/Font/TTF/Cmap.pm line 330.
Use of uninitialized value in pack at /home/src/perl/repoperls/installed-perls/perl/v5.12.5/a2da/lib/site_perl/5.12.5/Font/TTF/Cmap.pm line 330.
Use of uninitialized value in pack at /home/src/perl/repoperls/installed-perls/perl/v5.12.5/a2da/lib/site_perl/5.12.5/Font/TTF/Cmap.pm line 330.
Use of uninitialized value in pack at /home/src/perl/repoperls/installed-perls/perl/v5.12.5/a2da/lib/site_perl/5.12.5/Font/TTF/Cmap.pm line 330.
Use of uninitialized value in pack at /home/src/perl/repoperls/installed-perls/perl/v5.12.5/a2da/lib/site_perl/5.12.5/Font/TTF/Cmap.pm line 330.
Use of uninitialized value in pack at /home/src/perl/repoperls/installed-perls/perl/v5.12.5/a2da/lib/site_perl/5.12.5/Font/TTF/Cmap.pm line 330.
Use of uninitialized value in pack at /home/src/perl/repoperls/installed-perls/perl/v5.12.5/a2da/lib/site_perl/5.12.5/Font/TTF/Cmap.pm line 330.
Use of uninitialized value in pack at /home/src/perl/repoperls/installed-perls/perl/v5.12.5/a2da/lib/site_perl/5.12.5/Font/TTF/Cmap.pm line 330.
Use of uninitialized value in pack at /home/src/perl/repoperls/installed-perls/perl/v5.12.5/a2da/lib/site_perl/5.12.5/Font/TTF/Cmap.pm line 330.
Use of uninitialized value in pack at /home/src/perl/repoperls/installed-perls/perl/v5.12.5/a2da/lib/site_perl/5.12.5/Font/TTF/Cmap.pm line 330.
Use of uninitialized value in pack at /home/src/perl/repoperls/installed-perls/perl/v5.12.5/a2da/lib/site_perl/5.12.5/Font/TTF/Cmap.pm line 330.
Use of uninitialized value in pack at /home/src/perl/repoperls/installed-perls/perl/v5.12.5/a2da/lib/site_perl/5.12.5/Font/TTF/Cmap.pm line 330.
Use of uninitialized value in pack at /home/src/perl/repoperls/installed-perls/perl/v5.12.5/a2da/lib/site_perl/5.12.5/Font/TTF/Cmap.pm line 330.
Use of uninitialized value in pack at /home/src/perl/repoperls/installed-perls/perl/v5.12.5/a2da/lib/site_perl/5.12.5/Font/TTF/Cmap.pm line 330.
Use of uninitialized value in pack at /home/src/perl/repoperls/installed-perls/perl/v5.12.5/a2da/lib/site_perl/5.12.5/Font/TTF/Cmap.pm line 330.
Use of uninitialized value in pack at /home/src/perl/repoperls/installed-perls/perl/v5.12.5/a2da/lib/site_perl/5.12.5/Font/TTF/Cmap.pm line 330.
Use of uninitialized value in pack at /home/src/perl/repoperls/installed-perls/perl/v5.12.5/a2da/lib/site_perl/5.12.5/Font/TTF/Cmap.pm line 330.
Use of uninitialized value in pack at /home/src/perl/repoperls/installed-perls/perl/v5.12.5/a2da/lib/site_perl/5.12.5/Font/TTF/Cmap.pm line 330.
Use of uninitialized value in pack at /home/src/perl/repoperls/installed-perls/perl/v5.12.5/a2da/lib/site_perl/5.12.5/Font/TTF/Cmap.pm line 330.
Use of uninitialized value in pack at /home/src/perl/repoperls/installed-perls/perl/v5.12.5/a2da/lib/site_perl/5.12.5/Font/TTF/Cmap.pm line 330.
Use of uninitialized value in pack at /home/src/perl/repoperls/installed-perls/perl/v5.12.5/a2da/lib/site_perl/5.12.5/Font/TTF/Cmap.pm line 330.
Use of uninitialized value in pack at /home/src/perl/repoperls/installed-perls/perl/v5.12.5/a2da/lib/site_perl/5.12.5/Font/TTF/Cmap.pm line 330.
Use of uninitialized value in pack at /home/src/perl/repoperls/installed-perls/perl/v5.12.5/a2da/lib/site_perl/5.12.5/Font/TTF/Cmap.pm line 330.
Use of uninitialized value in pack at /home/src/perl/repoperls/installed-perls/perl/v5.12.5/a2da/lib/site_perl/5.12.5/Font/TTF/Cmap.pm line 330.
Use of uninitialized value in pack at /home/src/perl/repoperls/installed-perls/perl/v5.12.5/a2da/lib/site_perl/5.12.5/Font/TTF/Cmap.pm line 330.
Use of uninitialized value in pack at /home/src/perl/repoperls/installed-perls/perl/v5.12.5/a2da/lib/site_perl/5.12.5/Font/TTF/Cmap.pm line 330.
Use of uninitialized value in pack at /home/src/perl/repoperls/installed-perls/perl/v5.12.5/a2da/lib/site_perl/5.12.5/Font/TTF/Cmap.pm line 330.
Use of uninitialized value in pack at /home/src/perl/repoperls/installed-perls/perl/v5.12.5/a2da/lib/site_perl/5.12.5/Font/TTF/Cmap.pm line 330.
Use of uninitialized value in pack at /home/src/perl/repoperls/installed-perls/perl/v5.12.5/a2da/lib/site_perl/5.12.5/Font/TTF/Cmap.pm line 330.
Use of uninitialized value in pack at /home/src/perl/repoperls/installed-perls/perl/v5.12.5/a2da/lib/site_perl/5.12.5/Font/TTF/Cmap.pm line 330.
Use of uninitialized value in pack at /home/src/perl/repoperls/installed-perls/perl/v5.12.5/a2da/lib/site_perl/5.12.5/Font/TTF/Cmap.pm line 330.
Use of uninitialized value in pack at /home/src/perl/repoperls/installed-perls/perl/v5.12.5/a2da/lib/site_perl/5.12.5/Font/TTF/Cmap.pm line 330.
Use of uninitialized value in pack at /home/src/perl/repoperls/installed-perls/perl/v5.12.5/a2da/lib/site_perl/5.12.5/Font/TTF/Cmap.pm line 330.
Use of uninitialized value in pack at /home/src/perl/repoperls/installed-perls/perl/v5.12.5/a2da/lib/site_perl/5.12.5/Font/TTF/Cmap.pm line 330.
Use of uninitialized value in pack at /home/src/perl/repoperls/installed-perls/perl/v5.12.5/a2da/lib/site_perl/5.12.5/Font/TTF/Cmap.pm line 330.
Use of uninitialized value in pack at /home/src/perl/repoperls/installed-perls/perl/v5.12.5/a2da/lib/site_perl/5.12.5/Font/TTF/Cmap.pm line 330.
Use of uninitialized value in pack at /home/src/perl/repoperls/installed-perls/perl/v5.12.5/a2da/lib/site_perl/5.12.5/Font/TTF/Cmap.pm line 330.
Use of uninitialized value in pack at /home/src/perl/repoperls/installed-perls/perl/v5.12.5/a2da/lib/site_perl/5.12.5/Font/TTF/Cmap.pm line 330.
Use of uninitialized value in pack at /home/src/perl/repoperls/installed-perls/perl/v5.12.5/a2da/lib/site_perl/5.12.5/Font/TTF/Cmap.pm line 330.
Use of uninitialized value in pack at /home/src/perl/repoperls/installed-perls/perl/v5.12.5/a2da/lib/site_perl/5.12.5/Font/TTF/Cmap.pm line 330.
Use of uninitialized value in pack at /home/src/perl/repoperls/installed-perls/perl/v5.12.5/a2da/lib/site_perl/5.12.5/Font/TTF/Cmap.pm line 330.
Use of uninitialized value in pack at /home/src/perl/repoperls/installed-perls/perl/v5.12.5/a2da/lib/site_perl/5.12.5/Font/TTF/Cmap.pm line 330.
Use of uninitialized value in pack at /home/src/perl/repoperls/installed-perls/perl/v5.12.5/a2da/lib/site_perl/5.12.5/Font/TTF/Cmap.pm line 330.
Use of uninitialized value in pack at /home/src/perl/repoperls/installed-perls/perl/v5.12.5/a2da/lib/site_perl/5.12.5/Font/TTF/Cmap.pm line 330.
Use of uninitialized value in pack at /home/src/perl/repoperls/installed-perls/perl/v5.12.5/a2da/lib/site_perl/5.12.5/Font/TTF/Cmap.pm line 330.
Use of uninitialized value in pack at /home/src/perl/repoperls/installed-perls/perl/v5.12.5/a2da/lib/site_perl/5.12.5/Font/TTF/Cmap.pm line 330.
Use of uninitialized value in pack at /home/src/perl/repoperls/installed-perls/perl/v5.12.5/a2da/lib/site_perl/5.12.5/Font/TTF/Cmap.pm line 330.
Use of uninitialized value in pack at /home/src/perl/repoperls/installed-perls/perl/v5.12.5/a2da/lib/site_perl/5.12.5/Font/TTF/Cmap.pm line 330.
Use of uninitialized value in pack at /home/src/perl/repoperls/installed-perls/perl/v5.12.5/a2da/lib/site_perl/5.12.5/Font/TTF/Cmap.pm line 330.
Use of uninitialized value in pack at /home/src/perl/repoperls/installed-perls/perl/v5.12.5/a2da/lib/site_perl/5.12.5/Font/TTF/Cmap.pm line 330.
Use of uninitialized value in pack at /home/src/perl/repoperls/installed-perls/perl/v5.12.5/a2da/lib/site_perl/5.12.5/Font/TTF/Cmap.pm line 330.
Use of uninitialized value in pack at /home/src/perl/repoperls/installed-perls/perl/v5.12.5/a2da/lib/site_perl/5.12.5/Font/TTF/Cmap.pm line 330.
Use of uninitialized value in pack at /home/src/perl/repoperls/installed-perls/perl/v5.12.5/a2da/lib/site_perl/5.12.5/Font/TTF/Cmap.pm line 330.
Use of uninitialized value in pack at /home/src/perl/repoperls/installed-perls/perl/v5.12.5/a2da/lib/site_perl/5.12.5/Font/TTF/Cmap.pm line 330.
Use of uninitialized value in pack at /home/src/perl/repoperls/installed-perls/perl/v5.12.5/a2da/lib/site_perl/5.12.5/Font/TTF/Cmap.pm line 330.
Use of uninitialized value in pack at /home/src/perl/repoperls/installed-perls/perl/v5.12.5/a2da/lib/site_perl/5.12.5/Font/TTF/Cmap.pm line 330.
Use of uninitialized value in pack at /home/src/perl/repoperls/installed-perls/perl/v5.12.5/a2da/lib/site_perl/5.12.5/Font/TTF/Cmap.pm line 330.
Use of uninitialized value in pack at /home/src/perl/repoperls/installed-perls/perl/v5.12.5/a2da/lib/site_perl/5.12.5/Font/TTF/Cmap.pm line 330.
Use of uninitialized value in pack at /home/src/perl/repoperls/installed-perls/perl/v5.12.5/a2da/lib/site_perl/5.12.5/Font/TTF/Cmap.pm line 330.
Use of uninitialized value in pack at /home/src/perl/repoperls/installed-perls/perl/v5.12.5/a2da/lib/site_perl/5.12.5/Font/TTF/Cmap.pm line 330.
Use of uninitialized value in pack at /home/src/perl/repoperls/installed-perls/perl/v5.12.5/a2da/lib/site_perl/5.12.5/Font/TTF/Cmap.pm line 330.
Use of uninitialized value in pack at /home/src/perl/repoperls/installed-perls/perl/v5.12.5/a2da/lib/site_perl/5.12.5/Font/TTF/Cmap.pm line 330.
Use of uninitialized value in pack at /home/src/perl/repoperls/installed-perls/perl/v5.12.5/a2da/lib/site_perl/5.12.5/Font/TTF/Cmap.pm line 330.
Use of uninitialized value in pack at /home/src/perl/repoperls/installed-perls/perl/v5.12.5/a2da/lib/site_perl/5.12.5/Font/TTF/Cmap.pm line 330.
Use of uninitialized value in pack at /home/src/perl/repoperls/installed-perls/perl/v5.12.5/a2da/lib/site_perl/5.12.5/Font/TTF/Cmap.pm line 330.
Use of uninitialized value in pack at /home/src/perl/repoperls/installed-perls/perl/v5.12.5/a2da/lib/site_perl/5.12.5/Font/TTF/Cmap.pm line 330.
Use of uninitialized value in pack at /home/src/perl/repoperls/installed-perls/perl/v5.12.5/a2da/lib/site_perl/5.12.5/Font/TTF/Cmap.pm line 330.
Use of uninitialized value in pack at /home/src/perl/repoperls/installed-perls/perl/v5.12.5/a2da/lib/site_perl/5.12.5/Font/TTF/Cmap.pm line 330.
Use of uninitialized value in pack at /home/src/perl/repoperls/installed-perls/perl/v5.12.5/a2da/lib/site_perl/5.12.5/Font/TTF/Cmap.pm line 330.
Use of uninitialized value in pack at /home/src/perl/repoperls/installed-perls/perl/v5.12.5/a2da/lib/site_perl/5.12.5/Font/TTF/Cmap.pm line 330.
Use of uninitialized value in pack at /home/src/perl/repoperls/installed-perls/perl/v5.12.5/a2da/lib/site_perl/5.12.5/Font/TTF/Cmap.pm line 330.
Use of uninitialized value in pack at /home/src/perl/repoperls/installed-perls/perl/v5.12.5/a2da/lib/site_perl/5.12.5/Font/TTF/Cmap.pm line 330.
Use of uninitialized value in pack at /home/src/perl/repoperls/installed-perls/perl/v5.12.5/a2da/lib/site_perl/5.12.5/Font/TTF/Cmap.pm line 330.
Use of uninitialized value in pack at /home/src/perl/repoperls/installed-perls/perl/v5.12.5/a2da/lib/site_perl/5.12.5/Font/TTF/Cmap.pm line 330.
Use of uninitialized value in pack at /home/src/perl/repoperls/installed-perls/perl/v5.12.5/a2da/lib/site_perl/5.12.5/Font/TTF/Cmap.pm line 330.
Use of uninitialized value in pack at /home/src/perl/repoperls/installed-perls/perl/v5.12.5/a2da/lib/site_perl/5.12.5/Font/TTF/Cmap.pm line 330.
Use of uninitialized value in pack at /home/src/perl/repoperls/installed-perls/perl/v5.12.5/a2da/lib/site_perl/5.12.5/Font/TTF/Cmap.pm line 330.
Use of uninitialized value in pack at /home/src/perl/repoperls/installed-perls/perl/v5.12.5/a2da/lib/site_perl/5.12.5/Font/TTF/Cmap.pm line 330.
Use of uninitialized value in pack at /home/src/perl/repoperls/installed-perls/perl/v5.12.5/a2da/lib/site_perl/5.12.5/Font/TTF/Cmap.pm line 330.
Use of uninitialized value in pack at /home/src/perl/repoperls/installed-perls/perl/v5.12.5/a2da/lib/site_perl/5.12.5/Font/TTF/Cmap.pm line 330.
Use of uninitialized value in pack at /home/src/perl/repoperls/installed-perls/perl/v5.12.5/a2da/lib/site_perl/5.12.5/Font/TTF/Cmap.pm line 330.
Use of uninitialized value in pack at /home/src/perl/repoperls/installed-perls/perl/v5.12.5/a2da/lib/site_perl/5.12.5/Font/TTF/Cmap.pm line 330.
Use of uninitialized value in pack at /home/src/perl/repoperls/installed-perls/perl/v5.12.5/a2da/lib/site_perl/5.12.5/Font/TTF/Cmap.pm line 330.
Use of uninitialized value in pack at /home/src/perl/repoperls/installed-perls/perl/v5.12.5/a2da/lib/site_perl/5.12.5/Font/TTF/Cmap.pm line 330.
Use of uninitialized value in pack at /home/src/perl/repoperls/installed-perls/perl/v5.12.5/a2da/lib/site_perl/5.12.5/Font/TTF/Cmap.pm line 330.
Use of uninitialized value in pack at /home/src/perl/repoperls/installed-perls/perl/v5.12.5/a2da/lib/site_perl/5.12.5/Font/TTF/Cmap.pm line 330.
Use of uninitialized value in pack at /home/src/perl/repoperls/installed-perls/perl/v5.12.5/a2da/lib/site_perl/5.12.5/Font/TTF/Cmap.pm line 330.
Use of uninitialized value in pack at /home/src/perl/repoperls/installed-perls/perl/v5.12.5/a2da/lib/site_perl/5.12.5/Font/TTF/Cmap.pm line 330.
Use of uninitialized value in pack at /home/src/perl/repoperls/installed-perls/perl/v5.12.5/a2da/lib/site_perl/5.12.5/Font/TTF/Cmap.pm line 330.
Use of uninitialized value in pack at /home/src/perl/repoperls/installed-perls/perl/v5.12.5/a2da/lib/site_perl/5.12.5/Font/TTF/Cmap.pm line 330.
Use of uninitialized value in pack at /home/src/perl/repoperls/installed-perls/perl/v5.12.5/a2da/lib/site_perl/5.12.5/Font/TTF/Cmap.pm line 330.
Use of uninitialized value in pack at /home/src/perl/repoperls/installed-perls/perl/v5.12.5/a2da/lib/site_perl/5.12.5/Font/TTF/Cmap.pm line 330.
Use of uninitialized value in pack at /home/src/perl/repoperls/installed-perls/perl/v5.12.5/a2da/lib/site_perl/5.12.5/Font/TTF/Cmap.pm line 330.
Use of uninitialized value in pack at /home/src/perl/repoperls/installed-perls/perl/v5.12.5/a2da/lib/site_perl/5.12.5/Font/TTF/Cmap.pm line 330.
Use of uninitialized value in pack at /home/src/perl/repoperls/installed-perls/perl/v5.12.5/a2da/lib/site_perl/5.12.5/Font/TTF/Cmap.pm line 330.
Use of uninitialized value in pack at /home/src/perl/repoperls/installed-perls/perl/v5.12.5/a2da/lib/site_perl/5.12.5/Font/TTF/Cmap.pm line 330.
Use of uninitialized value in pack at /home/src/perl/repoperls/installed-perls/perl/v5.12.5/a2da/lib/site_perl/5.12.5/Font/TTF/Cmap.pm line 330.
Use of uninitialized value in pack at /home/src/perl/repoperls/installed-perls/perl/v5.12.5/a2da/lib/site_perl/5.12.5/Font/TTF/Cmap.pm line 330.
Use of uninitialized value in pack at /home/src/perl/repoperls/installed-perls/perl/v5.12.5/a2da/lib/site_perl/5.12.5/Font/TTF/Cmap.pm line 330.
Use of uninitialized value in pack at /home/src/perl/repoperls/installed-perls/perl/v5.12.5/a2da/lib/site_perl/5.12.5/Font/TTF/Cmap.pm line 330.
Use of uninitialized value in pack at /home/src/perl/repoperls/installed-perls/perl/v5.12.5/a2da/lib/site_perl/5.12.5/Font/TTF/Cmap.pm line 330.
Use of uninitialized value in pack at /home/src/perl/repoperls/installed-perls/perl/v5.12.5/a2da/lib/site_perl/5.12.5/Font/TTF/Cmap.pm line 330.
Use of uninitialized value in pack at /home/src/perl/repoperls/installed-perls/perl/v5.12.5/a2da/lib/site_perl/5.12.5/Font/TTF/Cmap.pm line 330.
Use of uninitialized value in pack at /home/src/perl/repoperls/installed-perls/perl/v5.12.5/a2da/lib/site_perl/5.12.5/Font/TTF/Cmap.pm line 330.
Use of uninitialized value in pack at /home/src/perl/repoperls/installed-perls/perl/v5.12.5/a2da/lib/site_perl/5.12.5/Font/TTF/Cmap.pm line 330.
Use of uninitialized value in pack at /home/src/perl/repoperls/installed-perls/perl/v5.12.5/a2da/lib/site_perl/5.12.5/Font/TTF/Cmap.pm line 330.
Use of uninitialized value in pack at /home/src/perl/repoperls/installed-perls/perl/v5.12.5/a2da/lib/site_perl/5.12.5/Font/TTF/Cmap.pm line 330.
Use of uninitialized value in pack at /home/src/perl/repoperls/installed-perls/perl/v5.12.5/a2da/lib/site_perl/5.12.5/Font/TTF/Cmap.pm line 330.
Use of uninitialized value in pack at /home/src/perl/repoperls/installed-perls/perl/v5.12.5/a2da/lib/site_perl/5.12.5/Font/TTF/Cmap.pm line 330.
Use of uninitialized value in pack at /home/src/perl/repoperls/installed-perls/perl/v5.12.5/a2da/lib/site_perl/5.12.5/Font/TTF/Cmap.pm line 330.
Use of uninitialized value in pack at /home/src/perl/repoperls/installed-perls/perl/v5.12.5/a2da/lib/site_perl/5.12.5/Font/TTF/Cmap.pm line 330.
Use of uninitialized value in pack at /home/src/perl/repoperls/installed-perls/perl/v5.12.5/a2da/lib/site_perl/5.12.5/Font/TTF/Cmap.pm line 330.
Use of uninitialized value in pack at /home/src/perl/repoperls/installed-perls/perl/v5.12.5/a2da/lib/site_perl/5.12.5/Font/TTF/Cmap.pm line 330.
Use of uninitialized value in pack at /home/src/perl/repoperls/installed-perls/perl/v5.12.5/a2da/lib/site_perl/5.12.5/Font/TTF/Cmap.pm line 330.
Use of uninitialized value in pack at /home/src/perl/repoperls/installed-perls/perl/v5.12.5/a2da/lib/site_perl/5.12.5/Font/TTF/Cmap.pm line 330.
Use of uninitialized value in pack at /home/src/perl/repoperls/installed-perls/perl/v5.12.5/a2da/lib/site_perl/5.12.5/Font/TTF/Cmap.pm line 330.
Use of uninitialized value in pack at /home/src/perl/repoperls/installed-perls/perl/v5.12.5/a2da/lib/site_perl/5.12.5/Font/TTF/Cmap.pm line 330.
Use of uninitialized value in pack at /home/src/perl/repoperls/installed-perls/perl/v5.12.5/a2da/lib/site_perl/5.12.5/Font/TTF/Cmap.pm line 330.
Use of uninitialized value in pack at /home/src/perl/repoperls/installed-perls/perl/v5.12.5/a2da/lib/site_perl/5.12.5/Font/TTF/Cmap.pm line 330.
Use of uninitialized value in pack at /home/src/perl/repoperls/installed-perls/perl/v5.12.5/a2da/lib/site_perl/5.12.5/Font/TTF/Cmap.pm line 330.
Use of uninitialized value in pack at /home/src/perl/repoperls/installed-perls/perl/v5.12.5/a2da/lib/site_perl/5.12.5/Font/TTF/Cmap.pm line 330.
Use of uninitialized value in pack at /home/src/perl/repoperls/installed-perls/perl/v5.12.5/a2da/lib/site_perl/5.12.5/Font/TTF/Cmap.pm line 330.
Use of uninitialized value in pack at /home/src/perl/repoperls/installed-perls/perl/v5.12.5/a2da/lib/site_perl/5.12.5/Font/TTF/Cmap.pm line 330.
Use of uninitialized value in pack at /home/src/perl/repoperls/installed-perls/perl/v5.12.5/a2da/lib/site_perl/5.12.5/Font/TTF/Cmap.pm line 330.
Use of uninitialized value in pack at /home/src/perl/repoperls/installed-perls/perl/v5.12.5/a2da/lib/site_perl/5.12.5/Font/TTF/Cmap.pm line 330.
Use of uninitialized value in pack at /home/src/perl/repoperls/installed-perls/perl/v5.12.5/a2da/lib/site_perl/5.12.5/Font/TTF/Cmap.pm line 330.
Use of uninitialized value in pack at /home/src/perl/repoperls/installed-perls/perl/v5.12.5/a2da/lib/site_perl/5.12.5/Font/TTF/Cmap.pm line 330.
Use of uninitialized value in pack at /home/src/perl/repoperls/installed-perls/perl/v5.12.5/a2da/lib/site_perl/5.12.5/Font/TTF/Cmap.pm line 330.
Use of uninitialized value in pack at /home/src/perl/repoperls/installed-perls/perl/v5.12.5/a2da/lib/site_perl/5.12.5/Font/TTF/Cmap.pm line 330.
Use of uninitialized value in pack at /home/src/perl/repoperls/installed-perls/perl/v5.12.5/a2da/lib/site_perl/5.12.5/Font/TTF/Cmap.pm line 330.
Use of uninitialized value in pack at /home/src/perl/repoperls/installed-perls/perl/v5.12.5/a2da/lib/site_perl/5.12.5/Font/TTF/Cmap.pm line 330.
Use of uninitialized value in pack at /home/src/perl/repoperls/installed-perls/perl/v5.12.5/a2da/lib/site_perl/5.12.5/Font/TTF/Cmap.pm line 330.
Use of uninitialized value in pack at /home/src/perl/repoperls/installed-perls/perl/v5.12.5/a2da/lib/site_perl/5.12.5/Font/TTF/Cmap.pm line 330.
Use of uninitialized value in pack at /home/src/perl/repoperls/installed-perls/perl/v5.12.5/a2da/lib/site_perl/5.12.5/Font/TTF/Cmap.pm line 330.
Use of uninitialized value in pack at /home/src/perl/repoperls/installed-perls/perl/v5.12.5/a2da/lib/site_perl/5.12.5/Font/TTF/Cmap.pm line 330.
Use of uninitialized value in pack at /home/src/perl/repoperls/installed-perls/perl/v5.12.5/a2da/lib/site_perl/5.12.5/Font/TTF/Cmap.pm line 330.
Use of uninitialized value in pack at /home/src/perl/repoperls/installed-perls/perl/v5.12.5/a2da/lib/site_perl/5.12.5/Font/TTF/Cmap.pm line 330.
Use of uninitialized value in pack at /home/src/perl/repoperls/installed-perls/perl/v5.12.5/a2da/lib/site_perl/5.12.5/Font/TTF/Cmap.pm line 330.
Use of uninitialized value in pack at /home/src/perl/repoperls/installed-perls/perl/v5.12.5/a2da/lib/site_perl/5.12.5/Font/TTF/Cmap.pm line 330.
Use of uninitialized value in pack at /home/src/perl/repoperls/installed-perls/perl/v5.12.5/a2da/lib/site_perl/5.12.5/Font/TTF/Cmap.pm line 330.
Use of uninitialized value in pack at /home/src/perl/repoperls/installed-perls/perl/v5.12.5/a2da/lib/site_perl/5.12.5/Font/TTF/Cmap.pm line 330.
Use of uninitialized value in pack at /home/src/perl/repoperls/installed-perls/perl/v5.12.5/a2da/lib/site_perl/5.12.5/Font/TTF/Cmap.pm line 330.
Use of uninitialized value in pack at /home/src/perl/repoperls/installed-perls/perl/v5.12.5/a2da/lib/site_perl/5.12.5/Font/TTF/Cmap.pm line 330.
Use of uninitialized value in pack at /home/src/perl/repoperls/installed-perls/perl/v5.12.5/a2da/lib/site_perl/5.12.5/Font/TTF/Cmap.pm line 330.
Use of uninitialized value in pack at /home/src/perl/repoperls/installed-perls/perl/v5.12.5/a2da/lib/site_perl/5.12.5/Font/TTF/Cmap.pm line 330.
Use of uninitialized value in pack at /home/src/perl/repoperls/installed-perls/perl/v5.12.5/a2da/lib/site_perl/5.12.5/Font/TTF/Cmap.pm line 330.
Use of uninitialized value in pack at /home/src/perl/repoperls/installed-perls/perl/v5.12.5/a2da/lib/site_perl/5.12.5/Font/TTF/Cmap.pm line 330.
Use of uninitialized value in pack at /home/src/perl/repoperls/installed-perls/perl/v5.12.5/a2da/lib/site_perl/5.12.5/Font/TTF/Cmap.pm line 330.
Use of uninitialized value in pack at /home/src/perl/repoperls/installed-perls/perl/v5.12.5/a2da/lib/site_perl/5.12.5/Font/TTF/Cmap.pm line 330.
Use of uninitialized value in pack at /home/src/perl/repoperls/installed-perls/perl/v5.12.5/a2da/lib/site_perl/5.12.5/Font/TTF/Cmap.pm line 330.
Use of uninitialized value in pack at /home/src/perl/repoperls/installed-perls/perl/v5.12.5/a2da/lib/site_perl/5.12.5/Font/TTF/Cmap.pm line 330.
Use of uninitialized value in pack at /home/src/perl/repoperls/installed-perls/perl/v5.12.5/a2da/lib/site_perl/5.12.5/Font/TTF/Cmap.pm line 330.
Use of uninitialized value in pack at /home/src/perl/repoperls/installed-perls/perl/v5.12.5/a2da/lib/site_perl/5.12.5/Font/TTF/Cmap.pm line 330.
Use of uninitialized value in pack at /home/src/perl/repoperls/installed-perls/perl/v5.12.5/a2da/lib/site_perl/5.12.5/Font/TTF/Cmap.pm line 330.
Use of uninitialized value in pack at /home/src/perl/repoperls/installed-perls/perl/v5.12.5/a2da/lib/site_perl/5.12.5/Font/TTF/Cmap.pm line 330.
Use of uninitialized value in pack at /home/src/perl/repoperls/installed-perls/perl/v5.12.5/a2da/lib/site_perl/5.12.5/Font/TTF/Cmap.pm line 330.
Use of uninitialized value in pack at /home/src/perl/repoperls/installed-perls/perl/v5.12.5/a2da/lib/site_perl/5.12.5/Font/TTF/Cmap.pm line 330.
Use of uninitialized value in pack at /home/src/perl/repoperls/installed-perls/perl/v5.12.5/a2da/lib/site_perl/5.12.5/Font/TTF/Cmap.pm line 330.
Use of uninitialized value in pack at /home/src/perl/repoperls/installed-perls/perl/v5.12.5/a2da/lib/site_perl/5.12.5/Font/TTF/Cmap.pm line 330.
Use of uninitialized value in pack at /home/src/perl/repoperls/installed-perls/perl/v5.12.5/a2da/lib/site_perl/5.12.5/Font/TTF/Cmap.pm line 330.
Use of uninitialized value in pack at /home/src/perl/repoperls/installed-perls/perl/v5.12.5/a2da/lib/site_perl/5.12.5/Font/TTF/Cmap.pm line 330.
Use of uninitialized value in pack at /home/src/perl/repoperls/installed-perls/perl/v5.12.5/a2da/lib/site_perl/5.12.5/Font/TTF/Cmap.pm line 330.
Use of uninitialized value in pack at /home/src/perl/repoperls/installed-perls/perl/v5.12.5/a2da/lib/site_perl/5.12.5/Font/TTF/Cmap.pm line 330.
Use of uninitialized value in pack at /home/src/perl/repoperls/installed-perls/perl/v5.12.5/a2da/lib/site_perl/5.12.5/Font/TTF/Cmap.pm line 330.
Use of uninitialized value in pack at /home/src/perl/repoperls/installed-perls/perl/v5.12.5/a2da/lib/site_perl/5.12.5/Font/TTF/Cmap.pm line 330.
Use of uninitialized value in pack at /home/src/perl/repoperls/installed-perls/perl/v5.12.5/a2da/lib/site_perl/5.12.5/Font/TTF/Cmap.pm line 330.
Use of uninitialized value in pack at /home/src/perl/repoperls/installed-perls/perl/v5.12.5/a2da/lib/site_perl/5.12.5/Font/TTF/Cmap.pm line 330.
Use of uninitialized value in pack at /home/src/perl/repoperls/installed-perls/perl/v5.12.5/a2da/lib/site_perl/5.12.5/Font/TTF/Cmap.pm line 330.
Use of uninitialized value in pack at /home/src/perl/repoperls/installed-perls/perl/v5.12.5/a2da/lib/site_perl/5.12.5/Font/TTF/Cmap.pm line 330.
Use of uninitialized value in pack at /home/src/perl/repoperls/installed-perls/perl/v5.12.5/a2da/lib/site_perl/5.12.5/Font/TTF/Cmap.pm line 330.
Use of uninitialized value in pack at /home/src/perl/repoperls/installed-perls/perl/v5.12.5/a2da/lib/site_perl/5.12.5/Font/TTF/Cmap.pm line 330.
Use of uninitialized value in pack at /home/src/perl/repoperls/installed-perls/perl/v5.12.5/a2da/lib/site_perl/5.12.5/Font/TTF/Cmap.pm line 330.
Use of uninitialized value in pack at /home/src/perl/repoperls/installed-perls/perl/v5.12.5/a2da/lib/site_perl/5.12.5/Font/TTF/Cmap.pm line 330.
Use of uninitialized value in pack at /home/src/perl/repoperls/installed-perls/perl/v5.12.5/a2da/lib/site_perl/5.12.5/Font/TTF/Cmap.pm line 330.
Use of uninitialized value in pack at /home/src/perl/repoperls/installed-perls/perl/v5.12.5/a2da/lib/site_perl/5.12.5/Font/TTF/Cmap.pm line 330.
Use of uninitialized value in pack at /home/src/perl/repoperls/installed-perls/perl/v5.12.5/a2da/lib/site_perl/5.12.5/Font/TTF/Cmap.pm line 330.
Filehandle $fh opened only for output at /home/src/perl/repoperls/installed-perls/perl/v5.12.5/a2da/lib/5.12.5/x86_64-linux-thread-multi-ld/IO/Handle.pm line 445.
Filehandle $fh opened only for output at /home/src/perl/repoperls/installed-perls/perl/v5.12.5/a2da/lib/5.12.5/x86_64-linux-thread-multi-ld/IO/Handle.pm line 445.
Filehandle $fh opened only for output at /home/src/perl/repoperls/installed-perls/perl/v5.12.5/a2da/lib/5.12.5/x86_64-linux-thread-multi-ld/IO/Handle.pm line 445.
Filehandle $fh opened only for output at /home/src/perl/repoperls/installed-perls/perl/v5.12.5/a2da/lib/5.12.5/x86_64-linux-thread-multi-ld/IO/Handle.pm line 445.
Argument " CSUM" isn't numeric in sort at /home/src/perl/repoperls/installed-perls/perl/v5.12.5/a2da/lib/site_perl/5.12.5/Font/TTF/Hdmx.pm line 83.
Argument " isDirty" isn't numeric in sort at /home/src/perl/repoperls/installed-perls/perl/v5.12.5/a2da/lib/site_perl/5.12.5/Font/TTF/Hdmx.pm line 83.
Argument " LENGTH" isn't numeric in sort at /home/src/perl/repoperls/installed-perls/perl/v5.12.5/a2da/lib/site_perl/5.12.5/Font/TTF/Hdmx.pm line 83.
Argument " NAME" isn't numeric in sort at /home/src/perl/repoperls/installed-perls/perl/v5.12.5/a2da/lib/site_perl/5.12.5/Font/TTF/Hdmx.pm line 83.
Argument " OFFSET" isn't numeric in sort at /home/src/perl/repoperls/installed-perls/perl/v5.12.5/a2da/lib/site_perl/5.12.5/Font/TTF/Hdmx.pm line 83.
Argument " INFILE" isn't numeric in sort at /home/src/perl/repoperls/installed-perls/perl/v5.12.5/a2da/lib/site_perl/5.12.5/Font/TTF/Hdmx.pm line 83.
Argument " subsetdone" isn't numeric in sort at /home/src/perl/repoperls/installed-perls/perl/v5.12.5/a2da/lib/site_perl/5.12.5/Font/TTF/Hdmx.pm line 83.
Argument " PARENT" isn't numeric in sort at /home/src/perl/repoperls/installed-perls/perl/v5.12.5/a2da/lib/site_perl/5.12.5/Font/TTF/Hdmx.pm line 83.
Argument "Version" isn't numeric in sort at /home/src/perl/repoperls/installed-perls/perl/v5.12.5/a2da/lib/site_perl/5.12.5/Font/TTF/Hdmx.pm line 83.
Argument " ZLENGTH" isn't numeric in sort at /home/src/perl/repoperls/installed-perls/perl/v5.12.5/a2da/lib/site_perl/5.12.5/Font/TTF/Hdmx.pm line 83.
Argument " read" isn't numeric in sort at /home/src/perl/repoperls/installed-perls/perl/v5.12.5/a2da/lib/site_perl/5.12.5/Font/TTF/Hdmx.pm line 83.
Argument "Num" isn't numeric in sort at /home/src/perl/repoperls/installed-perls/perl/v5.12.5/a2da/lib/site_perl/5.12.5/Font/TTF/Hdmx.pm line 83.
Filehandle $fh opened only for output at /home/src/perl/repoperls/installed-perls/perl/v5.12.5/a2da/lib/5.12.5/x86_64-linux-thread-multi-ld/IO/Handle.pm line 445.
Filehandle $fh opened only for output at /home/src/perl/repoperls/installed-perls/perl/v5.12.5/a2da/lib/5.12.5/x86_64-linux-thread-multi-ld/IO/Handle.pm line 445.
Filehandle $fh opened only for output at /home/src/perl/repoperls/installed-perls/perl/v5.12.5/a2da/lib/5.12.5/x86_64-linux-thread-multi-ld/IO/Handle.pm line 445.
Filehandle $fh opened only for output at /home/src/perl/repoperls/installed-perls/perl/v5.12.5/a2da/lib/5.12.5/x86_64-linux-thread-multi-ld/IO/Handle.pm line 445.
Filehandle $fh opened only for output at /home/src/perl/repoperls/installed-perls/perl/v5.12.5/a2da/lib/5.12.5/x86_64-linux-thread-multi-ld/IO/Handle.pm line 445.
Filehandle $fh opened only for output at /home/src/perl/repoperls/installed-perls/perl/v5.12.5/a2da/lib/5.12.5/x86_64-linux-thread-multi-ld/IO/Handle.pm line 445.
Filehandle $fh opened only for output at /home/src/perl/repoperls/installed-perls/perl/v5.12.5/a2da/lib/5.12.5/x86_64-linux-thread-multi-ld/IO/Handle.pm line 445.
Filehandle $fh opened only for output at /home/src/perl/repoperls/installed-perls/perl/v5.12.5/a2da/lib/5.12.5/x86_64-linux-thread-multi-ld/IO/Handle.pm line 445.
Filehandle $fh opened only for output at /home/src/perl/repoperls/installed-perls/perl/v5.12.5/a2da/lib/5.12.5/x86_64-linux-thread-multi-ld/IO/Handle.pm line 445.
Filehandle $fh opened only for output at /home/src/perl/repoperls/installed-perls/perl/v5.12.5/a2da/lib/5.12.5/x86_64-linux-thread-multi-ld/IO/Handle.pm line 445.
Use of uninitialized value in array element at /home/src/perl/repoperls/installed-perls/perl/v5.12.5/a2da/lib/site_perl/5.12.5/Font/TTF/OS_2.pm line 302.
Use of uninitialized value in array element at /home/src/perl/repoperls/installed-perls/perl/v5.12.5/a2da/lib/site_perl/5.12.5/Font/TTF/OS_2.pm line 302.
Use of uninitialized value in array element at /home/src/perl/repoperls/installed-perls/perl/v5.12.5/a2da/lib/site_perl/5.12.5/Font/TTF/OS_2.pm line 302.
Use of uninitialized value in array element at /home/src/perl/repoperls/installed-perls/perl/v5.12.5/a2da/lib/site_perl/5.12.5/Font/TTF/OS_2.pm line 302.
Use of uninitialized value in array element at /home/src/perl/repoperls/installed-perls/perl/v5.12.5/a2da/lib/site_perl/5.12.5/Font/TTF/OS_2.pm line 302.
Use of uninitialized value in array element at /home/src/perl/repoperls/installed-perls/perl/v5.12.5/a2da/lib/site_perl/5.12.5/Font/TTF/OS_2.pm line 302.
Use of uninitialized value in array element at /home/src/perl/repoperls/installed-perls/perl/v5.12.5/a2da/lib/site_perl/5.12.5/Font/TTF/OS_2.pm line 302.
Use of uninitialized value in array element at /home/src/perl/repoperls/installed-perls/perl/v5.12.5/a2da/lib/site_perl/5.12.5/Font/TTF/OS_2.pm line 302.
Use of uninitialized value in array element at /home/src/perl/repoperls/installed-perls/perl/v5.12.5/a2da/lib/site_perl/5.12.5/Font/TTF/OS_2.pm line 302.
Use of uninitialized value in array element at /home/src/perl/repoperls/installed-perls/perl/v5.12.5/a2da/lib/site_perl/5.12.5/Font/TTF/OS_2.pm line 302.
Use of uninitialized value in array element at /home/src/perl/repoperls/installed-perls/perl/v5.12.5/a2da/lib/site_perl/5.12.5/Font/TTF/OS_2.pm line 302.
Use of uninitialized value in array element at /home/src/perl/repoperls/installed-perls/perl/v5.12.5/a2da/lib/site_perl/5.12.5/Font/TTF/OS_2.pm line 302.
Use of uninitialized value in array element at /home/src/perl/repoperls/installed-perls/perl/v5.12.5/a2da/lib/site_perl/5.12.5/Font/TTF/OS_2.pm line 302.
Use of uninitialized value in array element at /home/src/perl/repoperls/installed-perls/perl/v5.12.5/a2da/lib/site_perl/5.12.5/Font/TTF/OS_2.pm line 302.
Use of uninitialized value in array element at /home/src/perl/repoperls/installed-perls/perl/v5.12.5/a2da/lib/site_perl/5.12.5/Font/TTF/OS_2.pm line 302.
Use of uninitialized value in array element at /home/src/perl/repoperls/installed-perls/perl/v5.12.5/a2da/lib/site_perl/5.12.5/Font/TTF/OS_2.pm line 302.
Use of uninitialized value in array element at /home/src/perl/repoperls/installed-perls/perl/v5.12.5/a2da/lib/site_perl/5.12.5/Font/TTF/OS_2.pm line 302.
Use of uninitialized value in array element at /home/src/perl/repoperls/installed-perls/perl/v5.12.5/a2da/lib/site_perl/5.12.5/Font/TTF/OS_2.pm line 302.
Use of uninitialized value in array element at /home/src/perl/repoperls/installed-perls/perl/v5.12.5/a2da/lib/site_perl/5.12.5/Font/TTF/OS_2.pm line 302.
Use of uninitialized value in array element at /home/src/perl/repoperls/installed-perls/perl/v5.12.5/a2da/lib/site_perl/5.12.5/Font/TTF/OS_2.pm line 302.
Use of uninitialized value in array element at /home/src/perl/repoperls/installed-perls/perl/v5.12.5/a2da/lib/site_perl/5.12.5/Font/TTF/OS_2.pm line 302.
Use of uninitialized value in array element at /home/src/perl/repoperls/installed-perls/perl/v5.12.5/a2da/lib/site_perl/5.12.5/Font/TTF/OS_2.pm line 302.
Use of uninitialized value in array element at /home/src/perl/repoperls/installed-perls/perl/v5.12.5/a2da/lib/site_perl/5.12.5/Font/TTF/OS_2.pm line 302.
Use of uninitialized value in array element at /home/src/perl/repoperls/installed-perls/perl/v5.12.5/a2da/lib/site_perl/5.12.5/Font/TTF/OS_2.pm line 302.
Use of uninitialized value in array element at /home/src/perl/repoperls/installed-perls/perl/v5.12.5/a2da/lib/site_perl/5.12.5/Font/TTF/OS_2.pm line 303.
Use of uninitialized value $xMin in numeric lt (<) at /home/src/perl/repoperls/installed-perls/perl/v5.12.5/a2da/lib/site_perl/5.12.5/Font/TTF/Head.pm line 170.
Use of uninitialized value $yMin in numeric lt (<) at /home/src/perl/repoperls/installed-perls/perl/v5.12.5/a2da/lib/site_perl/5.12.5/Font/TTF/Head.pm line 171.
Use of uninitialized value $xMax in numeric gt (>) at /home/src/perl/repoperls/installed-perls/perl/v5.12.5/a2da/lib/site_perl/5.12.5/Font/TTF/Head.pm line 172.
Use of uninitialized value $yMax in numeric gt (>) at /home/src/perl/repoperls/installed-perls/perl/v5.12.5/a2da/lib/site_perl/5.12.5/Font/TTF/Head.pm line 173.
Use of uninitialized value $maw in numeric gt (>) at /home/src/perl/repoperls/installed-perls/perl/v5.12.5/a2da/lib/site_perl/5.12.5/Font/TTF/Hhea.pm line 132.
Use of uninitialized value $mlsb in numeric lt (<) at /home/src/perl/repoperls/installed-perls/perl/v5.12.5/a2da/lib/site_perl/5.12.5/Font/TTF/Hhea.pm line 133.
Use of uninitialized value $mrsb in numeric lt (<) at /home/src/perl/repoperls/installed-perls/perl/v5.12.5/a2da/lib/site_perl/5.12.5/Font/TTF/Hhea.pm line 134.
Use of uninitialized value $mext in numeric gt (>) at /home/src/perl/repoperls/installed-perls/perl/v5.12.5/a2da/lib/site_perl/5.12.5/Font/TTF/Hhea.pm line 135.
Use of uninitialized value in numeric gt (>) at /home/src/perl/repoperls/installed-perls/perl/v5.12.5/a2da/lib/site_perl/5.12.5/Font/TTF/Maxp.pm line 152.
Use of uninitialized value in numeric gt (>) at /home/src/perl/repoperls/installed-perls/perl/v5.12.5/a2da/lib/site_perl/5.12.5/Font/TTF/Maxp.pm line 152.
Use of uninitialized value in numeric gt (>) at /home/src/perl/repoperls/installed-perls/perl/v5.12.5/a2da/lib/site_perl/5.12.5/Font/TTF/Maxp.pm line 152.
Use of uninitialized value $n[2] in numeric gt (>) at /home/src/perl/repoperls/installed-perls/perl/v5.12.5/a2da/lib/site_perl/5.12.5/Font/TTF/Maxp.pm line 152.
Use of uninitialized value in numeric gt (>) at /home/src/perl/repoperls/installed-perls/perl/v5.12.5/a2da/lib/site_perl/5.12.5/Font/TTF/Maxp.pm line 152.
Use of uninitialized value $n[3] in numeric gt (>) at /home/src/perl/repoperls/installed-perls/perl/v5.12.5/a2da/lib/site_perl/5.12.5/Font/TTF/Maxp.pm line 152.
Use of uninitialized value in numeric gt (>) at /home/src/perl/repoperls/installed-perls/perl/v5.12.5/a2da/lib/site_perl/5.12.5/Font/TTF/Maxp.pm line 152.
Use of uninitialized value in numeric gt (>) at /home/src/perl/repoperls/installed-perls/perl/v5.12.5/a2da/lib/site_perl/5.12.5/Font/TTF/Maxp.pm line 152.
Use of uninitialized value $n[5] in numeric gt (>) at /home/src/perl/repoperls/installed-perls/perl/v5.12.5/a2da/lib/site_perl/5.12.5/Font/TTF/Maxp.pm line 152.
Use of uninitialized value in numeric gt (>) at /home/src/perl/repoperls/installed-perls/perl/v5.12.5/a2da/lib/site_perl/5.12.5/Font/TTF/Maxp.pm line 152.
Use of uninitialized value in numeric gt (>) at /home/src/perl/repoperls/installed-perls/perl/v5.12.5/a2da/lib/site_perl/5.12.5/Font/TTF/Maxp.pm line 152.
Use of uninitialized value $n[2] in numeric gt (>) at /home/src/perl/repoperls/installed-perls/perl/v5.12.5/a2da/lib/site_perl/5.12.5/Font/TTF/Maxp.pm line 152.
Use of uninitialized value in numeric gt (>) at /home/src/perl/repoperls/installed-perls/perl/v5.12.5/a2da/lib/site_perl/5.12.5/Font/TTF/Maxp.pm line 152.
Use of uninitialized value $n[3] in numeric gt (>) at /home/src/perl/repoperls/installed-perls/perl/v5.12.5/a2da/lib/site_perl/5.12.5/Font/TTF/Maxp.pm line 152.
Use of uninitialized value in numeric gt (>) at /home/src/perl/repoperls/installed-perls/perl/v5.12.5/a2da/lib/site_perl/5.12.5/Font/TTF/Maxp.pm line 152.
Use of uninitialized value $n[5] in numeric gt (>) at /home/src/perl/repoperls/installed-perls/perl/v5.12.5/a2da/lib/site_perl/5.12.5/Font/TTF/Maxp.pm line 152.
Use of uninitialized value in numeric gt (>) at /home/src/perl/repoperls/installed-perls/perl/v5.12.5/a2da/lib/site_perl/5.12.5/Font/TTF/Maxp.pm line 152.
Use of uninitialized value $n[2] in numeric gt (>) at /home/src/perl/repoperls/installed-perls/perl/v5.12.5/a2da/lib/site_perl/5.12.5/Font/TTF/Maxp.pm line 152.
Use of uninitialized value in numeric gt (>) at /home/src/perl/repoperls/installed-perls/perl/v5.12.5/a2da/lib/site_perl/5.12.5/Font/TTF/Maxp.pm line 152.
Use of uninitialized value $n[3] in numeric gt (>) at /home/src/perl/repoperls/installed-perls/perl/v5.12.5/a2da/lib/site_perl/5.12.5/Font/TTF/Maxp.pm line 152.
Use of uninitialized value in numeric gt (>) at /home/src/perl/repoperls/installed-perls/perl/v5.12.5/a2da/lib/site_perl/5.12.5/Font/TTF/Maxp.pm line 152.
Use of uninitialized value $n[5] in numeric gt (>) at /home/src/perl/repoperls/installed-perls/perl/v5.12.5/a2da/lib/site_perl/5.12.5/Font/TTF/Maxp.pm line 152.
Filehandle $fh opened only for output at /home/src/perl/repoperls/installed-perls/perl/v5.12.5/a2da/lib/5.12.5/x86_64-linux-thread-multi-ld/IO/Handle.pm line 445.
Use of uninitialized value in pack at /home/src/perl/repoperls/installed-perls/perl/v5.12.5/a2da/lib/site_perl/5.12.5/Font/TTF/Cmap.pm line 330.
Use of uninitialized value in pack at /home/src/perl/repoperls/installed-perls/perl/v5.12.5/a2da/lib/site_perl/5.12.5/Font/TTF/Cmap.pm line 330.
Use of uninitialized value in pack at /home/src/perl/repoperls/installed-perls/perl/v5.12.5/a2da/lib/site_perl/5.12.5/Font/TTF/Cmap.pm line 330.
Use of uninitialized value in pack at /home/src/perl/repoperls/installed-perls/perl/v5.12.5/a2da/lib/site_perl/5.12.5/Font/TTF/Cmap.pm line 330.
Use of uninitialized value in pack at /home/src/perl/repoperls/installed-perls/perl/v5.12.5/a2da/lib/site_perl/5.12.5/Font/TTF/Cmap.pm line 330.
Use of uninitialized value in pack at /home/src/perl/repoperls/installed-perls/perl/v5.12.5/a2da/lib/site_perl/5.12.5/Font/TTF/Cmap.pm line 330.
Use of uninitialized value in pack at /home/src/perl/repoperls/installed-perls/perl/v5.12.5/a2da/lib/site_perl/5.12.5/Font/TTF/Cmap.pm line 330.
Use of uninitialized value in pack at /home/src/perl/repoperls/installed-perls/perl/v5.12.5/a2da/lib/site_perl/5.12.5/Font/TTF/Cmap.pm line 330.
Use of uninitialized value in pack at /home/src/perl/repoperls/installed-perls/perl/v5.12.5/a2da/lib/site_perl/5.12.5/Font/TTF/Cmap.pm line 330.
Use of uninitialized value in pack at /home/src/perl/repoperls/installed-perls/perl/v5.12.5/a2da/lib/site_perl/5.12.5/Font/TTF/Cmap.pm line 330.
Use of uninitialized value in pack at /home/src/perl/repoperls/installed-perls/perl/v5.12.5/a2da/lib/site_perl/5.12.5/Font/TTF/Cmap.pm line 330.
Use of uninitialized value in pack at /home/src/perl/repoperls/installed-perls/perl/v5.12.5/a2da/lib/site_perl/5.12.5/Font/TTF/Cmap.pm line 330.
Use of uninitialized value in pack at /home/src/perl/repoperls/installed-perls/perl/v5.12.5/a2da/lib/site_perl/5.12.5/Font/TTF/Cmap.pm line 330.
Use of uninitialized value in pack at /home/src/perl/repoperls/installed-perls/perl/v5.12.5/a2da/lib/site_perl/5.12.5/Font/TTF/Cmap.pm line 330.
Use of uninitialized value in pack at /home/src/perl/repoperls/installed-perls/perl/v5.12.5/a2da/lib/site_perl/5.12.5/Font/TTF/Cmap.pm line 330.
Use of uninitialized value in pack at /home/src/perl/repoperls/installed-perls/perl/v5.12.5/a2da/lib/site_perl/5.12.5/Font/TTF/Cmap.pm line 330.
Use of uninitialized value in pack at /home/src/perl/repoperls/installed-perls/perl/v5.12.5/a2da/lib/site_perl/5.12.5/Font/TTF/Cmap.pm line 330.
Use of uninitialized value in pack at /home/src/perl/repoperls/installed-perls/perl/v5.12.5/a2da/lib/site_perl/5.12.5/Font/TTF/Cmap.pm line 330.
Use of uninitialized value in pack at /home/src/perl/repoperls/installed-perls/perl/v5.12.5/a2da/lib/site_perl/5.12.5/Font/TTF/Cmap.pm line 330.
Use of uninitialized value in pack at /home/src/perl/repoperls/installed-perls/perl/v5.12.5/a2da/lib/site_perl/5.12.5/Font/TTF/Cmap.pm line 330.
Use of uninitialized value in pack at /home/src/perl/repoperls/installed-perls/perl/v5.12.5/a2da/lib/site_perl/5.12.5/Font/TTF/Cmap.pm line 330.
Use of uninitialized value in pack at /home/src/perl/repoperls/installed-perls/perl/v5.12.5/a2da/lib/site_perl/5.12.5/Font/TTF/Cmap.pm line 330.
Use of uninitialized value in pack at /home/src/perl/repoperls/installed-perls/perl/v5.12.5/a2da/lib/site_perl/5.12.5/Font/TTF/Cmap.pm line 330.
Use of uninitialized value in pack at /home/src/perl/repoperls/installed-perls/perl/v5.12.5/a2da/lib/site_perl/5.12.5/Font/TTF/Cmap.pm line 330.
Use of uninitialized value in pack at /home/src/perl/repoperls/installed-perls/perl/v5.12.5/a2da/lib/site_perl/5.12.5/Font/TTF/Cmap.pm line 330.
Use of uninitialized value in pack at /home/src/perl/repoperls/installed-perls/perl/v5.12.5/a2da/lib/site_perl/5.12.5/Font/TTF/Cmap.pm line 330.
Use of uninitialized value in pack at /home/src/perl/repoperls/installed-perls/perl/v5.12.5/a2da/lib/site_perl/5.12.5/Font/TTF/Cmap.pm line 330.
Use of uninitialized value in pack at /home/src/perl/repoperls/installed-perls/perl/v5.12.5/a2da/lib/site_perl/5.12.5/Font/TTF/Cmap.pm line 330.
Use of uninitialized value in pack at /home/src/perl/repoperls/installed-perls/perl/v5.12.5/a2da/lib/site_perl/5.12.5/Font/TTF/Cmap.pm line 330.
Use of uninitialized value in pack at /home/src/perl/repoperls/installed-perls/perl/v5.12.5/a2da/lib/site_perl/5.12.5/Font/TTF/Cmap.pm line 330.
Use of uninitialized value in pack at /home/src/perl/repoperls/installed-perls/perl/v5.12.5/a2da/lib/site_perl/5.12.5/Font/TTF/Cmap.pm line 330.
Use of uninitialized value in pack at /home/src/perl/repoperls/installed-perls/perl/v5.12.5/a2da/lib/site_perl/5.12.5/Font/TTF/Cmap.pm line 330.
Use of uninitialized value in pack at /home/src/perl/repoperls/installed-perls/perl/v5.12.5/a2da/lib/site_perl/5.12.5/Font/TTF/Cmap.pm line 330.
Use of uninitialized value in pack at /home/src/perl/repoperls/installed-perls/perl/v5.12.5/a2da/lib/site_perl/5.12.5/Font/TTF/Cmap.pm line 330.
Use of uninitialized value in pack at /home/src/perl/repoperls/installed-perls/perl/v5.12.5/a2da/lib/site_perl/5.12.5/Font/TTF/Cmap.pm line 330.
Use of uninitialized value in pack at /home/src/perl/repoperls/installed-perls/perl/v5.12.5/a2da/lib/site_perl/5.12.5/Font/TTF/Cmap.pm line 330.
Use of uninitialized value in pack at /home/src/perl/repoperls/installed-perls/perl/v5.12.5/a2da/lib/site_perl/5.12.5/Font/TTF/Cmap.pm line 330.
Use of uninitialized value in pack at /home/src/perl/repoperls/installed-perls/perl/v5.12.5/a2da/lib/site_perl/5.12.5/Font/TTF/Cmap.pm line 330.
Use of uninitialized value in pack at /home/src/perl/repoperls/installed-perls/perl/v5.12.5/a2da/lib/site_perl/5.12.5/Font/TTF/Cmap.pm line 330.
Use of uninitialized value in pack at /home/src/perl/repoperls/installed-perls/perl/v5.12.5/a2da/lib/site_perl/5.12.5/Font/TTF/Cmap.pm line 330.
Use of uninitialized value in pack at /home/src/perl/repoperls/installed-perls/perl/v5.12.5/a2da/lib/site_perl/5.12.5/Font/TTF/Cmap.pm line 330.
Use of uninitialized value in pack at /home/src/perl/repoperls/installed-perls/perl/v5.12.5/a2da/lib/site_perl/5.12.5/Font/TTF/Cmap.pm line 330.
Use of uninitialized value in pack at /home/src/perl/repoperls/installed-perls/perl/v5.12.5/a2da/lib/site_perl/5.12.5/Font/TTF/Cmap.pm line 330.
Use of uninitialized value in pack at /home/src/perl/repoperls/installed-perls/perl/v5.12.5/a2da/lib/site_perl/5.12.5/Font/TTF/Cmap.pm line 330.
Use of uninitialized value in pack at /home/src/perl/repoperls/installed-perls/perl/v5.12.5/a2da/lib/site_perl/5.12.5/Font/TTF/Cmap.pm line 330.
Use of uninitialized value in pack at /home/src/perl/repoperls/installed-perls/perl/v5.12.5/a2da/lib/site_perl/5.12.5/Font/TTF/Cmap.pm line 330.
Use of uninitialized value in pack at /home/src/perl/repoperls/installed-perls/perl/v5.12.5/a2da/lib/site_perl/5.12.5/Font/TTF/Cmap.pm line 330.
Use of uninitialized value in pack at /home/src/perl/repoperls/installed-perls/perl/v5.12.5/a2da/lib/site_perl/5.12.5/Font/TTF/Cmap.pm line 330.
Use of uninitialized value in pack at /home/src/perl/repoperls/installed-perls/perl/v5.12.5/a2da/lib/site_perl/5.12.5/Font/TTF/Cmap.pm line 330.
Use of uninitialized value in pack at /home/src/perl/repoperls/installed-perls/perl/v5.12.5/a2da/lib/site_perl/5.12.5/Font/TTF/Cmap.pm line 330.
Use of uninitialized value in pack at /home/src/perl/repoperls/installed-perls/perl/v5.12.5/a2da/lib/site_perl/5.12.5/Font/TTF/Cmap.pm line 330.
Use of uninitialized value in pack at /home/src/perl/repoperls/installed-perls/perl/v5.12.5/a2da/lib/site_perl/5.12.5/Font/TTF/Cmap.pm line 330.
Use of uninitialized value in pack at /home/src/perl/repoperls/installed-perls/perl/v5.12.5/a2da/lib/site_perl/5.12.5/Font/TTF/Cmap.pm line 330.
Use of uninitialized value in pack at /home/src/perl/repoperls/installed-perls/perl/v5.12.5/a2da/lib/site_perl/5.12.5/Font/TTF/Cmap.pm line 330.
Use of uninitialized value in pack at /home/src/perl/repoperls/installed-perls/perl/v5.12.5/a2da/lib/site_perl/5.12.5/Font/TTF/Cmap.pm line 330.
Use of uninitialized value in pack at /home/src/perl/repoperls/installed-perls/perl/v5.12.5/a2da/lib/site_perl/5.12.5/Font/TTF/Cmap.pm line 330.
Use of uninitialized value in pack at /home/src/perl/repoperls/installed-perls/perl/v5.12.5/a2da/lib/site_perl/5.12.5/Font/TTF/Cmap.pm line 330.
Use of uninitialized value in pack at /home/src/perl/repoperls/installed-perls/perl/v5.12.5/a2da/lib/site_perl/5.12.5/Font/TTF/Cmap.pm line 330.
Use of uninitialized value in pack at /home/src/perl/repoperls/installed-perls/perl/v5.12.5/a2da/lib/site_perl/5.12.5/Font/TTF/Cmap.pm line 330.
Use of uninitialized value in pack at /home/src/perl/repoperls/installed-perls/perl/v5.12.5/a2da/lib/site_perl/5.12.5/Font/TTF/Cmap.pm line 330.
Use of uninitialized value in pack at /home/src/perl/repoperls/installed-perls/perl/v5.12.5/a2da/lib/site_perl/5.12.5/Font/TTF/Cmap.pm line 330.
Use of uninitialized value in pack at /home/src/perl/repoperls/installed-perls/perl/v5.12.5/a2da/lib/site_perl/5.12.5/Font/TTF/Cmap.pm line 330.
Use of uninitialized value in pack at /home/src/perl/repoperls/installed-perls/perl/v5.12.5/a2da/lib/site_perl/5.12.5/Font/TTF/Cmap.pm line 330.
Use of uninitialized value in pack at /home/src/perl/repoperls/installed-perls/perl/v5.12.5/a2da/lib/site_perl/5.12.5/Font/TTF/Cmap.pm line 330.
Use of uninitialized value in pack at /home/src/perl/repoperls/installed-perls/perl/v5.12.5/a2da/lib/site_perl/5.12.5/Font/TTF/Cmap.pm line 330.
Use of uninitialized value in pack at /home/src/perl/repoperls/installed-perls/perl/v5.12.5/a2da/lib/site_perl/5.12.5/Font/TTF/Cmap.pm line 330.
Use of uninitialized value in pack at /home/src/perl/repoperls/installed-perls/perl/v5.12.5/a2da/lib/site_perl/5.12.5/Font/TTF/Cmap.pm line 330.
Use of uninitialized value in pack at /home/src/perl/repoperls/installed-perls/perl/v5.12.5/a2da/lib/site_perl/5.12.5/Font/TTF/Cmap.pm line 330.
Use of uninitialized value in pack at /home/src/perl/repoperls/installed-perls/perl/v5.12.5/a2da/lib/site_perl/5.12.5/Font/TTF/Cmap.pm line 330.
Use of uninitialized value in pack at /home/src/perl/repoperls/installed-perls/perl/v5.12.5/a2da/lib/site_perl/5.12.5/Font/TTF/Cmap.pm line 330.
Use of uninitialized value in pack at /home/src/perl/repoperls/installed-perls/perl/v5.12.5/a2da/lib/site_perl/5.12.5/Font/TTF/Cmap.pm line 330.
Use of uninitialized value in pack at /home/src/perl/repoperls/installed-perls/perl/v5.12.5/a2da/lib/site_perl/5.12.5/Font/TTF/Cmap.pm line 330.
Use of uninitialized value in pack at /home/src/perl/repoperls/installed-perls/perl/v5.12.5/a2da/lib/site_perl/5.12.5/Font/TTF/Cmap.pm line 330.
Use of uninitialized value in pack at /home/src/perl/repoperls/installed-perls/perl/v5.12.5/a2da/lib/site_perl/5.12.5/Font/TTF/Cmap.pm line 330.
Use of uninitialized value in pack at /home/src/perl/repoperls/installed-perls/perl/v5.12.5/a2da/lib/site_perl/5.12.5/Font/TTF/Cmap.pm line 330.
Use of uninitialized value in pack at /home/src/perl/repoperls/installed-perls/perl/v5.12.5/a2da/lib/site_perl/5.12.5/Font/TTF/Cmap.pm line 330.
Use of uninitialized value in pack at /home/src/perl/repoperls/installed-perls/perl/v5.12.5/a2da/lib/site_perl/5.12.5/Font/TTF/Cmap.pm line 330.
Use of uninitialized value in pack at /home/src/perl/repoperls/installed-perls/perl/v5.12.5/a2da/lib/site_perl/5.12.5/Font/TTF/Cmap.pm line 330.
Use of uninitialized value in pack at /home/src/perl/repoperls/installed-perls/perl/v5.12.5/a2da/lib/site_perl/5.12.5/Font/TTF/Cmap.pm line 330.
Use of uninitialized value in pack at /home/src/perl/repoperls/installed-perls/perl/v5.12.5/a2da/lib/site_perl/5.12.5/Font/TTF/Cmap.pm line 330.
Use of uninitialized value in pack at /home/src/perl/repoperls/installed-perls/perl/v5.12.5/a2da/lib/site_perl/5.12.5/Font/TTF/Cmap.pm line 330.
Use of uninitialized value in pack at /home/src/perl/repoperls/installed-perls/perl/v5.12.5/a2da/lib/site_perl/5.12.5/Font/TTF/Cmap.pm line 330.
Use of uninitialized value in pack at /home/src/perl/repoperls/installed-perls/perl/v5.12.5/a2da/lib/site_perl/5.12.5/Font/TTF/Cmap.pm line 330.
Use of uninitialized value in pack at /home/src/perl/repoperls/installed-perls/perl/v5.12.5/a2da/lib/site_perl/5.12.5/Font/TTF/Cmap.pm line 330.
Use of uninitialized value in pack at /home/src/perl/repoperls/installed-perls/perl/v5.12.5/a2da/lib/site_perl/5.12.5/Font/TTF/Cmap.pm line 330.
Use of uninitialized value in pack at /home/src/perl/repoperls/installed-perls/perl/v5.12.5/a2da/lib/site_perl/5.12.5/Font/TTF/Cmap.pm line 330.
Use of uninitialized value in pack at /home/src/perl/repoperls/installed-perls/perl/v5.12.5/a2da/lib/site_perl/5.12.5/Font/TTF/Cmap.pm line 330.
Use of uninitialized value in pack at /home/src/perl/repoperls/installed-perls/perl/v5.12.5/a2da/lib/site_perl/5.12.5/Font/TTF/Cmap.pm line 330.
Use of uninitialized value in pack at /home/src/perl/repoperls/installed-perls/perl/v5.12.5/a2da/lib/site_perl/5.12.5/Font/TTF/Cmap.pm line 330.
Use of uninitialized value in pack at /home/src/perl/repoperls/installed-perls/perl/v5.12.5/a2da/lib/site_perl/5.12.5/Font/TTF/Cmap.pm line 330.
Use of uninitialized value in pack at /home/src/perl/repoperls/installed-perls/perl/v5.12.5/a2da/lib/site_perl/5.12.5/Font/TTF/Cmap.pm line 330.
Use of uninitialized value in pack at /home/src/perl/repoperls/installed-perls/perl/v5.12.5/a2da/lib/site_perl/5.12.5/Font/TTF/Cmap.pm line 330.
Use of uninitialized value in pack at /home/src/perl/repoperls/installed-perls/perl/v5.12.5/a2da/lib/site_perl/5.12.5/Font/TTF/Cmap.pm line 330.
Use of uninitialized value in pack at /home/src/perl/repoperls/installed-perls/perl/v5.12.5/a2da/lib/site_perl/5.12.5/Font/TTF/Cmap.pm line 330.
Use of uninitialized value in pack at /home/src/perl/repoperls/installed-perls/perl/v5.12.5/a2da/lib/site_perl/5.12.5/Font/TTF/Cmap.pm line 330.
Use of uninitialized value in pack at /home/src/perl/repoperls/installed-perls/perl/v5.12.5/a2da/lib/site_perl/5.12.5/Font/TTF/Cmap.pm line 330.
Use of uninitialized value in pack at /home/src/perl/repoperls/installed-perls/perl/v5.12.5/a2da/lib/site_perl/5.12.5/Font/TTF/Cmap.pm line 330.
Use of uninitialized value in pack at /home/src/perl/repoperls/installed-perls/perl/v5.12.5/a2da/lib/site_perl/5.12.5/Font/TTF/Cmap.pm line 330.
Use of uninitialized value in pack at /home/src/perl/repoperls/installed-perls/perl/v5.12.5/a2da/lib/site_perl/5.12.5/Font/TTF/Cmap.pm line 330.
Use of uninitialized value in pack at /home/src/perl/repoperls/installed-perls/perl/v5.12.5/a2da/lib/site_perl/5.12.5/Font/TTF/Cmap.pm line 330.
Use of uninitialized value in pack at /home/src/perl/repoperls/installed-perls/perl/v5.12.5/a2da/lib/site_perl/5.12.5/Font/TTF/Cmap.pm line 330.
Use of uninitialized value in pack at /home/src/perl/repoperls/installed-perls/perl/v5.12.5/a2da/lib/site_perl/5.12.5/Font/TTF/Cmap.pm line 330.
Use of uninitialized value in pack at /home/src/perl/repoperls/installed-perls/perl/v5.12.5/a2da/lib/site_perl/5.12.5/Font/TTF/Cmap.pm line 330.
Use of uninitialized value in pack at /home/src/perl/repoperls/installed-perls/perl/v5.12.5/a2da/lib/site_perl/5.12.5/Font/TTF/Cmap.pm line 330.
Use of uninitialized value in pack at /home/src/perl/repoperls/installed-perls/perl/v5.12.5/a2da/lib/site_perl/5.12.5/Font/TTF/Cmap.pm line 330.
Use of uninitialized value in pack at /home/src/perl/repoperls/installed-perls/perl/v5.12.5/a2da/lib/site_perl/5.12.5/Font/TTF/Cmap.pm line 330.
Use of uninitialized value in pack at /home/src/perl/repoperls/installed-perls/perl/v5.12.5/a2da/lib/site_perl/5.12.5/Font/TTF/Cmap.pm line 330.
Use of uninitialized value in pack at /home/src/perl/repoperls/installed-perls/perl/v5.12.5/a2da/lib/site_perl/5.12.5/Font/TTF/Cmap.pm line 330.
Use of uninitialized value in pack at /home/src/perl/repoperls/installed-perls/perl/v5.12.5/a2da/lib/site_perl/5.12.5/Font/TTF/Cmap.pm line 330.
Use of uninitialized value in pack at /home/src/perl/repoperls/installed-perls/perl/v5.12.5/a2da/lib/site_perl/5.12.5/Font/TTF/Cmap.pm line 330.
Use of uninitialized value in pack at /home/src/perl/repoperls/installed-perls/perl/v5.12.5/a2da/lib/site_perl/5.12.5/Font/TTF/Cmap.pm line 330.
Use of uninitialized value in pack at /home/src/perl/repoperls/installed-perls/perl/v5.12.5/a2da/lib/site_perl/5.12.5/Font/TTF/Cmap.pm line 330.
Use of uninitialized value in pack at /home/src/perl/repoperls/installed-perls/perl/v5.12.5/a2da/lib/site_perl/5.12.5/Font/TTF/Cmap.pm line 330.
Use of uninitialized value in pack at /home/src/perl/repoperls/installed-perls/perl/v5.12.5/a2da/lib/site_perl/5.12.5/Font/TTF/Cmap.pm line 330.
Use of uninitialized value in pack at /home/src/perl/repoperls/installed-perls/perl/v5.12.5/a2da/lib/site_perl/5.12.5/Font/TTF/Cmap.pm line 330.
Use of uninitialized value in pack at /home/src/perl/repoperls/installed-perls/perl/v5.12.5/a2da/lib/site_perl/5.12.5/Font/TTF/Cmap.pm line 330.
Use of uninitialized value in pack at /home/src/perl/repoperls/installed-perls/perl/v5.12.5/a2da/lib/site_perl/5.12.5/Font/TTF/Cmap.pm line 330.
Use of uninitialized value in pack at /home/src/perl/repoperls/installed-perls/perl/v5.12.5/a2da/lib/site_perl/5.12.5/Font/TTF/Cmap.pm line 330.
Use of uninitialized value in pack at /home/src/perl/repoperls/installed-perls/perl/v5.12.5/a2da/lib/site_perl/5.12.5/Font/TTF/Cmap.pm line 330.
Use of uninitialized value in pack at /home/src/perl/repoperls/installed-perls/perl/v5.12.5/a2da/lib/site_perl/5.12.5/Font/TTF/Cmap.pm line 330.
Use of uninitialized value in pack at /home/src/perl/repoperls/installed-perls/perl/v5.12.5/a2da/lib/site_perl/5.12.5/Font/TTF/Cmap.pm line 330.
Use of uninitialized value in pack at /home/src/perl/repoperls/installed-perls/perl/v5.12.5/a2da/lib/site_perl/5.12.5/Font/TTF/Cmap.pm line 330.
Use of uninitialized value in pack at /home/src/perl/repoperls/installed-perls/perl/v5.12.5/a2da/lib/site_perl/5.12.5/Font/TTF/Cmap.pm line 330.
Use of uninitialized value in pack at /home/src/perl/repoperls/installed-perls/perl/v5.12.5/a2da/lib/site_perl/5.12.5/Font/TTF/Cmap.pm line 330.
Use of uninitialized value in pack at /home/src/perl/repoperls/installed-perls/perl/v5.12.5/a2da/lib/site_perl/5.12.5/Font/TTF/Cmap.pm line 330.
Use of uninitialized value in pack at /home/src/perl/repoperls/installed-perls/perl/v5.12.5/a2da/lib/site_perl/5.12.5/Font/TTF/Cmap.pm line 330.
Use of uninitialized value in pack at /home/src/perl/repoperls/installed-perls/perl/v5.12.5/a2da/lib/site_perl/5.12.5/Font/TTF/Cmap.pm line 330.
Use of uninitialized value in pack at /home/src/perl/repoperls/installed-perls/perl/v5.12.5/a2da/lib/site_perl/5.12.5/Font/TTF/Cmap.pm line 330.
Use of uninitialized value in pack at /home/src/perl/repoperls/installed-perls/perl/v5.12.5/a2da/lib/site_perl/5.12.5/Font/TTF/Cmap.pm line 330.
Use of uninitialized value in pack at /home/src/perl/repoperls/installed-perls/perl/v5.12.5/a2da/lib/site_perl/5.12.5/Font/TTF/Cmap.pm line 330.
Use of uninitialized value in pack at /home/src/perl/repoperls/installed-perls/perl/v5.12.5/a2da/lib/site_perl/5.12.5/Font/TTF/Cmap.pm line 330.
Use of uninitialized value in pack at /home/src/perl/repoperls/installed-perls/perl/v5.12.5/a2da/lib/site_perl/5.12.5/Font/TTF/Cmap.pm line 330.
Use of uninitialized value in pack at /home/src/perl/repoperls/installed-perls/perl/v5.12.5/a2da/lib/site_perl/5.12.5/Font/TTF/Cmap.pm line 330.
Use of uninitialized value in pack at /home/src/perl/repoperls/installed-perls/perl/v5.12.5/a2da/lib/site_perl/5.12.5/Font/TTF/Cmap.pm line 330.
Use of uninitialized value in pack at /home/src/perl/repoperls/installed-perls/perl/v5.12.5/a2da/lib/site_perl/5.12.5/Font/TTF/Cmap.pm line 330.
Use of uninitialized value in pack at /home/src/perl/repoperls/installed-perls/perl/v5.12.5/a2da/lib/site_perl/5.12.5/Font/TTF/Cmap.pm line 330.
Use of uninitialized value in pack at /home/src/perl/repoperls/installed-perls/perl/v5.12.5/a2da/lib/site_perl/5.12.5/Font/TTF/Cmap.pm line 330.
Use of uninitialized value in pack at /home/src/perl/repoperls/installed-perls/perl/v5.12.5/a2da/lib/site_perl/5.12.5/Font/TTF/Cmap.pm line 330.
Use of uninitialized value in pack at /home/src/perl/repoperls/installed-perls/perl/v5.12.5/a2da/lib/site_perl/5.12.5/Font/TTF/Cmap.pm line 330.
Use of uninitialized value in pack at /home/src/perl/repoperls/installed-perls/perl/v5.12.5/a2da/lib/site_perl/5.12.5/Font/TTF/Cmap.pm line 330.
Use of uninitialized value in pack at /home/src/perl/repoperls/installed-perls/perl/v5.12.5/a2da/lib/site_perl/5.12.5/Font/TTF/Cmap.pm line 330.
Use of uninitialized value in pack at /home/src/perl/repoperls/installed-perls/perl/v5.12.5/a2da/lib/site_perl/5.12.5/Font/TTF/Cmap.pm line 330.
Use of uninitialized value in pack at /home/src/perl/repoperls/installed-perls/perl/v5.12.5/a2da/lib/site_perl/5.12.5/Font/TTF/Cmap.pm line 330.
Use of uninitialized value in pack at /home/src/perl/repoperls/installed-perls/perl/v5.12.5/a2da/lib/site_perl/5.12.5/Font/TTF/Cmap.pm line 330.
Use of uninitialized value in pack at /home/src/perl/repoperls/installed-perls/perl/v5.12.5/a2da/lib/site_perl/5.12.5/Font/TTF/Cmap.pm line 330.
Use of uninitialized value in pack at /home/src/perl/repoperls/installed-perls/perl/v5.12.5/a2da/lib/site_perl/5.12.5/Font/TTF/Cmap.pm line 330.
Use of uninitialized value in pack at /home/src/perl/repoperls/installed-perls/perl/v5.12.5/a2da/lib/site_perl/5.12.5/Font/TTF/Cmap.pm line 330.
Use of uninitialized value in pack at /home/src/perl/repoperls/installed-perls/perl/v5.12.5/a2da/lib/site_perl/5.12.5/Font/TTF/Cmap.pm line 330.
Use of uninitialized value in pack at /home/src/perl/repoperls/installed-perls/perl/v5.12.5/a2da/lib/site_perl/5.12.5/Font/TTF/Cmap.pm line 330.
Use of uninitialized value in pack at /home/src/perl/repoperls/installed-perls/perl/v5.12.5/a2da/lib/site_perl/5.12.5/Font/TTF/Cmap.pm line 330.
Use of uninitialized value in pack at /home/src/perl/repoperls/installed-perls/perl/v5.12.5/a2da/lib/site_perl/5.12.5/Font/TTF/Cmap.pm line 330.
Use of uninitialized value in pack at /home/src/perl/repoperls/installed-perls/perl/v5.12.5/a2da/lib/site_perl/5.12.5/Font/TTF/Cmap.pm line 330.
Use of uninitialized value in pack at /home/src/perl/repoperls/installed-perls/perl/v5.12.5/a2da/lib/site_perl/5.12.5/Font/TTF/Cmap.pm line 330.
Use of uninitialized value in pack at /home/src/perl/repoperls/installed-perls/perl/v5.12.5/a2da/lib/site_perl/5.12.5/Font/TTF/Cmap.pm line 330.
Use of uninitialized value in pack at /home/src/perl/repoperls/installed-perls/perl/v5.12.5/a2da/lib/site_perl/5.12.5/Font/TTF/Cmap.pm line 330.
Use of uninitialized value in pack at /home/src/perl/repoperls/installed-perls/perl/v5.12.5/a2da/lib/site_perl/5.12.5/Font/TTF/Cmap.pm line 330.
Use of uninitialized value in pack at /home/src/perl/repoperls/installed-perls/perl/v5.12.5/a2da/lib/site_perl/5.12.5/Font/TTF/Cmap.pm line 330.
Use of uninitialized value in pack at /home/src/perl/repoperls/installed-perls/perl/v5.12.5/a2da/lib/site_perl/5.12.5/Font/TTF/Cmap.pm line 330.
Use of uninitialized value in pack at /home/src/perl/repoperls/installed-perls/perl/v5.12.5/a2da/lib/site_perl/5.12.5/Font/TTF/Cmap.pm line 330.
Use of uninitialized value in pack at /home/src/perl/repoperls/installed-perls/perl/v5.12.5/a2da/lib/site_perl/5.12.5/Font/TTF/Cmap.pm line 330.
Use of uninitialized value in pack at /home/src/perl/repoperls/installed-perls/perl/v5.12.5/a2da/lib/site_perl/5.12.5/Font/TTF/Cmap.pm line 330.
Use of uninitialized value in pack at /home/src/perl/repoperls/installed-perls/perl/v5.12.5/a2da/lib/site_perl/5.12.5/Font/TTF/Cmap.pm line 330.
Use of uninitialized value in pack at /home/src/perl/repoperls/installed-perls/perl/v5.12.5/a2da/lib/site_perl/5.12.5/Font/TTF/Cmap.pm line 330.
Use of uninitialized value in pack at /home/src/perl/repoperls/installed-perls/perl/v5.12.5/a2da/lib/site_perl/5.12.5/Font/TTF/Cmap.pm line 330.
Use of uninitialized value in pack at /home/src/perl/repoperls/installed-perls/perl/v5.12.5/a2da/lib/site_perl/5.12.5/Font/TTF/Cmap.pm line 330.
Use of uninitialized value in pack at /home/src/perl/repoperls/installed-perls/perl/v5.12.5/a2da/lib/site_perl/5.12.5/Font/TTF/Cmap.pm line 330.
Use of uninitialized value in pack at /home/src/perl/repoperls/installed-perls/perl/v5.12.5/a2da/lib/site_perl/5.12.5/Font/TTF/Cmap.pm line 330.
Use of uninitialized value in pack at /home/src/perl/repoperls/installed-perls/perl/v5.12.5/a2da/lib/site_perl/5.12.5/Font/TTF/Cmap.pm line 330.
Use of uninitialized value in pack at /home/src/perl/repoperls/installed-perls/perl/v5.12.5/a2da/lib/site_perl/5.12.5/Font/TTF/Cmap.pm line 330.
Use of uninitialized value in pack at /home/src/perl/repoperls/installed-perls/perl/v5.12.5/a2da/lib/site_perl/5.12.5/Font/TTF/Cmap.pm line 330.
Use of uninitialized value in pack at /home/src/perl/repoperls/installed-perls/perl/v5.12.5/a2da/lib/site_perl/5.12.5/Font/TTF/Cmap.pm line 330.
Use of uninitialized value in pack at /home/src/perl/repoperls/installed-perls/perl/v5.12.5/a2da/lib/site_perl/5.12.5/Font/TTF/Cmap.pm line 330.
Use of uninitialized value in pack at /home/src/perl/repoperls/installed-perls/perl/v5.12.5/a2da/lib/site_perl/5.12.5/Font/TTF/Cmap.pm line 330.
Use of uninitialized value in pack at /home/src/perl/repoperls/installed-perls/perl/v5.12.5/a2da/lib/site_perl/5.12.5/Font/TTF/Cmap.pm line 330.
Use of uninitialized value in pack at /home/src/perl/repoperls/installed-perls/perl/v5.12.5/a2da/lib/site_perl/5.12.5/Font/TTF/Cmap.pm line 330.
Use of uninitialized value in pack at /home/src/perl/repoperls/installed-perls/perl/v5.12.5/a2da/lib/site_perl/5.12.5/Font/TTF/Cmap.pm line 330.
Use of uninitialized value in pack at /home/src/perl/repoperls/installed-perls/perl/v5.12.5/a2da/lib/site_perl/5.12.5/Font/TTF/Cmap.pm line 330.
Use of uninitialized value in pack at /home/src/perl/repoperls/installed-perls/perl/v5.12.5/a2da/lib/site_perl/5.12.5/Font/TTF/Cmap.pm line 330.
Use of uninitialized value in pack at /home/src/perl/repoperls/installed-perls/perl/v5.12.5/a2da/lib/site_perl/5.12.5/Font/TTF/Cmap.pm line 330.
Use of uninitialized value in pack at /home/src/perl/repoperls/installed-perls/perl/v5.12.5/a2da/lib/site_perl/5.12.5/Font/TTF/Cmap.pm line 330.
Use of uninitialized value in pack at /home/src/perl/repoperls/installed-perls/perl/v5.12.5/a2da/lib/site_perl/5.12.5/Font/TTF/Cmap.pm line 330.
Use of uninitialized value in pack at /home/src/perl/repoperls/installed-perls/perl/v5.12.5/a2da/lib/site_perl/5.12.5/Font/TTF/Cmap.pm line 330.
Use of uninitialized value in pack at /home/src/perl/repoperls/installed-perls/perl/v5.12.5/a2da/lib/site_perl/5.12.5/Font/TTF/Cmap.pm line 330.
Use of uninitialized value in pack at /home/src/perl/repoperls/installed-perls/perl/v5.12.5/a2da/lib/site_perl/5.12.5/Font/TTF/Cmap.pm line 330.
Use of uninitialized value in pack at /home/src/perl/repoperls/installed-perls/perl/v5.12.5/a2da/lib/site_perl/5.12.5/Font/TTF/Cmap.pm line 330.
Use of uninitialized value in pack at /home/src/perl/repoperls/installed-perls/perl/v5.12.5/a2da/lib/site_perl/5.12.5/Font/TTF/Cmap.pm line 330.
Use of uninitialized value in pack at /home/src/perl/repoperls/installed-perls/perl/v5.12.5/a2da/lib/site_perl/5.12.5/Font/TTF/Cmap.pm line 330.
Use of uninitialized value in pack at /home/src/perl/repoperls/installed-perls/perl/v5.12.5/a2da/lib/site_perl/5.12.5/Font/TTF/Cmap.pm line 330.
Use of uninitialized value in pack at /home/src/perl/repoperls/installed-perls/perl/v5.12.5/a2da/lib/site_perl/5.12.5/Font/TTF/Cmap.pm line 330.
Use of uninitialized value in pack at /home/src/perl/repoperls/installed-perls/perl/v5.12.5/a2da/lib/site_perl/5.12.5/Font/TTF/Cmap.pm line 330.
Use of uninitialized value in pack at /home/src/perl/repoperls/installed-perls/perl/v5.12.5/a2da/lib/site_perl/5.12.5/Font/TTF/Cmap.pm line 330.
Use of uninitialized value in pack at /home/src/perl/repoperls/installed-perls/perl/v5.12.5/a2da/lib/site_perl/5.12.5/Font/TTF/Cmap.pm line 330.
Use of uninitialized value in pack at /home/src/perl/repoperls/installed-perls/perl/v5.12.5/a2da/lib/site_perl/5.12.5/Font/TTF/Cmap.pm line 330.
Use of uninitialized value in pack at /home/src/perl/repoperls/installed-perls/perl/v5.12.5/a2da/lib/site_perl/5.12.5/Font/TTF/Cmap.pm line 330.
Use of uninitialized value in pack at /home/src/perl/repoperls/installed-perls/perl/v5.12.5/a2da/lib/site_perl/5.12.5/Font/TTF/Cmap.pm line 330.
Use of uninitialized value in pack at /home/src/perl/repoperls/installed-perls/perl/v5.12.5/a2da/lib/site_perl/5.12.5/Font/TTF/Cmap.pm line 330.
Use of uninitialized value in pack at /home/src/perl/repoperls/installed-perls/perl/v5.12.5/a2da/lib/site_perl/5.12.5/Font/TTF/Cmap.pm line 330.
Use of uninitialized value in pack at /home/src/perl/repoperls/installed-perls/perl/v5.12.5/a2da/lib/site_perl/5.12.5/Font/TTF/Cmap.pm line 330.
Use of uninitialized value in pack at /home/src/perl/repoperls/installed-perls/perl/v5.12.5/a2da/lib/site_perl/5.12.5/Font/TTF/Cmap.pm line 330.
Use of uninitialized value in pack at /home/src/perl/repoperls/installed-perls/perl/v5.12.5/a2da/lib/site_perl/5.12.5/Font/TTF/Cmap.pm line 330.
Use of uninitialized value in pack at /home/src/perl/repoperls/installed-perls/perl/v5.12.5/a2da/lib/site_perl/5.12.5/Font/TTF/Cmap.pm line 330.
Use of uninitialized value in pack at /home/src/perl/repoperls/installed-perls/perl/v5.12.5/a2da/lib/site_perl/5.12.5/Font/TTF/Cmap.pm line 330.
Use of uninitialized value in pack at /home/src/perl/repoperls/installed-perls/perl/v5.12.5/a2da/lib/site_perl/5.12.5/Font/TTF/Cmap.pm line 330.
Use of uninitialized value in pack at /home/src/perl/repoperls/installed-perls/perl/v5.12.5/a2da/lib/site_perl/5.12.5/Font/TTF/Cmap.pm line 330.
Use of uninitialized value in pack at /home/src/perl/repoperls/installed-perls/perl/v5.12.5/a2da/lib/site_perl/5.12.5/Font/TTF/Cmap.pm line 330.
Use of uninitialized value in pack at /home/src/perl/repoperls/installed-perls/perl/v5.12.5/a2da/lib/site_perl/5.12.5/Font/TTF/Cmap.pm line 330.
Use of uninitialized value in pack at /home/src/perl/repoperls/installed-perls/perl/v5.12.5/a2da/lib/site_perl/5.12.5/Font/TTF/Cmap.pm line 330.
Use of uninitialized value in pack at /home/src/perl/repoperls/installed-perls/perl/v5.12.5/a2da/lib/site_perl/5.12.5/Font/TTF/Cmap.pm line 330.
Use of uninitialized value in pack at /home/src/perl/repoperls/installed-perls/perl/v5.12.5/a2da/lib/site_perl/5.12.5/Font/TTF/Cmap.pm line 330.
Use of uninitialized value in pack at /home/src/perl/repoperls/installed-perls/perl/v5.12.5/a2da/lib/site_perl/5.12.5/Font/TTF/Cmap.pm line 330.
Use of uninitialized value in pack at /home/src/perl/repoperls/installed-perls/perl/v5.12.5/a2da/lib/site_perl/5.12.5/Font/TTF/Cmap.pm line 330.
Use of uninitialized value in pack at /home/src/perl/repoperls/installed-perls/perl/v5.12.5/a2da/lib/site_perl/5.12.5/Font/TTF/Cmap.pm line 330.
Use of uninitialized value in pack at /home/src/perl/repoperls/installed-perls/perl/v5.12.5/a2da/lib/site_perl/5.12.5/Font/TTF/Cmap.pm line 330.
Use of uninitialized value in pack at /home/src/perl/repoperls/installed-perls/perl/v5.12.5/a2da/lib/site_perl/5.12.5/Font/TTF/Cmap.pm line 330.
Use of uninitialized value in pack at /home/src/perl/repoperls/installed-perls/perl/v5.12.5/a2da/lib/site_perl/5.12.5/Font/TTF/Cmap.pm line 330.
Use of uninitialized value in pack at /home/src/perl/repoperls/installed-perls/perl/v5.12.5/a2da/lib/site_perl/5.12.5/Font/TTF/Cmap.pm line 330.
Use of uninitialized value in pack at /home/src/perl/repoperls/installed-perls/perl/v5.12.5/a2da/lib/site_perl/5.12.5/Font/TTF/Cmap.pm line 330.
Use of uninitialized value in pack at /home/src/perl/repoperls/installed-perls/perl/v5.12.5/a2da/lib/site_perl/5.12.5/Font/TTF/Cmap.pm line 330.
Use of uninitialized value in pack at /home/src/perl/repoperls/installed-perls/perl/v5.12.5/a2da/lib/site_perl/5.12.5/Font/TTF/Cmap.pm line 330.
Use of uninitialized value in pack at /home/src/perl/repoperls/installed-perls/perl/v5.12.5/a2da/lib/site_perl/5.12.5/Font/TTF/Cmap.pm line 330.
Use of uninitialized value in pack at /home/src/perl/repoperls/installed-perls/perl/v5.12.5/a2da/lib/site_perl/5.12.5/Font/TTF/Cmap.pm line 330.
Use of uninitialized value in pack at /home/src/perl/repoperls/installed-perls/perl/v5.12.5/a2da/lib/site_perl/5.12.5/Font/TTF/Cmap.pm line 330.
Use of uninitialized value in pack at /home/src/perl/repoperls/installed-perls/perl/v5.12.5/a2da/lib/site_perl/5.12.5/Font/TTF/Cmap.pm line 330.
Use of uninitialized value in pack at /home/src/perl/repoperls/installed-perls/perl/v5.12.5/a2da/lib/site_perl/5.12.5/Font/TTF/Cmap.pm line 330.
Use of uninitialized value in pack at /home/src/perl/repoperls/installed-perls/perl/v5.12.5/a2da/lib/site_perl/5.12.5/Font/TTF/Cmap.pm line 330.
Use of uninitialized value in pack at /home/src/perl/repoperls/installed-perls/perl/v5.12.5/a2da/lib/site_perl/5.12.5/Font/TTF/Cmap.pm line 330.
Use of uninitialized value in pack at /home/src/perl/repoperls/installed-perls/perl/v5.12.5/a2da/lib/site_perl/5.12.5/Font/TTF/Cmap.pm line 330.
Use of uninitialized value in pack at /home/src/perl/repoperls/installed-perls/perl/v5.12.5/a2da/lib/site_perl/5.12.5/Font/TTF/Cmap.pm line 330.
Use of uninitialized value in pack at /home/src/perl/repoperls/installed-perls/perl/v5.12.5/a2da/lib/site_perl/5.12.5/Font/TTF/Cmap.pm line 330.
Use of uninitialized value in pack at /home/src/perl/repoperls/installed-perls/perl/v5.12.5/a2da/lib/site_perl/5.12.5/Font/TTF/Cmap.pm line 330.
Use of uninitialized value in pack at /home/src/perl/repoperls/installed-perls/perl/v5.12.5/a2da/lib/site_perl/5.12.5/Font/TTF/Cmap.pm line 330.
Use of uninitialized value in pack at /home/src/perl/repoperls/installed-perls/perl/v5.12.5/a2da/lib/site_perl/5.12.5/Font/TTF/Cmap.pm line 330.
Use of uninitialized value in pack at /home/src/perl/repoperls/installed-perls/perl/v5.12.5/a2da/lib/site_perl/5.12.5/Font/TTF/Cmap.pm line 330.
Use of uninitialized value in pack at /home/src/perl/repoperls/installed-perls/perl/v5.12.5/a2da/lib/site_perl/5.12.5/Font/TTF/Cmap.pm line 330.
Use of uninitialized value in pack at /home/src/perl/repoperls/installed-perls/perl/v5.12.5/a2da/lib/site_perl/5.12.5/Font/TTF/Cmap.pm line 330.
Use of uninitialized value in pack at /home/src/perl/repoperls/installed-perls/perl/v5.12.5/a2da/lib/site_perl/5.12.5/Font/TTF/Cmap.pm line 330.
Use of uninitialized value in pack at /home/src/perl/repoperls/installed-perls/perl/v5.12.5/a2da/lib/site_perl/5.12.5/Font/TTF/Cmap.pm line 330.
Use of uninitialized value in pack at /home/src/perl/repoperls/installed-perls/perl/v5.12.5/a2da/lib/site_perl/5.12.5/Font/TTF/Cmap.pm line 330.
Use of uninitialized value in pack at /home/src/perl/repoperls/installed-perls/perl/v5.12.5/a2da/lib/site_perl/5.12.5/Font/TTF/Cmap.pm line 330.
Use of uninitialized value in pack at /home/src/perl/repoperls/installed-perls/perl/v5.12.5/a2da/lib/site_perl/5.12.5/Font/TTF/Cmap.pm line 330.
Use of uninitialized value in pack at /home/src/perl/repoperls/installed-perls/perl/v5.12.5/a2da/lib/site_perl/5.12.5/Font/TTF/Cmap.pm line 330.
Use of uninitialized value in pack at /home/src/perl/repoperls/installed-perls/perl/v5.12.5/a2da/lib/site_perl/5.12.5/Font/TTF/Cmap.pm line 330.
Use of uninitialized value in pack at /home/src/perl/repoperls/installed-perls/perl/v5.12.5/a2da/lib/site_perl/5.12.5/Font/TTF/Cmap.pm line 330.
Use of uninitialized value in pack at /home/src/perl/repoperls/installed-perls/perl/v5.12.5/a2da/lib/site_perl/5.12.5/Font/TTF/Cmap.pm line 330.
Use of uninitialized value in pack at /home/src/perl/repoperls/installed-perls/perl/v5.12.5/a2da/lib/site_perl/5.12.5/Font/TTF/Cmap.pm line 330.
Use of uninitialized value in pack at /home/src/perl/repoperls/installed-perls/perl/v5.12.5/a2da/lib/site_perl/5.12.5/Font/TTF/Cmap.pm line 330.
Use of uninitialized value in pack at /home/src/perl/repoperls/installed-perls/perl/v5.12.5/a2da/lib/site_perl/5.12.5/Font/TTF/Cmap.pm line 330.
Use of uninitialized value in pack at /home/src/perl/repoperls/installed-perls/perl/v5.12.5/a2da/lib/site_perl/5.12.5/Font/TTF/Cmap.pm line 330.
Use of uninitialized value in pack at /home/src/perl/repoperls/installed-perls/perl/v5.12.5/a2da/lib/site_perl/5.12.5/Font/TTF/Cmap.pm line 330.
Use of uninitialized value in pack at /home/src/perl/repoperls/installed-perls/perl/v5.12.5/a2da/lib/site_perl/5.12.5/Font/TTF/Cmap.pm line 330.
Filehandle $fh opened only for output at /home/src/perl/repoperls/installed-perls/perl/v5.12.5/a2da/lib/5.12.5/x86_64-linux-thread-multi-ld/IO/Handle.pm line 445.
Filehandle $fh opened only for output at /home/src/perl/repoperls/installed-perls/perl/v5.12.5/a2da/lib/5.12.5/x86_64-linux-thread-multi-ld/IO/Handle.pm line 445.
Filehandle $fh opened only for output at /home/src/perl/repoperls/installed-perls/perl/v5.12.5/a2da/lib/5.12.5/x86_64-linux-thread-multi-ld/IO/Handle.pm line 445.
Filehandle $fh opened only for output at /home/src/perl/repoperls/installed-perls/perl/v5.12.5/a2da/lib/5.12.5/x86_64-linux-thread-multi-ld/IO/Handle.pm line 445.
Argument " CSUM" isn't numeric in sort at /home/src/perl/repoperls/installed-perls/perl/v5.12.5/a2da/lib/site_perl/5.12.5/Font/TTF/Hdmx.pm line 83.
Argument " isDirty" isn't numeric in sort at /home/src/perl/repoperls/installed-perls/perl/v5.12.5/a2da/lib/site_perl/5.12.5/Font/TTF/Hdmx.pm line 83.
Argument " LENGTH" isn't numeric in sort at /home/src/perl/repoperls/installed-perls/perl/v5.12.5/a2da/lib/site_perl/5.12.5/Font/TTF/Hdmx.pm line 83.
Argument " NAME" isn't numeric in sort at /home/src/perl/repoperls/installed-perls/perl/v5.12.5/a2da/lib/site_perl/5.12.5/Font/TTF/Hdmx.pm line 83.
Argument " OFFSET" isn't numeric in sort at /home/src/perl/repoperls/installed-perls/perl/v5.12.5/a2da/lib/site_perl/5.12.5/Font/TTF/Hdmx.pm line 83.
Argument " INFILE" isn't numeric in sort at /home/src/perl/repoperls/installed-perls/perl/v5.12.5/a2da/lib/site_perl/5.12.5/Font/TTF/Hdmx.pm line 83.
Argument " subsetdone" isn't numeric in sort at /home/src/perl/repoperls/installed-perls/perl/v5.12.5/a2da/lib/site_perl/5.12.5/Font/TTF/Hdmx.pm line 83.
Argument " PARENT" isn't numeric in sort at /home/src/perl/repoperls/installed-perls/perl/v5.12.5/a2da/lib/site_perl/5.12.5/Font/TTF/Hdmx.pm line 83.
Argument "Version" isn't numeric in sort at /home/src/perl/repoperls/installed-perls/perl/v5.12.5/a2da/lib/site_perl/5.12.5/Font/TTF/Hdmx.pm line 83.
Argument " ZLENGTH" isn't numeric in sort at /home/src/perl/repoperls/installed-perls/perl/v5.12.5/a2da/lib/site_perl/5.12.5/Font/TTF/Hdmx.pm line 83.
Argument " read" isn't numeric in sort at /home/src/perl/repoperls/installed-perls/perl/v5.12.5/a2da/lib/site_perl/5.12.5/Font/TTF/Hdmx.pm line 83.
Argument "Num" isn't numeric in sort at /home/src/perl/repoperls/installed-perls/perl/v5.12.5/a2da/lib/site_perl/5.12.5/Font/TTF/Hdmx.pm line 83.
Filehandle $fh opened only for output at /home/src/perl/repoperls/installed-perls/perl/v5.12.5/a2da/lib/5.12.5/x86_64-linux-thread-multi-ld/IO/Handle.pm line 445.
Filehandle $fh opened only for output at /home/src/perl/repoperls/installed-perls/perl/v5.12.5/a2da/lib/5.12.5/x86_64-linux-thread-multi-ld/IO/Handle.pm line 445.
Filehandle $fh opened only for output at /home/src/perl/repoperls/installed-perls/perl/v5.12.5/a2da/lib/5.12.5/x86_64-linux-thread-multi-ld/IO/Handle.pm line 445.
Filehandle $fh opened only for output at /home/src/perl/repoperls/installed-perls/perl/v5.12.5/a2da/lib/5.12.5/x86_64-linux-thread-multi-ld/IO/Handle.pm line 445.
Filehandle $fh opened only for output at /home/src/perl/repoperls/installed-perls/perl/v5.12.5/a2da/lib/5.12.5/x86_64-linux-thread-multi-ld/IO/Handle.pm line 445.
Filehandle $fh opened only for output at /home/src/perl/repoperls/installed-perls/perl/v5.12.5/a2da/lib/5.12.5/x86_64-linux-thread-multi-ld/IO/Handle.pm line 445.
Filehandle $fh opened only for output at /home/src/perl/repoperls/installed-perls/perl/v5.12.5/a2da/lib/5.12.5/x86_64-linux-thread-multi-ld/IO/Handle.pm line 445.
Filehandle $fh opened only for output at /home/src/perl/repoperls/installed-perls/perl/v5.12.5/a2da/lib/5.12.5/x86_64-linux-thread-multi-ld/IO/Handle.pm line 445.
Filehandle $fh opened only for output at /home/src/perl/repoperls/installed-perls/perl/v5.12.5/a2da/lib/5.12.5/x86_64-linux-thread-multi-ld/IO/Handle.pm line 445.
Filehandle $fh opened only for output at /home/src/perl/repoperls/installed-perls/perl/v5.12.5/a2da/lib/5.12.5/x86_64-linux-thread-multi-ld/IO/Handle.pm line 445.
t/basic.t ..................... ok
Use of uninitialized value in array element at /home/src/perl/repoperls/installed-perls/perl/v5.12.5/a2da/lib/site_perl/5.12.5/Font/TTF/OS_2.pm line 302.
Use of uninitialized value in array element at /home/src/perl/repoperls/installed-perls/perl/v5.12.5/a2da/lib/site_perl/5.12.5/Font/TTF/OS_2.pm line 302.
Use of uninitialized value in array element at /home/src/perl/repoperls/installed-perls/perl/v5.12.5/a2da/lib/site_perl/5.12.5/Font/TTF/OS_2.pm line 302.
Use of uninitialized value in array element at /home/src/perl/repoperls/installed-perls/perl/v5.12.5/a2da/lib/site_perl/5.12.5/Font/TTF/OS_2.pm line 302.
Use of uninitialized value in array element at /home/src/perl/repoperls/installed-perls/perl/v5.12.5/a2da/lib/site_perl/5.12.5/Font/TTF/OS_2.pm line 302.
Use of uninitialized value in array element at /home/src/perl/repoperls/installed-perls/perl/v5.12.5/a2da/lib/site_perl/5.12.5/Font/TTF/OS_2.pm line 302.
Use of uninitialized value in array element at /home/src/perl/repoperls/installed-perls/perl/v5.12.5/a2da/lib/site_perl/5.12.5/Font/TTF/OS_2.pm line 302.
Use of uninitialized value in array element at /home/src/perl/repoperls/installed-perls/perl/v5.12.5/a2da/lib/site_perl/5.12.5/Font/TTF/OS_2.pm line 302.
Use of uninitialized value in array element at /home/src/perl/repoperls/installed-perls/perl/v5.12.5/a2da/lib/site_perl/5.12.5/Font/TTF/OS_2.pm line 302.
Use of uninitialized value in array element at /home/src/perl/repoperls/installed-perls/perl/v5.12.5/a2da/lib/site_perl/5.12.5/Font/TTF/OS_2.pm line 302.
Use of uninitialized value in array element at /home/src/perl/repoperls/installed-perls/perl/v5.12.5/a2da/lib/site_perl/5.12.5/Font/TTF/OS_2.pm line 302.
Use of uninitialized value in array element at /home/src/perl/repoperls/installed-perls/perl/v5.12.5/a2da/lib/site_perl/5.12.5/Font/TTF/OS_2.pm line 302.
Use of uninitialized value in array element at /home/src/perl/repoperls/installed-perls/perl/v5.12.5/a2da/lib/site_perl/5.12.5/Font/TTF/OS_2.pm line 302.
Use of uninitialized value in array element at /home/src/perl/repoperls/installed-perls/perl/v5.12.5/a2da/lib/site_perl/5.12.5/Font/TTF/OS_2.pm line 302.
Use of uninitialized value in array element at /home/src/perl/repoperls/installed-perls/perl/v5.12.5/a2da/lib/site_perl/5.12.5/Font/TTF/OS_2.pm line 302.
Use of uninitialized value in array element at /home/src/perl/repoperls/installed-perls/perl/v5.12.5/a2da/lib/site_perl/5.12.5/Font/TTF/OS_2.pm line 302.
Use of uninitialized value in array element at /home/src/perl/repoperls/installed-perls/perl/v5.12.5/a2da/lib/site_perl/5.12.5/Font/TTF/OS_2.pm line 302.
Use of uninitialized value in array element at /home/src/perl/repoperls/installed-perls/perl/v5.12.5/a2da/lib/site_perl/5.12.5/Font/TTF/OS_2.pm line 302.
Use of uninitialized value in array element at /home/src/perl/repoperls/installed-perls/perl/v5.12.5/a2da/lib/site_perl/5.12.5/Font/TTF/OS_2.pm line 302.
Use of uninitialized value in array element at /home/src/perl/repoperls/installed-perls/perl/v5.12.5/a2da/lib/site_perl/5.12.5/Font/TTF/OS_2.pm line 302.
Use of uninitialized value in array element at /home/src/perl/repoperls/installed-perls/perl/v5.12.5/a2da/lib/site_perl/5.12.5/Font/TTF/OS_2.pm line 302.
Use of uninitialized value in array element at /home/src/perl/repoperls/installed-perls/perl/v5.12.5/a2da/lib/site_perl/5.12.5/Font/TTF/OS_2.pm line 302.
Use of uninitialized value in array element at /home/src/perl/repoperls/installed-perls/perl/v5.12.5/a2da/lib/site_perl/5.12.5/Font/TTF/OS_2.pm line 302.
Use of uninitialized value in array element at /home/src/perl/repoperls/installed-perls/perl/v5.12.5/a2da/lib/site_perl/5.12.5/Font/TTF/OS_2.pm line 302.
Use of uninitialized value in array element at /home/src/perl/repoperls/installed-perls/perl/v5.12.5/a2da/lib/site_perl/5.12.5/Font/TTF/OS_2.pm line 303.
Use of uninitialized value $xMin in numeric lt (<) at /home/src/perl/repoperls/installed-perls/perl/v5.12.5/a2da/lib/site_perl/5.12.5/Font/TTF/Head.pm line 170.
Use of uninitialized value $yMin in numeric lt (<) at /home/src/perl/repoperls/installed-perls/perl/v5.12.5/a2da/lib/site_perl/5.12.5/Font/TTF/Head.pm line 171.
Use of uninitialized value $xMax in numeric gt (>) at /home/src/perl/repoperls/installed-perls/perl/v5.12.5/a2da/lib/site_perl/5.12.5/Font/TTF/Head.pm line 172.
Use of uninitialized value $yMax in numeric gt (>) at /home/src/perl/repoperls/installed-perls/perl/v5.12.5/a2da/lib/site_perl/5.12.5/Font/TTF/Head.pm line 173.
Use of uninitialized value $maw in numeric gt (>) at /home/src/perl/repoperls/installed-perls/perl/v5.12.5/a2da/lib/site_perl/5.12.5/Font/TTF/Hhea.pm line 132.
Use of uninitialized value $mlsb in numeric lt (<) at /home/src/perl/repoperls/installed-perls/perl/v5.12.5/a2da/lib/site_perl/5.12.5/Font/TTF/Hhea.pm line 133.
Use of uninitialized value $mrsb in numeric lt (<) at /home/src/perl/repoperls/installed-perls/perl/v5.12.5/a2da/lib/site_perl/5.12.5/Font/TTF/Hhea.pm line 134.
Use of uninitialized value $mext in numeric gt (>) at /home/src/perl/repoperls/installed-perls/perl/v5.12.5/a2da/lib/site_perl/5.12.5/Font/TTF/Hhea.pm line 135.
Use of uninitialized value in numeric gt (>) at /home/src/perl/repoperls/installed-perls/perl/v5.12.5/a2da/lib/site_perl/5.12.5/Font/TTF/Maxp.pm line 152.
Use of uninitialized value in numeric gt (>) at /home/src/perl/repoperls/installed-perls/perl/v5.12.5/a2da/lib/site_perl/5.12.5/Font/TTF/Maxp.pm line 152.
Use of uninitialized value in numeric gt (>) at /home/src/perl/repoperls/installed-perls/perl/v5.12.5/a2da/lib/site_perl/5.12.5/Font/TTF/Maxp.pm line 152.
Use of uninitialized value $n[2] in numeric gt (>) at /home/src/perl/repoperls/installed-perls/perl/v5.12.5/a2da/lib/site_perl/5.12.5/Font/TTF/Maxp.pm line 152.
Use of uninitialized value in numeric gt (>) at /home/src/perl/repoperls/installed-perls/perl/v5.12.5/a2da/lib/site_perl/5.12.5/Font/TTF/Maxp.pm line 152.
Use of uninitialized value $n[3] in numeric gt (>) at /home/src/perl/repoperls/installed-perls/perl/v5.12.5/a2da/lib/site_perl/5.12.5/Font/TTF/Maxp.pm line 152.
Use of uninitialized value in numeric gt (>) at /home/src/perl/repoperls/installed-perls/perl/v5.12.5/a2da/lib/site_perl/5.12.5/Font/TTF/Maxp.pm line 152.
Use of uninitialized value in numeric gt (>) at /home/src/perl/repoperls/installed-perls/perl/v5.12.5/a2da/lib/site_perl/5.12.5/Font/TTF/Maxp.pm line 152.
Use of uninitialized value $n[5] in numeric gt (>) at /home/src/perl/repoperls/installed-perls/perl/v5.12.5/a2da/lib/site_perl/5.12.5/Font/TTF/Maxp.pm line 152.
Use of uninitialized value in numeric gt (>) at /home/src/perl/repoperls/installed-perls/perl/v5.12.5/a2da/lib/site_perl/5.12.5/Font/TTF/Maxp.pm line 152.
Use of uninitialized value in numeric gt (>) at /home/src/perl/repoperls/installed-perls/perl/v5.12.5/a2da/lib/site_perl/5.12.5/Font/TTF/Maxp.pm line 152.
Use of uninitialized value $n[2] in numeric gt (>) at /home/src/perl/repoperls/installed-perls/perl/v5.12.5/a2da/lib/site_perl/5.12.5/Font/TTF/Maxp.pm line 152.
Use of uninitialized value in numeric gt (>) at /home/src/perl/repoperls/installed-perls/perl/v5.12.5/a2da/lib/site_perl/5.12.5/Font/TTF/Maxp.pm line 152.
Use of uninitialized value $n[3] in numeric gt (>) at /home/src/perl/repoperls/installed-perls/perl/v5.12.5/a2da/lib/site_perl/5.12.5/Font/TTF/Maxp.pm line 152.
Use of uninitialized value in numeric gt (>) at /home/src/perl/repoperls/installed-perls/perl/v5.12.5/a2da/lib/site_perl/5.12.5/Font/TTF/Maxp.pm line 152.
Use of uninitialized value $n[5] in numeric gt (>) at /home/src/perl/repoperls/installed-perls/perl/v5.12.5/a2da/lib/site_perl/5.12.5/Font/TTF/Maxp.pm line 152.
Use of uninitialized value in numeric gt (>) at /home/src/perl/repoperls/installed-perls/perl/v5.12.5/a2da/lib/site_perl/5.12.5/Font/TTF/Maxp.pm line 152.
Use of uninitialized value $n[2] in numeric gt (>) at /home/src/perl/repoperls/installed-perls/perl/v5.12.5/a2da/lib/site_perl/5.12.5/Font/TTF/Maxp.pm line 152.
Use of uninitialized value in numeric gt (>) at /home/src/perl/repoperls/installed-perls/perl/v5.12.5/a2da/lib/site_perl/5.12.5/Font/TTF/Maxp.pm line 152.
Use of uninitialized value $n[3] in numeric gt (>) at /home/src/perl/repoperls/installed-perls/perl/v5.12.5/a2da/lib/site_perl/5.12.5/Font/TTF/Maxp.pm line 152.
Use of uninitialized value in numeric gt (>) at /home/src/perl/repoperls/installed-perls/perl/v5.12.5/a2da/lib/site_perl/5.12.5/Font/TTF/Maxp.pm line 152.
Use of uninitialized value $n[5] in numeric gt (>) at /home/src/perl/repoperls/installed-perls/perl/v5.12.5/a2da/lib/site_perl/5.12.5/Font/TTF/Maxp.pm line 152.
Filehandle $fh opened only for output at /home/src/perl/repoperls/installed-perls/perl/v5.12.5/a2da/lib/5.12.5/x86_64-linux-thread-multi-ld/IO/Handle.pm line 445.
Use of uninitialized value in pack at /home/src/perl/repoperls/installed-perls/perl/v5.12.5/a2da/lib/site_perl/5.12.5/Font/TTF/Cmap.pm line 330.
Use of uninitialized value in pack at /home/src/perl/repoperls/installed-perls/perl/v5.12.5/a2da/lib/site_perl/5.12.5/Font/TTF/Cmap.pm line 330.
Use of uninitialized value in pack at /home/src/perl/repoperls/installed-perls/perl/v5.12.5/a2da/lib/site_perl/5.12.5/Font/TTF/Cmap.pm line 330.
Use of uninitialized value in pack at /home/src/perl/repoperls/installed-perls/perl/v5.12.5/a2da/lib/site_perl/5.12.5/Font/TTF/Cmap.pm line 330.
Use of uninitialized value in pack at /home/src/perl/repoperls/installed-perls/perl/v5.12.5/a2da/lib/site_perl/5.12.5/Font/TTF/Cmap.pm line 330.
Use of uninitialized value in pack at /home/src/perl/repoperls/installed-perls/perl/v5.12.5/a2da/lib/site_perl/5.12.5/Font/TTF/Cmap.pm line 330.
Use of uninitialized value in pack at /home/src/perl/repoperls/installed-perls/perl/v5.12.5/a2da/lib/site_perl/5.12.5/Font/TTF/Cmap.pm line 330.
Use of uninitialized value in pack at /home/src/perl/repoperls/installed-perls/perl/v5.12.5/a2da/lib/site_perl/5.12.5/Font/TTF/Cmap.pm line 330.
Use of uninitialized value in pack at /home/src/perl/repoperls/installed-perls/perl/v5.12.5/a2da/lib/site_perl/5.12.5/Font/TTF/Cmap.pm line 330.
Use of uninitialized value in pack at /home/src/perl/repoperls/installed-perls/perl/v5.12.5/a2da/lib/site_perl/5.12.5/Font/TTF/Cmap.pm line 330.
Use of uninitialized value in pack at /home/src/perl/repoperls/installed-perls/perl/v5.12.5/a2da/lib/site_perl/5.12.5/Font/TTF/Cmap.pm line 330.
Use of uninitialized value in pack at /home/src/perl/repoperls/installed-perls/perl/v5.12.5/a2da/lib/site_perl/5.12.5/Font/TTF/Cmap.pm line 330.
Use of uninitialized value in pack at /home/src/perl/repoperls/installed-perls/perl/v5.12.5/a2da/lib/site_perl/5.12.5/Font/TTF/Cmap.pm line 330.
Use of uninitialized value in pack at /home/src/perl/repoperls/installed-perls/perl/v5.12.5/a2da/lib/site_perl/5.12.5/Font/TTF/Cmap.pm line 330.
Use of uninitialized value in pack at /home/src/perl/repoperls/installed-perls/perl/v5.12.5/a2da/lib/site_perl/5.12.5/Font/TTF/Cmap.pm line 330.
Use of uninitialized value in pack at /home/src/perl/repoperls/installed-perls/perl/v5.12.5/a2da/lib/site_perl/5.12.5/Font/TTF/Cmap.pm line 330.
Use of uninitialized value in pack at /home/src/perl/repoperls/installed-perls/perl/v5.12.5/a2da/lib/site_perl/5.12.5/Font/TTF/Cmap.pm line 330.
Use of uninitialized value in pack at /home/src/perl/repoperls/installed-perls/perl/v5.12.5/a2da/lib/site_perl/5.12.5/Font/TTF/Cmap.pm line 330.
Use of uninitialized value in pack at /home/src/perl/repoperls/installed-perls/perl/v5.12.5/a2da/lib/site_perl/5.12.5/Font/TTF/Cmap.pm line 330.
Use of uninitialized value in pack at /home/src/perl/repoperls/installed-perls/perl/v5.12.5/a2da/lib/site_perl/5.12.5/Font/TTF/Cmap.pm line 330.
Use of uninitialized value in pack at /home/src/perl/repoperls/installed-perls/perl/v5.12.5/a2da/lib/site_perl/5.12.5/Font/TTF/Cmap.pm line 330.
Use of uninitialized value in pack at /home/src/perl/repoperls/installed-perls/perl/v5.12.5/a2da/lib/site_perl/5.12.5/Font/TTF/Cmap.pm line 330.
Use of uninitialized value in pack at /home/src/perl/repoperls/installed-perls/perl/v5.12.5/a2da/lib/site_perl/5.12.5/Font/TTF/Cmap.pm line 330.
Use of uninitialized value in pack at /home/src/perl/repoperls/installed-perls/perl/v5.12.5/a2da/lib/site_perl/5.12.5/Font/TTF/Cmap.pm line 330.
Use of uninitialized value in pack at /home/src/perl/repoperls/installed-perls/perl/v5.12.5/a2da/lib/site_perl/5.12.5/Font/TTF/Cmap.pm line 330.
Use of uninitialized value in pack at /home/src/perl/repoperls/installed-perls/perl/v5.12.5/a2da/lib/site_perl/5.12.5/Font/TTF/Cmap.pm line 330.
Use of uninitialized value in pack at /home/src/perl/repoperls/installed-perls/perl/v5.12.5/a2da/lib/site_perl/5.12.5/Font/TTF/Cmap.pm line 330.
Use of uninitialized value in pack at /home/src/perl/repoperls/installed-perls/perl/v5.12.5/a2da/lib/site_perl/5.12.5/Font/TTF/Cmap.pm line 330.
Use of uninitialized value in pack at /home/src/perl/repoperls/installed-perls/perl/v5.12.5/a2da/lib/site_perl/5.12.5/Font/TTF/Cmap.pm line 330.
Use of uninitialized value in pack at /home/src/perl/repoperls/installed-perls/perl/v5.12.5/a2da/lib/site_perl/5.12.5/Font/TTF/Cmap.pm line 330.
Use of uninitialized value in pack at /home/src/perl/repoperls/installed-perls/perl/v5.12.5/a2da/lib/site_perl/5.12.5/Font/TTF/Cmap.pm line 330.
Use of uninitialized value in pack at /home/src/perl/repoperls/installed-perls/perl/v5.12.5/a2da/lib/site_perl/5.12.5/Font/TTF/Cmap.pm line 330.
Use of uninitialized value in pack at /home/src/perl/repoperls/installed-perls/perl/v5.12.5/a2da/lib/site_perl/5.12.5/Font/TTF/Cmap.pm line 330.
Use of uninitialized value in pack at /home/src/perl/repoperls/installed-perls/perl/v5.12.5/a2da/lib/site_perl/5.12.5/Font/TTF/Cmap.pm line 330.
Use of uninitialized value in pack at /home/src/perl/repoperls/installed-perls/perl/v5.12.5/a2da/lib/site_perl/5.12.5/Font/TTF/Cmap.pm line 330.
Use of uninitialized value in pack at /home/src/perl/repoperls/installed-perls/perl/v5.12.5/a2da/lib/site_perl/5.12.5/Font/TTF/Cmap.pm line 330.
Use of uninitialized value in pack at /home/src/perl/repoperls/installed-perls/perl/v5.12.5/a2da/lib/site_perl/5.12.5/Font/TTF/Cmap.pm line 330.
Use of uninitialized value in pack at /home/src/perl/repoperls/installed-perls/perl/v5.12.5/a2da/lib/site_perl/5.12.5/Font/TTF/Cmap.pm line 330.
Use of uninitialized value in pack at /home/src/perl/repoperls/installed-perls/perl/v5.12.5/a2da/lib/site_perl/5.12.5/Font/TTF/Cmap.pm line 330.
Use of uninitialized value in pack at /home/src/perl/repoperls/installed-perls/perl/v5.12.5/a2da/lib/site_perl/5.12.5/Font/TTF/Cmap.pm line 330.
Use of uninitialized value in pack at /home/src/perl/repoperls/installed-perls/perl/v5.12.5/a2da/lib/site_perl/5.12.5/Font/TTF/Cmap.pm line 330.
Use of uninitialized value in pack at /home/src/perl/repoperls/installed-perls/perl/v5.12.5/a2da/lib/site_perl/5.12.5/Font/TTF/Cmap.pm line 330.
Use of uninitialized value in pack at /home/src/perl/repoperls/installed-perls/perl/v5.12.5/a2da/lib/site_perl/5.12.5/Font/TTF/Cmap.pm line 330.
Use of uninitialized value in pack at /home/src/perl/repoperls/installed-perls/perl/v5.12.5/a2da/lib/site_perl/5.12.5/Font/TTF/Cmap.pm line 330.
Use of uninitialized value in pack at /home/src/perl/repoperls/installed-perls/perl/v5.12.5/a2da/lib/site_perl/5.12.5/Font/TTF/Cmap.pm line 330.
Use of uninitialized value in pack at /home/src/perl/repoperls/installed-perls/perl/v5.12.5/a2da/lib/site_perl/5.12.5/Font/TTF/Cmap.pm line 330.
Use of uninitialized value in pack at /home/src/perl/repoperls/installed-perls/perl/v5.12.5/a2da/lib/site_perl/5.12.5/Font/TTF/Cmap.pm line 330.
Use of uninitialized value in pack at /home/src/perl/repoperls/installed-perls/perl/v5.12.5/a2da/lib/site_perl/5.12.5/Font/TTF/Cmap.pm line 330.
Use of uninitialized value in pack at /home/src/perl/repoperls/installed-perls/perl/v5.12.5/a2da/lib/site_perl/5.12.5/Font/TTF/Cmap.pm line 330.
Use of uninitialized value in pack at /home/src/perl/repoperls/installed-perls/perl/v5.12.5/a2da/lib/site_perl/5.12.5/Font/TTF/Cmap.pm line 330.
Use of uninitialized value in pack at /home/src/perl/repoperls/installed-perls/perl/v5.12.5/a2da/lib/site_perl/5.12.5/Font/TTF/Cmap.pm line 330.
Use of uninitialized value in pack at /home/src/perl/repoperls/installed-perls/perl/v5.12.5/a2da/lib/site_perl/5.12.5/Font/TTF/Cmap.pm line 330.
Use of uninitialized value in pack at /home/src/perl/repoperls/installed-perls/perl/v5.12.5/a2da/lib/site_perl/5.12.5/Font/TTF/Cmap.pm line 330.
Use of uninitialized value in pack at /home/src/perl/repoperls/installed-perls/perl/v5.12.5/a2da/lib/site_perl/5.12.5/Font/TTF/Cmap.pm line 330.
Use of uninitialized value in pack at /home/src/perl/repoperls/installed-perls/perl/v5.12.5/a2da/lib/site_perl/5.12.5/Font/TTF/Cmap.pm line 330.
Use of uninitialized value in pack at /home/src/perl/repoperls/installed-perls/perl/v5.12.5/a2da/lib/site_perl/5.12.5/Font/TTF/Cmap.pm line 330.
Use of uninitialized value in pack at /home/src/perl/repoperls/installed-perls/perl/v5.12.5/a2da/lib/site_perl/5.12.5/Font/TTF/Cmap.pm line 330.
Use of uninitialized value in pack at /home/src/perl/repoperls/installed-perls/perl/v5.12.5/a2da/lib/site_perl/5.12.5/Font/TTF/Cmap.pm line 330.
Use of uninitialized value in pack at /home/src/perl/repoperls/installed-perls/perl/v5.12.5/a2da/lib/site_perl/5.12.5/Font/TTF/Cmap.pm line 330.
Use of uninitialized value in pack at /home/src/perl/repoperls/installed-perls/perl/v5.12.5/a2da/lib/site_perl/5.12.5/Font/TTF/Cmap.pm line 330.
Use of uninitialized value in pack at /home/src/perl/repoperls/installed-perls/perl/v5.12.5/a2da/lib/site_perl/5.12.5/Font/TTF/Cmap.pm line 330.
Use of uninitialized value in pack at /home/src/perl/repoperls/installed-perls/perl/v5.12.5/a2da/lib/site_perl/5.12.5/Font/TTF/Cmap.pm line 330.
Use of uninitialized value in pack at /home/src/perl/repoperls/installed-perls/perl/v5.12.5/a2da/lib/site_perl/5.12.5/Font/TTF/Cmap.pm line 330.
Use of uninitialized value in pack at /home/src/perl/repoperls/installed-perls/perl/v5.12.5/a2da/lib/site_perl/5.12.5/Font/TTF/Cmap.pm line 330.
Use of uninitialized value in pack at /home/src/perl/repoperls/installed-perls/perl/v5.12.5/a2da/lib/site_perl/5.12.5/Font/TTF/Cmap.pm line 330.
Use of uninitialized value in pack at /home/src/perl/repoperls/installed-perls/perl/v5.12.5/a2da/lib/site_perl/5.12.5/Font/TTF/Cmap.pm line 330.
Use of uninitialized value in pack at /home/src/perl/repoperls/installed-perls/perl/v5.12.5/a2da/lib/site_perl/5.12.5/Font/TTF/Cmap.pm line 330.
Use of uninitialized value in pack at /home/src/perl/repoperls/installed-perls/perl/v5.12.5/a2da/lib/site_perl/5.12.5/Font/TTF/Cmap.pm line 330.
Use of uninitialized value in pack at /home/src/perl/repoperls/installed-perls/perl/v5.12.5/a2da/lib/site_perl/5.12.5/Font/TTF/Cmap.pm line 330.
Use of uninitialized value in pack at /home/src/perl/repoperls/installed-perls/perl/v5.12.5/a2da/lib/site_perl/5.12.5/Font/TTF/Cmap.pm line 330.
Use of uninitialized value in pack at /home/src/perl/repoperls/installed-perls/perl/v5.12.5/a2da/lib/site_perl/5.12.5/Font/TTF/Cmap.pm line 330.
Use of uninitialized value in pack at /home/src/perl/repoperls/installed-perls/perl/v5.12.5/a2da/lib/site_perl/5.12.5/Font/TTF/Cmap.pm line 330.
Use of uninitialized value in pack at /home/src/perl/repoperls/installed-perls/perl/v5.12.5/a2da/lib/site_perl/5.12.5/Font/TTF/Cmap.pm line 330.
Use of uninitialized value in pack at /home/src/perl/repoperls/installed-perls/perl/v5.12.5/a2da/lib/site_perl/5.12.5/Font/TTF/Cmap.pm line 330.
Use of uninitialized value in pack at /home/src/perl/repoperls/installed-perls/perl/v5.12.5/a2da/lib/site_perl/5.12.5/Font/TTF/Cmap.pm line 330.
Use of uninitialized value in pack at /home/src/perl/repoperls/installed-perls/perl/v5.12.5/a2da/lib/site_perl/5.12.5/Font/TTF/Cmap.pm line 330.
Use of uninitialized value in pack at /home/src/perl/repoperls/installed-perls/perl/v5.12.5/a2da/lib/site_perl/5.12.5/Font/TTF/Cmap.pm line 330.
Use of uninitialized value in pack at /home/src/perl/repoperls/installed-perls/perl/v5.12.5/a2da/lib/site_perl/5.12.5/Font/TTF/Cmap.pm line 330.
Use of uninitialized value in pack at /home/src/perl/repoperls/installed-perls/perl/v5.12.5/a2da/lib/site_perl/5.12.5/Font/TTF/Cmap.pm line 330.
Use of uninitialized value in pack at /home/src/perl/repoperls/installed-perls/perl/v5.12.5/a2da/lib/site_perl/5.12.5/Font/TTF/Cmap.pm line 330.
Use of uninitialized value in pack at /home/src/perl/repoperls/installed-perls/perl/v5.12.5/a2da/lib/site_perl/5.12.5/Font/TTF/Cmap.pm line 330.
Use of uninitialized value in pack at /home/src/perl/repoperls/installed-perls/perl/v5.12.5/a2da/lib/site_perl/5.12.5/Font/TTF/Cmap.pm line 330.
Use of uninitialized value in pack at /home/src/perl/repoperls/installed-perls/perl/v5.12.5/a2da/lib/site_perl/5.12.5/Font/TTF/Cmap.pm line 330.
Use of uninitialized value in pack at /home/src/perl/repoperls/installed-perls/perl/v5.12.5/a2da/lib/site_perl/5.12.5/Font/TTF/Cmap.pm line 330.
Use of uninitialized value in pack at /home/src/perl/repoperls/installed-perls/perl/v5.12.5/a2da/lib/site_perl/5.12.5/Font/TTF/Cmap.pm line 330.
Use of uninitialized value in pack at /home/src/perl/repoperls/installed-perls/perl/v5.12.5/a2da/lib/site_perl/5.12.5/Font/TTF/Cmap.pm line 330.
Use of uninitialized value in pack at /home/src/perl/repoperls/installed-perls/perl/v5.12.5/a2da/lib/site_perl/5.12.5/Font/TTF/Cmap.pm line 330.
Use of uninitialized value in pack at /home/src/perl/repoperls/installed-perls/perl/v5.12.5/a2da/lib/site_perl/5.12.5/Font/TTF/Cmap.pm line 330.
Use of uninitialized value in pack at /home/src/perl/repoperls/installed-perls/perl/v5.12.5/a2da/lib/site_perl/5.12.5/Font/TTF/Cmap.pm line 330.
Use of uninitialized value in pack at /home/src/perl/repoperls/installed-perls/perl/v5.12.5/a2da/lib/site_perl/5.12.5/Font/TTF/Cmap.pm line 330.
Use of uninitialized value in pack at /home/src/perl/repoperls/installed-perls/perl/v5.12.5/a2da/lib/site_perl/5.12.5/Font/TTF/Cmap.pm line 330.
Use of uninitialized value in pack at /home/src/perl/repoperls/installed-perls/perl/v5.12.5/a2da/lib/site_perl/5.12.5/Font/TTF/Cmap.pm line 330.
Use of uninitialized value in pack at /home/src/perl/repoperls/installed-perls/perl/v5.12.5/a2da/lib/site_perl/5.12.5/Font/TTF/Cmap.pm line 330.
Use of uninitialized value in pack at /home/src/perl/repoperls/installed-perls/perl/v5.12.5/a2da/lib/site_perl/5.12.5/Font/TTF/Cmap.pm line 330.
Use of uninitialized value in pack at /home/src/perl/repoperls/installed-perls/perl/v5.12.5/a2da/lib/site_perl/5.12.5/Font/TTF/Cmap.pm line 330.
Use of uninitialized value in pack at /home/src/perl/repoperls/installed-perls/perl/v5.12.5/a2da/lib/site_perl/5.12.5/Font/TTF/Cmap.pm line 330.
Use of uninitialized value in pack at /home/src/perl/repoperls/installed-perls/perl/v5.12.5/a2da/lib/site_perl/5.12.5/Font/TTF/Cmap.pm line 330.
Use of uninitialized value in pack at /home/src/perl/repoperls/installed-perls/perl/v5.12.5/a2da/lib/site_perl/5.12.5/Font/TTF/Cmap.pm line 330.
Use of uninitialized value in pack at /home/src/perl/repoperls/installed-perls/perl/v5.12.5/a2da/lib/site_perl/5.12.5/Font/TTF/Cmap.pm line 330.
Use of uninitialized value in pack at /home/src/perl/repoperls/installed-perls/perl/v5.12.5/a2da/lib/site_perl/5.12.5/Font/TTF/Cmap.pm line 330.
Use of uninitialized value in pack at /home/src/perl/repoperls/installed-perls/perl/v5.12.5/a2da/lib/site_perl/5.12.5/Font/TTF/Cmap.pm line 330.
Use of uninitialized value in pack at /home/src/perl/repoperls/installed-perls/perl/v5.12.5/a2da/lib/site_perl/5.12.5/Font/TTF/Cmap.pm line 330.
Use of uninitialized value in pack at /home/src/perl/repoperls/installed-perls/perl/v5.12.5/a2da/lib/site_perl/5.12.5/Font/TTF/Cmap.pm line 330.
Use of uninitialized value in pack at /home/src/perl/repoperls/installed-perls/perl/v5.12.5/a2da/lib/site_perl/5.12.5/Font/TTF/Cmap.pm line 330.
Use of uninitialized value in pack at /home/src/perl/repoperls/installed-perls/perl/v5.12.5/a2da/lib/site_perl/5.12.5/Font/TTF/Cmap.pm line 330.
Use of uninitialized value in pack at /home/src/perl/repoperls/installed-perls/perl/v5.12.5/a2da/lib/site_perl/5.12.5/Font/TTF/Cmap.pm line 330.
Use of uninitialized value in pack at /home/src/perl/repoperls/installed-perls/perl/v5.12.5/a2da/lib/site_perl/5.12.5/Font/TTF/Cmap.pm line 330.
Use of uninitialized value in pack at /home/src/perl/repoperls/installed-perls/perl/v5.12.5/a2da/lib/site_perl/5.12.5/Font/TTF/Cmap.pm line 330.
Use of uninitialized value in pack at /home/src/perl/repoperls/installed-perls/perl/v5.12.5/a2da/lib/site_perl/5.12.5/Font/TTF/Cmap.pm line 330.
Use of uninitialized value in pack at /home/src/perl/repoperls/installed-perls/perl/v5.12.5/a2da/lib/site_perl/5.12.5/Font/TTF/Cmap.pm line 330.
Use of uninitialized value in pack at /home/src/perl/repoperls/installed-perls/perl/v5.12.5/a2da/lib/site_perl/5.12.5/Font/TTF/Cmap.pm line 330.
Use of uninitialized value in pack at /home/src/perl/repoperls/installed-perls/perl/v5.12.5/a2da/lib/site_perl/5.12.5/Font/TTF/Cmap.pm line 330.
Use of uninitialized value in pack at /home/src/perl/repoperls/installed-perls/perl/v5.12.5/a2da/lib/site_perl/5.12.5/Font/TTF/Cmap.pm line 330.
Use of uninitialized value in pack at /home/src/perl/repoperls/installed-perls/perl/v5.12.5/a2da/lib/site_perl/5.12.5/Font/TTF/Cmap.pm line 330.
Use of uninitialized value in pack at /home/src/perl/repoperls/installed-perls/perl/v5.12.5/a2da/lib/site_perl/5.12.5/Font/TTF/Cmap.pm line 330.
Use of uninitialized value in pack at /home/src/perl/repoperls/installed-perls/perl/v5.12.5/a2da/lib/site_perl/5.12.5/Font/TTF/Cmap.pm line 330.
Use of uninitialized value in pack at /home/src/perl/repoperls/installed-perls/perl/v5.12.5/a2da/lib/site_perl/5.12.5/Font/TTF/Cmap.pm line 330.
Use of uninitialized value in pack at /home/src/perl/repoperls/installed-perls/perl/v5.12.5/a2da/lib/site_perl/5.12.5/Font/TTF/Cmap.pm line 330.
Use of uninitialized value in pack at /home/src/perl/repoperls/installed-perls/perl/v5.12.5/a2da/lib/site_perl/5.12.5/Font/TTF/Cmap.pm line 330.
Use of uninitialized value in pack at /home/src/perl/repoperls/installed-perls/perl/v5.12.5/a2da/lib/site_perl/5.12.5/Font/TTF/Cmap.pm line 330.
Use of uninitialized value in pack at /home/src/perl/repoperls/installed-perls/perl/v5.12.5/a2da/lib/site_perl/5.12.5/Font/TTF/Cmap.pm line 330.
Use of uninitialized value in pack at /home/src/perl/repoperls/installed-perls/perl/v5.12.5/a2da/lib/site_perl/5.12.5/Font/TTF/Cmap.pm line 330.
Use of uninitialized value in pack at /home/src/perl/repoperls/installed-perls/perl/v5.12.5/a2da/lib/site_perl/5.12.5/Font/TTF/Cmap.pm line 330.
Use of uninitialized value in pack at /home/src/perl/repoperls/installed-perls/perl/v5.12.5/a2da/lib/site_perl/5.12.5/Font/TTF/Cmap.pm line 330.
Use of uninitialized value in pack at /home/src/perl/repoperls/installed-perls/perl/v5.12.5/a2da/lib/site_perl/5.12.5/Font/TTF/Cmap.pm line 330.
Use of uninitialized value in pack at /home/src/perl/repoperls/installed-perls/perl/v5.12.5/a2da/lib/site_perl/5.12.5/Font/TTF/Cmap.pm line 330.
Use of uninitialized value in pack at /home/src/perl/repoperls/installed-perls/perl/v5.12.5/a2da/lib/site_perl/5.12.5/Font/TTF/Cmap.pm line 330.
Use of uninitialized value in pack at /home/src/perl/repoperls/installed-perls/perl/v5.12.5/a2da/lib/site_perl/5.12.5/Font/TTF/Cmap.pm line 330.
Use of uninitialized value in pack at /home/src/perl/repoperls/installed-perls/perl/v5.12.5/a2da/lib/site_perl/5.12.5/Font/TTF/Cmap.pm line 330.
Use of uninitialized value in pack at /home/src/perl/repoperls/installed-perls/perl/v5.12.5/a2da/lib/site_perl/5.12.5/Font/TTF/Cmap.pm line 330.
Use of uninitialized value in pack at /home/src/perl/repoperls/installed-perls/perl/v5.12.5/a2da/lib/site_perl/5.12.5/Font/TTF/Cmap.pm line 330.
Use of uninitialized value in pack at /home/src/perl/repoperls/installed-perls/perl/v5.12.5/a2da/lib/site_perl/5.12.5/Font/TTF/Cmap.pm line 330.
Use of uninitialized value in pack at /home/src/perl/repoperls/installed-perls/perl/v5.12.5/a2da/lib/site_perl/5.12.5/Font/TTF/Cmap.pm line 330.
Use of uninitialized value in pack at /home/src/perl/repoperls/installed-perls/perl/v5.12.5/a2da/lib/site_perl/5.12.5/Font/TTF/Cmap.pm line 330.
Use of uninitialized value in pack at /home/src/perl/repoperls/installed-perls/perl/v5.12.5/a2da/lib/site_perl/5.12.5/Font/TTF/Cmap.pm line 330.
Use of uninitialized value in pack at /home/src/perl/repoperls/installed-perls/perl/v5.12.5/a2da/lib/site_perl/5.12.5/Font/TTF/Cmap.pm line 330.
Use of uninitialized value in pack at /home/src/perl/repoperls/installed-perls/perl/v5.12.5/a2da/lib/site_perl/5.12.5/Font/TTF/Cmap.pm line 330.
Use of uninitialized value in pack at /home/src/perl/repoperls/installed-perls/perl/v5.12.5/a2da/lib/site_perl/5.12.5/Font/TTF/Cmap.pm line 330.
Use of uninitialized value in pack at /home/src/perl/repoperls/installed-perls/perl/v5.12.5/a2da/lib/site_perl/5.12.5/Font/TTF/Cmap.pm line 330.
Use of uninitialized value in pack at /home/src/perl/repoperls/installed-perls/perl/v5.12.5/a2da/lib/site_perl/5.12.5/Font/TTF/Cmap.pm line 330.
Use of uninitialized value in pack at /home/src/perl/repoperls/installed-perls/perl/v5.12.5/a2da/lib/site_perl/5.12.5/Font/TTF/Cmap.pm line 330.
Use of uninitialized value in pack at /home/src/perl/repoperls/installed-perls/perl/v5.12.5/a2da/lib/site_perl/5.12.5/Font/TTF/Cmap.pm line 330.
Use of uninitialized value in pack at /home/src/perl/repoperls/installed-perls/perl/v5.12.5/a2da/lib/site_perl/5.12.5/Font/TTF/Cmap.pm line 330.
Use of uninitialized value in pack at /home/src/perl/repoperls/installed-perls/perl/v5.12.5/a2da/lib/site_perl/5.12.5/Font/TTF/Cmap.pm line 330.
Use of uninitialized value in pack at /home/src/perl/repoperls/installed-perls/perl/v5.12.5/a2da/lib/site_perl/5.12.5/Font/TTF/Cmap.pm line 330.
Use of uninitialized value in pack at /home/src/perl/repoperls/installed-perls/perl/v5.12.5/a2da/lib/site_perl/5.12.5/Font/TTF/Cmap.pm line 330.
Use of uninitialized value in pack at /home/src/perl/repoperls/installed-perls/perl/v5.12.5/a2da/lib/site_perl/5.12.5/Font/TTF/Cmap.pm line 330.
Use of uninitialized value in pack at /home/src/perl/repoperls/installed-perls/perl/v5.12.5/a2da/lib/site_perl/5.12.5/Font/TTF/Cmap.pm line 330.
Use of uninitialized value in pack at /home/src/perl/repoperls/installed-perls/perl/v5.12.5/a2da/lib/site_perl/5.12.5/Font/TTF/Cmap.pm line 330.
Use of uninitialized value in pack at /home/src/perl/repoperls/installed-perls/perl/v5.12.5/a2da/lib/site_perl/5.12.5/Font/TTF/Cmap.pm line 330.
Use of uninitialized value in pack at /home/src/perl/repoperls/installed-perls/perl/v5.12.5/a2da/lib/site_perl/5.12.5/Font/TTF/Cmap.pm line 330.
Use of uninitialized value in pack at /home/src/perl/repoperls/installed-perls/perl/v5.12.5/a2da/lib/site_perl/5.12.5/Font/TTF/Cmap.pm line 330.
Use of uninitialized value in pack at /home/src/perl/repoperls/installed-perls/perl/v5.12.5/a2da/lib/site_perl/5.12.5/Font/TTF/Cmap.pm line 330.
Use of uninitialized value in pack at /home/src/perl/repoperls/installed-perls/perl/v5.12.5/a2da/lib/site_perl/5.12.5/Font/TTF/Cmap.pm line 330.
Use of uninitialized value in pack at /home/src/perl/repoperls/installed-perls/perl/v5.12.5/a2da/lib/site_perl/5.12.5/Font/TTF/Cmap.pm line 330.
Use of uninitialized value in pack at /home/src/perl/repoperls/installed-perls/perl/v5.12.5/a2da/lib/site_perl/5.12.5/Font/TTF/Cmap.pm line 330.
Use of uninitialized value in pack at /home/src/perl/repoperls/installed-perls/perl/v5.12.5/a2da/lib/site_perl/5.12.5/Font/TTF/Cmap.pm line 330.
Use of uninitialized value in pack at /home/src/perl/repoperls/installed-perls/perl/v5.12.5/a2da/lib/site_perl/5.12.5/Font/TTF/Cmap.pm line 330.
Use of uninitialized value in pack at /home/src/perl/repoperls/installed-perls/perl/v5.12.5/a2da/lib/site_perl/5.12.5/Font/TTF/Cmap.pm line 330.
Use of uninitialized value in pack at /home/src/perl/repoperls/installed-perls/perl/v5.12.5/a2da/lib/site_perl/5.12.5/Font/TTF/Cmap.pm line 330.
Use of uninitialized value in pack at /home/src/perl/repoperls/installed-perls/perl/v5.12.5/a2da/lib/site_perl/5.12.5/Font/TTF/Cmap.pm line 330.
Use of uninitialized value in pack at /home/src/perl/repoperls/installed-perls/perl/v5.12.5/a2da/lib/site_perl/5.12.5/Font/TTF/Cmap.pm line 330.
Use of uninitialized value in pack at /home/src/perl/repoperls/installed-perls/perl/v5.12.5/a2da/lib/site_perl/5.12.5/Font/TTF/Cmap.pm line 330.
Use of uninitialized value in pack at /home/src/perl/repoperls/installed-perls/perl/v5.12.5/a2da/lib/site_perl/5.12.5/Font/TTF/Cmap.pm line 330.
Use of uninitialized value in pack at /home/src/perl/repoperls/installed-perls/perl/v5.12.5/a2da/lib/site_perl/5.12.5/Font/TTF/Cmap.pm line 330.
Use of uninitialized value in pack at /home/src/perl/repoperls/installed-perls/perl/v5.12.5/a2da/lib/site_perl/5.12.5/Font/TTF/Cmap.pm line 330.
Use of uninitialized value in pack at /home/src/perl/repoperls/installed-perls/perl/v5.12.5/a2da/lib/site_perl/5.12.5/Font/TTF/Cmap.pm line 330.
Use of uninitialized value in pack at /home/src/perl/repoperls/installed-perls/perl/v5.12.5/a2da/lib/site_perl/5.12.5/Font/TTF/Cmap.pm line 330.
Use of uninitialized value in pack at /home/src/perl/repoperls/installed-perls/perl/v5.12.5/a2da/lib/site_perl/5.12.5/Font/TTF/Cmap.pm line 330.
Use of uninitialized value in pack at /home/src/perl/repoperls/installed-perls/perl/v5.12.5/a2da/lib/site_perl/5.12.5/Font/TTF/Cmap.pm line 330.
Use of uninitialized value in pack at /home/src/perl/repoperls/installed-perls/perl/v5.12.5/a2da/lib/site_perl/5.12.5/Font/TTF/Cmap.pm line 330.
Use of uninitialized value in pack at /home/src/perl/repoperls/installed-perls/perl/v5.12.5/a2da/lib/site_perl/5.12.5/Font/TTF/Cmap.pm line 330.
Use of uninitialized value in pack at /home/src/perl/repoperls/installed-perls/perl/v5.12.5/a2da/lib/site_perl/5.12.5/Font/TTF/Cmap.pm line 330.
Use of uninitialized value in pack at /home/src/perl/repoperls/installed-perls/perl/v5.12.5/a2da/lib/site_perl/5.12.5/Font/TTF/Cmap.pm line 330.
Use of uninitialized value in pack at /home/src/perl/repoperls/installed-perls/perl/v5.12.5/a2da/lib/site_perl/5.12.5/Font/TTF/Cmap.pm line 330.
Use of uninitialized value in pack at /home/src/perl/repoperls/installed-perls/perl/v5.12.5/a2da/lib/site_perl/5.12.5/Font/TTF/Cmap.pm line 330.
Use of uninitialized value in pack at /home/src/perl/repoperls/installed-perls/perl/v5.12.5/a2da/lib/site_perl/5.12.5/Font/TTF/Cmap.pm line 330.
Use of uninitialized value in pack at /home/src/perl/repoperls/installed-perls/perl/v5.12.5/a2da/lib/site_perl/5.12.5/Font/TTF/Cmap.pm line 330.
Use of uninitialized value in pack at /home/src/perl/repoperls/installed-perls/perl/v5.12.5/a2da/lib/site_perl/5.12.5/Font/TTF/Cmap.pm line 330.
Use of uninitialized value in pack at /home/src/perl/repoperls/installed-perls/perl/v5.12.5/a2da/lib/site_perl/5.12.5/Font/TTF/Cmap.pm line 330.
Use of uninitialized value in pack at /home/src/perl/repoperls/installed-perls/perl/v5.12.5/a2da/lib/site_perl/5.12.5/Font/TTF/Cmap.pm line 330.
Use of uninitialized value in pack at /home/src/perl/repoperls/installed-perls/perl/v5.12.5/a2da/lib/site_perl/5.12.5/Font/TTF/Cmap.pm line 330.
Use of uninitialized value in pack at /home/src/perl/repoperls/installed-perls/perl/v5.12.5/a2da/lib/site_perl/5.12.5/Font/TTF/Cmap.pm line 330.
Use of uninitialized value in pack at /home/src/perl/repoperls/installed-perls/perl/v5.12.5/a2da/lib/site_perl/5.12.5/Font/TTF/Cmap.pm line 330.
Use of uninitialized value in pack at /home/src/perl/repoperls/installed-perls/perl/v5.12.5/a2da/lib/site_perl/5.12.5/Font/TTF/Cmap.pm line 330.
Use of uninitialized value in pack at /home/src/perl/repoperls/installed-perls/perl/v5.12.5/a2da/lib/site_perl/5.12.5/Font/TTF/Cmap.pm line 330.
Use of uninitialized value in pack at /home/src/perl/repoperls/installed-perls/perl/v5.12.5/a2da/lib/site_perl/5.12.5/Font/TTF/Cmap.pm line 330.
Use of uninitialized value in pack at /home/src/perl/repoperls/installed-perls/perl/v5.12.5/a2da/lib/site_perl/5.12.5/Font/TTF/Cmap.pm line 330.
Use of uninitialized value in pack at /home/src/perl/repoperls/installed-perls/perl/v5.12.5/a2da/lib/site_perl/5.12.5/Font/TTF/Cmap.pm line 330.
Use of uninitialized value in pack at /home/src/perl/repoperls/installed-perls/perl/v5.12.5/a2da/lib/site_perl/5.12.5/Font/TTF/Cmap.pm line 330.
Use of uninitialized value in pack at /home/src/perl/repoperls/installed-perls/perl/v5.12.5/a2da/lib/site_perl/5.12.5/Font/TTF/Cmap.pm line 330.
Use of uninitialized value in pack at /home/src/perl/repoperls/installed-perls/perl/v5.12.5/a2da/lib/site_perl/5.12.5/Font/TTF/Cmap.pm line 330.
Use of uninitialized value in pack at /home/src/perl/repoperls/installed-perls/perl/v5.12.5/a2da/lib/site_perl/5.12.5/Font/TTF/Cmap.pm line 330.
Use of uninitialized value in pack at /home/src/perl/repoperls/installed-perls/perl/v5.12.5/a2da/lib/site_perl/5.12.5/Font/TTF/Cmap.pm line 330.
Use of uninitialized value in pack at /home/src/perl/repoperls/installed-perls/perl/v5.12.5/a2da/lib/site_perl/5.12.5/Font/TTF/Cmap.pm line 330.
Use of uninitialized value in pack at /home/src/perl/repoperls/installed-perls/perl/v5.12.5/a2da/lib/site_perl/5.12.5/Font/TTF/Cmap.pm line 330.
Use of uninitialized value in pack at /home/src/perl/repoperls/installed-perls/perl/v5.12.5/a2da/lib/site_perl/5.12.5/Font/TTF/Cmap.pm line 330.
Use of uninitialized value in pack at /home/src/perl/repoperls/installed-perls/perl/v5.12.5/a2da/lib/site_perl/5.12.5/Font/TTF/Cmap.pm line 330.
Use of uninitialized value in pack at /home/src/perl/repoperls/installed-perls/perl/v5.12.5/a2da/lib/site_perl/5.12.5/Font/TTF/Cmap.pm line 330.
Use of uninitialized value in pack at /home/src/perl/repoperls/installed-perls/perl/v5.12.5/a2da/lib/site_perl/5.12.5/Font/TTF/Cmap.pm line 330.
Use of uninitialized value in pack at /home/src/perl/repoperls/installed-perls/perl/v5.12.5/a2da/lib/site_perl/5.12.5/Font/TTF/Cmap.pm line 330.
Use of uninitialized value in pack at /home/src/perl/repoperls/installed-perls/perl/v5.12.5/a2da/lib/site_perl/5.12.5/Font/TTF/Cmap.pm line 330.
Use of uninitialized value in pack at /home/src/perl/repoperls/installed-perls/perl/v5.12.5/a2da/lib/site_perl/5.12.5/Font/TTF/Cmap.pm line 330.
Use of uninitialized value in pack at /home/src/perl/repoperls/installed-perls/perl/v5.12.5/a2da/lib/site_perl/5.12.5/Font/TTF/Cmap.pm line 330.
Use of uninitialized value in pack at /home/src/perl/repoperls/installed-perls/perl/v5.12.5/a2da/lib/site_perl/5.12.5/Font/TTF/Cmap.pm line 330.
Use of uninitialized value in pack at /home/src/perl/repoperls/installed-perls/perl/v5.12.5/a2da/lib/site_perl/5.12.5/Font/TTF/Cmap.pm line 330.
Use of uninitialized value in pack at /home/src/perl/repoperls/installed-perls/perl/v5.12.5/a2da/lib/site_perl/5.12.5/Font/TTF/Cmap.pm line 330.
Use of uninitialized value in pack at /home/src/perl/repoperls/installed-perls/perl/v5.12.5/a2da/lib/site_perl/5.12.5/Font/TTF/Cmap.pm line 330.
Use of uninitialized value in pack at /home/src/perl/repoperls/installed-perls/perl/v5.12.5/a2da/lib/site_perl/5.12.5/Font/TTF/Cmap.pm line 330.
Use of uninitialized value in pack at /home/src/perl/repoperls/installed-perls/perl/v5.12.5/a2da/lib/site_perl/5.12.5/Font/TTF/Cmap.pm line 330.
Use of uninitialized value in pack at /home/src/perl/repoperls/installed-perls/perl/v5.12.5/a2da/lib/site_perl/5.12.5/Font/TTF/Cmap.pm line 330.
Use of uninitialized value in pack at /home/src/perl/repoperls/installed-perls/perl/v5.12.5/a2da/lib/site_perl/5.12.5/Font/TTF/Cmap.pm line 330.
Use of uninitialized value in pack at /home/src/perl/repoperls/installed-perls/perl/v5.12.5/a2da/lib/site_perl/5.12.5/Font/TTF/Cmap.pm line 330.
Use of uninitialized value in pack at /home/src/perl/repoperls/installed-perls/perl/v5.12.5/a2da/lib/site_perl/5.12.5/Font/TTF/Cmap.pm line 330.
Use of uninitialized value in pack at /home/src/perl/repoperls/installed-perls/perl/v5.12.5/a2da/lib/site_perl/5.12.5/Font/TTF/Cmap.pm line 330.
Use of uninitialized value in pack at /home/src/perl/repoperls/installed-perls/perl/v5.12.5/a2da/lib/site_perl/5.12.5/Font/TTF/Cmap.pm line 330.
Use of uninitialized value in pack at /home/src/perl/repoperls/installed-perls/perl/v5.12.5/a2da/lib/site_perl/5.12.5/Font/TTF/Cmap.pm line 330.
Use of uninitialized value in pack at /home/src/perl/repoperls/installed-perls/perl/v5.12.5/a2da/lib/site_perl/5.12.5/Font/TTF/Cmap.pm line 330.
Use of uninitialized value in pack at /home/src/perl/repoperls/installed-perls/perl/v5.12.5/a2da/lib/site_perl/5.12.5/Font/TTF/Cmap.pm line 330.
Use of uninitialized value in pack at /home/src/perl/repoperls/installed-perls/perl/v5.12.5/a2da/lib/site_perl/5.12.5/Font/TTF/Cmap.pm line 330.
Use of uninitialized value in pack at /home/src/perl/repoperls/installed-perls/perl/v5.12.5/a2da/lib/site_perl/5.12.5/Font/TTF/Cmap.pm line 330.
Use of uninitialized value in pack at /home/src/perl/repoperls/installed-perls/perl/v5.12.5/a2da/lib/site_perl/5.12.5/Font/TTF/Cmap.pm line 330.
Use of uninitialized value in pack at /home/src/perl/repoperls/installed-perls/perl/v5.12.5/a2da/lib/site_perl/5.12.5/Font/TTF/Cmap.pm line 330.
Use of uninitialized value in pack at /home/src/perl/repoperls/installed-perls/perl/v5.12.5/a2da/lib/site_perl/5.12.5/Font/TTF/Cmap.pm line 330.
Use of uninitialized value in pack at /home/src/perl/repoperls/installed-perls/perl/v5.12.5/a2da/lib/site_perl/5.12.5/Font/TTF/Cmap.pm line 330.
Use of uninitialized value in pack at /home/src/perl/repoperls/installed-perls/perl/v5.12.5/a2da/lib/site_perl/5.12.5/Font/TTF/Cmap.pm line 330.
Use of uninitialized value in pack at /home/src/perl/repoperls/installed-perls/perl/v5.12.5/a2da/lib/site_perl/5.12.5/Font/TTF/Cmap.pm line 330.
Use of uninitialized value in pack at /home/src/perl/repoperls/installed-perls/perl/v5.12.5/a2da/lib/site_perl/5.12.5/Font/TTF/Cmap.pm line 330.
Use of uninitialized value in pack at /home/src/perl/repoperls/installed-perls/perl/v5.12.5/a2da/lib/site_perl/5.12.5/Font/TTF/Cmap.pm line 330.
Use of uninitialized value in pack at /home/src/perl/repoperls/installed-perls/perl/v5.12.5/a2da/lib/site_perl/5.12.5/Font/TTF/Cmap.pm line 330.
Use of uninitialized value in pack at /home/src/perl/repoperls/installed-perls/perl/v5.12.5/a2da/lib/site_perl/5.12.5/Font/TTF/Cmap.pm line 330.
Use of uninitialized value in pack at /home/src/perl/repoperls/installed-perls/perl/v5.12.5/a2da/lib/site_perl/5.12.5/Font/TTF/Cmap.pm line 330.
Use of uninitialized value in pack at /home/src/perl/repoperls/installed-perls/perl/v5.12.5/a2da/lib/site_perl/5.12.5/Font/TTF/Cmap.pm line 330.
Use of uninitialized value in pack at /home/src/perl/repoperls/installed-perls/perl/v5.12.5/a2da/lib/site_perl/5.12.5/Font/TTF/Cmap.pm line 330.
Use of uninitialized value in pack at /home/src/perl/repoperls/installed-perls/perl/v5.12.5/a2da/lib/site_perl/5.12.5/Font/TTF/Cmap.pm line 330.
Use of uninitialized value in pack at /home/src/perl/repoperls/installed-perls/perl/v5.12.5/a2da/lib/site_perl/5.12.5/Font/TTF/Cmap.pm line 330.
Use of uninitialized value in pack at /home/src/perl/repoperls/installed-perls/perl/v5.12.5/a2da/lib/site_perl/5.12.5/Font/TTF/Cmap.pm line 330.
Use of uninitialized value in pack at /home/src/perl/repoperls/installed-perls/perl/v5.12.5/a2da/lib/site_perl/5.12.5/Font/TTF/Cmap.pm line 330.
Use of uninitialized value in pack at /home/src/perl/repoperls/installed-perls/perl/v5.12.5/a2da/lib/site_perl/5.12.5/Font/TTF/Cmap.pm line 330.
Use of uninitialized value in pack at /home/src/perl/repoperls/installed-perls/perl/v5.12.5/a2da/lib/site_perl/5.12.5/Font/TTF/Cmap.pm line 330.
Use of uninitialized value in pack at /home/src/perl/repoperls/installed-perls/perl/v5.12.5/a2da/lib/site_perl/5.12.5/Font/TTF/Cmap.pm line 330.
Use of uninitialized value in pack at /home/src/perl/repoperls/installed-perls/perl/v5.12.5/a2da/lib/site_perl/5.12.5/Font/TTF/Cmap.pm line 330.
Use of uninitialized value in pack at /home/src/perl/repoperls/installed-perls/perl/v5.12.5/a2da/lib/site_perl/5.12.5/Font/TTF/Cmap.pm line 330.
Use of uninitialized value in pack at /home/src/perl/repoperls/installed-perls/perl/v5.12.5/a2da/lib/site_perl/5.12.5/Font/TTF/Cmap.pm line 330.
Use of uninitialized value in pack at /home/src/perl/repoperls/installed-perls/perl/v5.12.5/a2da/lib/site_perl/5.12.5/Font/TTF/Cmap.pm line 330.
Use of uninitialized value in pack at /home/src/perl/repoperls/installed-perls/perl/v5.12.5/a2da/lib/site_perl/5.12.5/Font/TTF/Cmap.pm line 330.
Use of uninitialized value in pack at /home/src/perl/repoperls/installed-perls/perl/v5.12.5/a2da/lib/site_perl/5.12.5/Font/TTF/Cmap.pm line 330.
Use of uninitialized value in pack at /home/src/perl/repoperls/installed-perls/perl/v5.12.5/a2da/lib/site_perl/5.12.5/Font/TTF/Cmap.pm line 330.
Use of uninitialized value in pack at /home/src/perl/repoperls/installed-perls/perl/v5.12.5/a2da/lib/site_perl/5.12.5/Font/TTF/Cmap.pm line 330.
Use of uninitialized value in pack at /home/src/perl/repoperls/installed-perls/perl/v5.12.5/a2da/lib/site_perl/5.12.5/Font/TTF/Cmap.pm line 330.
Filehandle $fh opened only for output at /home/src/perl/repoperls/installed-perls/perl/v5.12.5/a2da/lib/5.12.5/x86_64-linux-thread-multi-ld/IO/Handle.pm line 445.
Filehandle $fh opened only for output at /home/src/perl/repoperls/installed-perls/perl/v5.12.5/a2da/lib/5.12.5/x86_64-linux-thread-multi-ld/IO/Handle.pm line 445.
Filehandle $fh opened only for output at /home/src/perl/repoperls/installed-perls/perl/v5.12.5/a2da/lib/5.12.5/x86_64-linux-thread-multi-ld/IO/Handle.pm line 445.
Filehandle $fh opened only for output at /home/src/perl/repoperls/installed-perls/perl/v5.12.5/a2da/lib/5.12.5/x86_64-linux-thread-multi-ld/IO/Handle.pm line 445.
Argument " CSUM" isn't numeric in sort at /home/src/perl/repoperls/installed-perls/perl/v5.12.5/a2da/lib/site_perl/5.12.5/Font/TTF/Hdmx.pm line 83.
Argument " isDirty" isn't numeric in sort at /home/src/perl/repoperls/installed-perls/perl/v5.12.5/a2da/lib/site_perl/5.12.5/Font/TTF/Hdmx.pm line 83.
Argument " LENGTH" isn't numeric in sort at /home/src/perl/repoperls/installed-perls/perl/v5.12.5/a2da/lib/site_perl/5.12.5/Font/TTF/Hdmx.pm line 83.
Argument " NAME" isn't numeric in sort at /home/src/perl/repoperls/installed-perls/perl/v5.12.5/a2da/lib/site_perl/5.12.5/Font/TTF/Hdmx.pm line 83.
Argument " OFFSET" isn't numeric in sort at /home/src/perl/repoperls/installed-perls/perl/v5.12.5/a2da/lib/site_perl/5.12.5/Font/TTF/Hdmx.pm line 83.
Argument " INFILE" isn't numeric in sort at /home/src/perl/repoperls/installed-perls/perl/v5.12.5/a2da/lib/site_perl/5.12.5/Font/TTF/Hdmx.pm line 83.
Argument " subsetdone" isn't numeric in sort at /home/src/perl/repoperls/installed-perls/perl/v5.12.5/a2da/lib/site_perl/5.12.5/Font/TTF/Hdmx.pm line 83.
Argument " PARENT" isn't numeric in sort at /home/src/perl/repoperls/installed-perls/perl/v5.12.5/a2da/lib/site_perl/5.12.5/Font/TTF/Hdmx.pm line 83.
Argument "Version" isn't numeric in sort at /home/src/perl/repoperls/installed-perls/perl/v5.12.5/a2da/lib/site_perl/5.12.5/Font/TTF/Hdmx.pm line 83.
Argument " ZLENGTH" isn't numeric in sort at /home/src/perl/repoperls/installed-perls/perl/v5.12.5/a2da/lib/site_perl/5.12.5/Font/TTF/Hdmx.pm line 83.
Argument " read" isn't numeric in sort at /home/src/perl/repoperls/installed-perls/perl/v5.12.5/a2da/lib/site_perl/5.12.5/Font/TTF/Hdmx.pm line 83.
Argument "Num" isn't numeric in sort at /home/src/perl/repoperls/installed-perls/perl/v5.12.5/a2da/lib/site_perl/5.12.5/Font/TTF/Hdmx.pm line 83.
Filehandle $fh opened only for output at /home/src/perl/repoperls/installed-perls/perl/v5.12.5/a2da/lib/5.12.5/x86_64-linux-thread-multi-ld/IO/Handle.pm line 445.
Filehandle $fh opened only for output at /home/src/perl/repoperls/installed-perls/perl/v5.12.5/a2da/lib/5.12.5/x86_64-linux-thread-multi-ld/IO/Handle.pm line 445.
Filehandle $fh opened only for output at /home/src/perl/repoperls/installed-perls/perl/v5.12.5/a2da/lib/5.12.5/x86_64-linux-thread-multi-ld/IO/Handle.pm line 445.
Filehandle $fh opened only for output at /home/src/perl/repoperls/installed-perls/perl/v5.12.5/a2da/lib/5.12.5/x86_64-linux-thread-multi-ld/IO/Handle.pm line 445.
Filehandle $fh opened only for output at /home/src/perl/repoperls/installed-perls/perl/v5.12.5/a2da/lib/5.12.5/x86_64-linux-thread-multi-ld/IO/Handle.pm line 445.
Filehandle $fh opened only for output at /home/src/perl/repoperls/installed-perls/perl/v5.12.5/a2da/lib/5.12.5/x86_64-linux-thread-multi-ld/IO/Handle.pm line 445.
Filehandle $fh opened only for output at /home/src/perl/repoperls/installed-perls/perl/v5.12.5/a2da/lib/5.12.5/x86_64-linux-thread-multi-ld/IO/Handle.pm line 445.
Filehandle $fh opened only for output at /home/src/perl/repoperls/installed-perls/perl/v5.12.5/a2da/lib/5.12.5/x86_64-linux-thread-multi-ld/IO/Handle.pm line 445.
Filehandle $fh opened only for output at /home/src/perl/repoperls/installed-perls/perl/v5.12.5/a2da/lib/5.12.5/x86_64-linux-thread-multi-ld/IO/Handle.pm line 445.
Filehandle $fh opened only for output at /home/src/perl/repoperls/installed-perls/perl/v5.12.5/a2da/lib/5.12.5/x86_64-linux-thread-multi-ld/IO/Handle.pm line 445.
t/cache.t ..................... ok
All tests successful.
Files=4, Tests=10,  3 wallclock secs ( 0.02 usr  0.02 sys +  1.57 cusr  0.12 csys =  1.73 CPU)
Result: PASS

------------------------------
PREREQUISITES
------------------------------

Prerequisite modules loaded:

requires:

    Module                     Need   Have    
    -------------------------- ------ --------
    Dancer                     0      1.3113  
    Dancer::Plugin             0      0       
    Font::TTF::Font            0      0.39    
    Font::TTF::Scripts::Name   0      0       
    List::AllUtils             0      0.03    
    Moo                        0      1.002000
    MooX::Singleton            0      1.20    
    warnings                   0      1.09    

build_requires:

    Module                     Need   Have    
    -------------------------- ------ --------
    Dancer::Plugin::Cache::CHI 0      1.4.0   
    Dancer::Test               0      0       
    File::Find                 0      1.15    
    File::Temp                 0      0.2301  
    Module::Build              0.3601 0.4005  
    strict                     0      1.04    
    Test::More                 0.88   0.98    

configure_requires:

    Module                     Need   Have    
    -------------------------- ------ --------
    Module::Build              0.3601 0.4005  


------------------------------
ENVIRONMENT AND OTHER CONTEXT
------------------------------

Environment variables:

    AUTOMATED_TESTING = 1
    LANG = en_US.UTF-8
    LANGUAGE = en_US:en
    PATH = /usr/lib/ccache:/home/sand/bin:/usr/local/bin:/usr/bin:/bin:/usr/bin/X11:/usr/games:/usr/local/perl/bin:/usr/X11/bin:/sbin:/usr/sbin
    PERL5LIB = 
    PERL5OPT = 
    PERL5_CPANPLUS_IS_RUNNING = 6146
    PERL5_CPAN_IS_RUNNING = 6146
    PERL_MM_USE_DEFAULT = 1
    SHELL = /usr/bin/zsh
    TERM = screen

Perl special variables (and OS-specific diagnostics, for MSWin32):

    $^X = /home/sand/src/perl/repoperls/installed-perls/perl/v5.12.5/a2da/bin/perl
    $UID/$EUID = 1005 / 1005
    $GID = 1005 1005
    $EGID = 1005 1005

Perl module toolchain versions installed:

    Module              Have    
    ------------------- --------
    CPAN                2.00    
    CPAN::Meta          2.131560
    Cwd                 3.40    
    ExtUtils::CBuilder  0.280205
    ExtUtils::Command   1.16    
    ExtUtils::Install   1.55    
    ExtUtils::MakeMaker 6.69_01 
    ExtUtils::Manifest  1.60    
    ExtUtils::ParseXS   3.18_04 
    File::Spec          3.40    
    JSON                2.59    
    JSON::PP            2.27202 
    Module::Build       0.4005  
    Module::Signature   0.73    
    Parse::CPAN::Meta   1.4404  
    Test::Harness       3.28    
    Test::More          0.98    
    YAML                0.84    
    YAML::Syck          1.27    
    version             0.9902  


--

Summary of my perl5 (revision 5 version 12 subversion 5) configuration:
  Commit id: 9a9cbd715960a905dcbc9166349a73a64a007e4e
  Platform:
    osname=linux, osvers=3.2.0-4-amd64, archname=x86_64-linux-thread-multi-ld
    uname='linux k83 3.2.0-4-amd64 #1 smp debian 3.2.35-2 x86_64 gnulinux '
    config_args='-Dprefix=/home/src/perl/repoperls/installed-perls/perl/v5.12.5/a2da -Dmyhostname=k83 -Dinstallusrbinperl=n -Uversiononly -Dusedevel -des -Ui_db -Duseithreads -Duselongdouble -DDEBUGGING=-g'
    hint=recommended, useposix=true, d_sigaction=define
    useithreads=define, usemultiplicity=define
    useperlio=define, d_sfio=undef, uselargefiles=define, usesocks=undef
    use64bitint=define, use64bitall=define, uselongdouble=define
    usemymalloc=n, bincompat5005=undef
  Compiler:
    cc='cc', ccflags ='-D_REENTRANT -D_GNU_SOURCE -fno-strict-aliasing -pipe -fstack-protector -I/usr/local/include -D_LARGEFILE_SOURCE -D_FILE_OFFSET_BITS=64',
    optimize='-O2 -g',
    cppflags='-D_REENTRANT -D_GNU_SOURCE -fno-strict-aliasing -pipe -fstack-protector -I/usr/local/include'
    ccversion='', gccversion='4.7.2', gccosandvers=''
    intsize=4, longsize=8, ptrsize=8, doublesize=8, byteorder=12345678
    d_longlong=define, longlongsize=8, d_longdbl=define, longdblsize=16
    ivtype='long', ivsize=8, nvtype='long double', nvsize=16, Off_t='off_t', lseeksize=8
    alignbytes=16, prototype=define
  Linker and Libraries:
    ld='cc', ldflags =' -fstack-protector -L/usr/local/lib'
    libpth=/usr/local/lib /lib/x86_64-linux-gnu /lib/../lib /usr/lib/x86_64-linux-gnu /usr/lib/../lib /lib /usr/lib
    libs=-lnsl -ldb -ldl -lm -lcrypt -lutil -lpthread -lc
    perllibs=-lnsl -ldl -lm -lcrypt -lutil -lpthread -lc
    libc=, so=so, useshrplib=false, libperl=libperl.a
    gnulibc_version='2.13'
  Dynamic Linking:
    dlsrc=dl_dlopen.xs, dlext=so, d_dlsymun=undef, ccdlflags='-Wl,-E'
    cccdlflags='-fPIC', lddlflags='-shared -O2 -g -L/usr/local/lib -fstack-protector'


Characteristics of this binary (from libperl): 
  Compile-time options: MULTIPLICITY PERL_DONT_CREATE_GVSV
                        PERL_IMPLICIT_CONTEXT PERL_MALLOC_WRAP PERL_USE_DEVEL
                        USE_64_BIT_ALL USE_64_BIT_INT USE_ITHREADS
                        USE_LARGE_FILES USE_LONG_DOUBLE USE_PERLIO
                        USE_PERL_ATOF USE_REENTRANT_API
  Built under linux
  Compiled at Jan  2 2013 06:47:11
  %ENV:
    PERL5LIB=""
    PERL5OPT=""
    PERL5_CPANPLUS_IS_RUNNING="6146"
    PERL5_CPAN_IS_RUNNING="6146"
    PERL_MM_USE_DEFAULT="1"
  @INC:
    /home/src/perl/repoperls/installed-perls/perl/v5.12.5/a2da/lib/site_perl/5.12.5/x86_64-linux-thread-multi-ld
    /home/src/perl/repoperls/installed-perls/perl/v5.12.5/a2da/lib/site_perl/5.12.5
    /home/src/perl/repoperls/installed-perls/perl/v5.12.5/a2da/lib/5.12.5/x86_64-linux-thread-multi-ld
    /home/src/perl/repoperls/installed-perls/perl/v5.12.5/a2da/lib/5.12.5
    .