Promise-ES6 v0.24_02 Perl 5 v5.24.4 amd64-freebsd

Status
Pass
From
Slaven Rezić
Dist
Promise-ES6 v0.24_02
Platform
Perl 5 v5.24.4 amd64-freebsd
Date
2021-02-21 06:06:50
ID
fd09784c-740a-11eb-8933-d35c1f24ea8f
This distribution has been tested as part of the CPAN Testers
project, supporting the Perl programming language.  See
http://wiki.cpantesters.org/ for more information or email
questions to cpan-testers-discuss@perl.org


--
Dear Felipe Gasper,

This is a computer-generated report for Promise-ES6-0.24_02
on perl 5.24.4, created by CPAN-Reporter-1.2018.

Thank you for uploading your work to CPAN.  Congratulations!
All tests were successful.

Sections of this report:

    * Tester comments
    * Program output
    * Prerequisites
    * Environment and other context

------------------------------
TESTER COMMENTS
------------------------------

Additional comments from tester:

none provided

------------------------------
PROGRAM OUTPUT
------------------------------

Output from '/usr/bin/make test':

PERL_DL_NONLAZY=1 "/usr/perl5.24.4p/bin/perl" "-MExtUtils::Command::MM" "-MTest::Harness" "-e" "undef *Test::Harness::Switches; test_harness(0, 'blib/lib', 'blib/arch')" t/*.t
# Devel::GlobalDestruction is available and loaded.
t/all.t ........................... ok
# Devel::GlobalDestruction is available and loaded.
t/all_async.t ..................... ok
# Devel::GlobalDestruction is available and loaded.
t/allsettled.t .................... ok
t/anyevent.t ...................... ok
Promise::ES6=HASH(0x8030a6498): Unhandled rejection: Late oopsie
 at /usr/perl5.24.4p/lib/site_perl/5.24.4/amd64-freebsd/Test/Future/AsyncAwait/Awaitable.pm line 156.
Promise::ES6=HASH(0x808152450): Unhandled rejection: Late oopsie
 at /usr/perl5.24.4p/lib/site_perl/5.24.4/amd64-freebsd/Test/Future/AsyncAwait/Awaitable.pm line 156.
Promise::ES6=HASH(0x8030ba600): Unhandled rejection: Late oopsie
 at /usr/perl5.24.4p/lib/site_perl/5.24.4/amd64-freebsd/Test/Future/AsyncAwait/Awaitable.pm line 156.
Promise::ES6=HASH(0x80310b648): Unhandled rejection: Late oopsie
 at /usr/perl5.24.4p/lib/site_perl/5.24.4/amd64-freebsd/Test/Future/AsyncAwait/Awaitable.pm line 156.
Promise::ES6=HASH(0x8081522d0): Unhandled rejection: Oopsie
 at t/async_await.t line 0.
Promise::ES6=HASH(0x80310b4f8): Unhandled rejection: Oopsie
 at t/async_await.t line 0.
Promise::ES6=HASH(0x8030ba180): Unhandled rejection: Oopsie
 at t/async_await.t line 0.
Promise::ES6=HASH(0x8030a4198): Unhandled rejection: Oopsie
 at t/async_await.t line 0.
t/async_await.t ................... ok
t/async_await_hold_ref.t .......... ok
# Devel::GlobalDestruction is available and loaded.
t/await.t ......................... ok
# Devel::GlobalDestruction is available and loaded.
# MASTER PID: 48082
t/await_then_with_async.t ......... ok
# Devel::GlobalDestruction is available and loaded.
t/await_with_async.t .............. ok
# Devel::GlobalDestruction is available and loaded.
t/catch.t ......................... ok
# Devel::GlobalDestruction is available and loaded.
t/catch_asyncreject.t ............. ok
# Devel::GlobalDestruction is available and loaded.
t/finally.t ....................... ok
t/future.t ........................ ok
Promise::ES6=HASH(0x801c3c588): Unhandled rejection: abc at -e line 1.
 at -e line 0.
# [
#   ''
# ]
t/global_destruction.t ............ ok
t/ioasync.t ....................... ok
# Devel::GlobalDestruction is available and loaded.
t/memory_leaks.t .................. ok
t/mojo.t .......................... ok
# Devel::GlobalDestruction is available and loaded.
t/multi_then.t .................... ok
t/no_leak_stashed_ref.t ........... ok
# Devel::GlobalDestruction is available and loaded.
t/race.t .......................... ok
# Devel::GlobalDestruction is available and loaded.
t/race_async.t .................... ok
# Devel::GlobalDestruction is available and loaded.
t/race_fail.t ..................... ok
# Devel::GlobalDestruction is available and loaded.
t/race_success.t .................. ok
# Devel::GlobalDestruction is available and loaded.
t/reject.t ........................ ok
# Devel::GlobalDestruction is available and loaded.
t/resolve.t ....................... ok
# Devel::GlobalDestruction is available and loaded.
t/then.t .......................... ok
# Devel::GlobalDestruction is available and loaded.
t/then_catch.t .................... ok
# Devel::GlobalDestruction is available and loaded.
t/then_promise.t .................. ok
# Devel::GlobalDestruction is available and loaded.
# PID: 48111
t/then_success.t .................. ok
# Devel::GlobalDestruction is available and loaded.
t/then_success_with_no_handler.t .. ok
# Devel::GlobalDestruction is available and loaded.
t/unhandled_rejection.t ........... ok
t/use_event_anyevent.t ............ ok
t/use_event_ioasync.t ............. ok
t/use_event_mojolicious.t ......... ok
All tests successful.
Files=34, Tests=164,  7 wallclock secs ( 0.00 usr  0.12 sys +  0.42 cusr  2.88 csys =  3.43 CPU)
Result: PASS

------------------------------
PREREQUISITES
------------------------------

Prerequisite modules loaded:

build_requires:

    Module              Need     Have    
    ------------------- -------- --------
    autodie             0        2.34    
    ExtUtils::MakeMaker 0        7.58    
    FindBin             0        1.51    
    Test::Class         0        0.52    
    Test::Deep          0        1.130   
    Test::FailWarnings  0        0.008   
    Test::Fatal         0        0.016   
    Test::More          1.302103 1.302183

configure_requires:

    Module              Need     Have    
    ------------------- -------- --------
    ExtUtils::MakeMaker 0        7.58    


------------------------------
ENVIRONMENT AND OTHER CONTEXT
------------------------------

Environment variables:

    LC_ALL = de_DE.ISO8859-1
    PATH = /usr/local/bin:/usr/bin:/bin:/usr/local/sbin:/usr/sbin:/sbin:/home/cpansand/bin/freebsd10.3:/home/cpansand/bin/sh:/home/cpansand/bin:/usr/games:/home/cpansand/devel:/home/eserte/src/srezic-misc/scripts
    PERL5LIB = 
    PERL5OPT = 
    PERL5_CPANPLUS_IS_RUNNING = 47816
    PERL5_CPAN_IS_RUNNING = 47816
    PERL5_CPAN_IS_RUNNING_IN_RECURSION = 45495,47816
    PERLDOC = -MPod::Perldoc::ToTextOverstrike
    PERL_BATCH = yes
    PERL_CANARY_STABILITY_NOPROMPT = 1
    PERL_CPAN_REPORTER_CONFIG = /var/tmp/cpansmoker-1023/2021022106/cpanreporter_000_config.ini
    PERL_EXTUTILS_AUTOINSTALL = --defaultdeps
    PERL_USE_UNSAFE_INC = 1
    SHELL = /usr/local/bin/zsh
    TERM = screen
    TMPDIR = /var/tmp/cpansmoker-1023/2021022106

Perl special variables (and OS-specific diagnostics, for MSWin32):

    $^X = /usr/perl5.24.4p/bin/perl
    $UID/$EUID = 1023 / 1023
    $GID = 1023 1023
    $EGID = 1023 1023

Perl module toolchain versions installed:

    Module              Have    
    ------------------- --------
    CPAN                2.28    
    CPAN::Meta          2.150010
    Cwd                 3.75    
    ExtUtils::CBuilder  0.280235
    ExtUtils::Command   7.58    
    ExtUtils::Install   2.20    
    ExtUtils::MakeMaker 7.58    
    ExtUtils::Manifest  1.70    
    ExtUtils::ParseXS   3.35    
    File::Spec          3.75    
    JSON                4.03    
    JSON::PP            4.05    
    Module::Build       0.4229  
    Module::Signature   0.87    
    Parse::CPAN::Meta   2.150010
    Test::Harness       3.42    
    Test::More          1.302183
    YAML                1.30    
    YAML::Syck          1.34    
    version             0.9928  


--

Summary of my perl5 (revision 5 version 24 subversion 4) configuration:
   
  Platform:
    osname=freebsd, osvers=10.3-release-p24, archname=amd64-freebsd
    uname='freebsd cvrsnica-freebsd-101.herceg.de 10.3-release-p24 freebsd 10.3-release-p24 #0: wed nov 15 04:57:40 utc 2017 root@amd64-builder.daemonology.net:usrobjusrsrcsysgeneric amd64 '
    config_args='-ds -e -Dprefix=/usr/perl5.24.4p -Dcf_email=srezic@cpan.org -Doptimize=-O2 -pipe'
    hint=recommended, useposix=true, d_sigaction=define
    useithreads=undef, usemultiplicity=undef
    use64bitint=define, use64bitall=define, uselongdouble=undef
    usemymalloc=n, bincompat5005=undef
  Compiler:
    cc='cc', ccflags ='-DHAS_FPSETMASK -DHAS_FLOATINGPOINT_H -fno-strict-aliasing -pipe -fstack-protector -I/usr/local/include -D_FORTIFY_SOURCE=2',
    optimize='-O2 -pipe',
    cppflags='-DHAS_FPSETMASK -DHAS_FLOATINGPOINT_H -fno-strict-aliasing -pipe -fstack-protector -I/usr/local/include'
    ccversion='', gccversion='4.2.1 Compatible FreeBSD Clang 3.4.1 (tags/RELEASE_34/dot1-final 208032)', gccosandvers=''
    intsize=4, longsize=8, ptrsize=8, doublesize=8, byteorder=12345678, doublekind=3
    d_longlong=define, longlongsize=8, d_longdbl=define, longdblsize=16, longdblkind=3
    ivtype='long', ivsize=8, nvtype='double', nvsize=8, Off_t='off_t', lseeksize=8
    alignbytes=8, prototype=define
  Linker and Libraries:
    ld='cc', ldflags ='-pthread -Wl,-E  -fstack-protector -L/usr/local/lib'
    libpth=/usr/lib /usr/local/lib /usr/include/clang/3.4.1 /usr/lib
    libs=-lpthread -lgdbm -lm -lcrypt -lutil -lc
    perllibs=-lpthread -lm -lcrypt -lutil -lc
    libc=, so=so, useshrplib=false, libperl=libperl.a
    gnulibc_version=''
  Dynamic Linking:
    dlsrc=dl_dlopen.xs, dlext=so, d_dlsymun=undef, ccdlflags=' '
    cccdlflags='-DPIC -fPIC', lddlflags='-shared  -L/usr/local/lib -fstack-protector'


Characteristics of this binary (from libperl): 
  Compile-time options: HAS_TIMES PERLIO_LAYERS PERL_COPY_ON_WRITE
                        PERL_DONT_CREATE_GVSV
                        PERL_HASH_FUNC_ONE_AT_A_TIME_HARD PERL_MALLOC_WRAP
                        PERL_PRESERVE_IVUV USE_64_BIT_ALL USE_64_BIT_INT
                        USE_LARGE_FILES USE_LOCALE USE_LOCALE_COLLATE
                        USE_LOCALE_CTYPE USE_LOCALE_NUMERIC USE_LOCALE_TIME
                        USE_PERLIO USE_PERL_ATOF
  Built under freebsd
  Compiled at Dec 11 2018 23:48:33
  %ENV:
    PERL5LIB=""
    PERL5OPT=""
    PERL5_CPANPLUS_IS_RUNNING="47816"
    PERL5_CPAN_IS_RUNNING="47816"
    PERL5_CPAN_IS_RUNNING_IN_RECURSION="45495,47816"
    PERLDOC="-MPod::Perldoc::ToTextOverstrike"
    PERL_BATCH="yes"
    PERL_CANARY_STABILITY_NOPROMPT="1"
    PERL_CPAN_REPORTER_CONFIG="/var/tmp/cpansmoker-1023/2021022106/cpanreporter_000_config.ini"
    PERL_EXTUTILS_AUTOINSTALL="--defaultdeps"
    PERL_USE_UNSAFE_INC="1"
  @INC:
    /usr/perl5.24.4p/lib/site_perl/5.24.4/amd64-freebsd
    /usr/perl5.24.4p/lib/site_perl/5.24.4
    /usr/perl5.24.4p/lib/5.24.4/amd64-freebsd
    /usr/perl5.24.4p/lib/5.24.4
    .