Module-CPANTS-Analyse v1.01 Perl 5 v5.34.0 darwin-2level

Status
Pass
From
Roland van Ipenburg (IPENBURG)
Dist
Module-CPANTS-Analyse v1.01
Platform
Perl 5 v5.34.0 darwin-2level
Date
2021-05-23 19:35:11
ID
fd0e6c7c-bbfd-11eb-a8e1-8e84fbcff193
This distribution has been tested as part of the CPAN Testers
project, supporting the Perl programming language.  See
http://wiki.cpantesters.org/ for more information or email
questions to cpan-testers-discuss@perl.org


--
Dear Kenichi Ishigaki,

This is a computer-generated report for Module-CPANTS-Analyse-1.01
on perl 5.34.0, created by CPAN-Reporter-1.2018.

Thank you for uploading your work to CPAN.  Congratulations!
All tests were successful.

Sections of this report:

    * Tester comments
    * Program output
    * Prerequisites
    * Environment and other context

------------------------------
TESTER COMMENTS
------------------------------

Additional comments from tester:

none provided

------------------------------
PROGRAM OUTPUT
------------------------------

Output from '/usr/bin/make test':

PERL_DL_NONLAZY=1 "/usr/local/bin/perl" "-MExtUtils::Command::MM" "-MTest::Harness" "-e" "undef *Test::Harness::Switches; test_harness(0, 'blib/lib', 'blib/arch')" t/*.t t/*/*.t
t/00_load.t .............. ok
t/05_testdir.t ........... ok
t/05_testfile.t .......... ok
t/analyse/manifest.t ..... ok
t/analyse/pod.t .......... ok
t/analyse/uses.t ......... ok
t/older_test_kwalitee.t .. ok
t/x_cpants.t ............. ok
All tests successful.
Files=8, Tests=51,  3 wallclock secs ( 0.04 usr  0.02 sys +  2.00 cusr  0.49 csys =  2.55 CPU)
Result: PASS

------------------------------
PREREQUISITES
------------------------------

Prerequisite modules loaded:

requires:

    Module                            Need     Have    
    --------------------------------- -------- --------
    Archive::Any::Lite                0.06     0.11    
    Archive::Tar                      1.76     2.38    
    Array::Diff                       0.04     0.09    
    Class::Accessor                   0.19     0.51    
    CPAN::DistnameInfo                0.06     0.12    
    CPAN::Meta::Validator             2.133380 2.150010
    CPAN::Meta::YAML                  0.008    0.018   
    Data::Binary                      0        0.01    
    File::Find::Object                v0.2.1   0.3.5   
    JSON::PP                          0        4.06    
    List::Util                        1.33     1.56    
    Module::Find                      0        0.15    
    perl                              5.008001 5.034000
    Perl::PrereqScanner::NotQuiteLite 0.9901   0.9913  
    Software::License                 0.103012 0.103014
    Text::Balanced                    0        2.04    
    version                           0.73     0.9928  

build_requires:

    Module                            Need     Have    
    --------------------------------- -------- --------
    Cwd                               0        3.80    
    ExtUtils::MakeMaker               0        7.62    
    Test::FailWarnings                0        0.008   
    Test::More                        0.88     1.302183

configure_requires:

    Module                            Need     Have    
    --------------------------------- -------- --------
    ExtUtils::MakeMaker::CPANfile     0.08     0.09    
    perl                              5.008001 5.034000


------------------------------
ENVIRONMENT AND OTHER CONTEXT
------------------------------

Environment variables:

    LANG = en_US.UTF-8
    LC_ALL = en_US.UTF-8
    LC_CTYPE = UTF-8
    PATH = /Users/roliep/.nvm/versions/node/v15.3.0/bin:/usr/local/bin/:/usr/local/bin:/opt/local/sbin:/opt/local/bin:/Users/roliep/.composer/vendor/bin:/usr/local/sbin:/usr/bin:/usr/sbin:/bin:/sbin:/Users/roliep/.gem/ruby/2.6.0/bin:/opt/local/bin:/opt/local/sbin:/opt/local/bin:/opt/local/sbin:/opt/local/bin:/opt/local/sbin:/Users/roliep/pebble-dev/PebbleSDK-current/bin:/Users/roliep/.nvm/versions/node/v15.3.0/bin:/usr/local/bin/:/usr/local/bin:/opt/local/sbin:/opt/local/bin:/Users/roliep/.composer/vendor/bin:/usr/local/sbin:/usr/bin:/usr/sbin:/bin:/sbin:/Users/roliep/.gem/ruby/2.6.0/bin:/usr/local/bin:/usr/bin:/bin:/usr/sbin:/sbin:/usr/local/MacGPG2/bin:/opt/X11/bin:/Library/Apple/usr/bin:/Users/roliep/bin/FDK/Tools/osx
    PERL5LIB = 
    PERL5OPT = 
    PERL5_CPANPLUS_IS_RUNNING = 92179
    PERL5_CPAN_IS_RUNNING = 92179
    PERL_USE_UNSAFE_INC = 1
    SHELL = /bin/sh
    TERM = screen

Perl special variables (and OS-specific diagnostics, for MSWin32):

    $^X = /usr/local/bin/perl
    $UID/$EUID = 0 / 0
    $GID = 0 0 1 2 3 4 5 8 9 12 20 29 61 80 701 702 703
    $EGID = 0 0 1 2 3 4 5 8 9 12 20 29 61 80 701 702 703

Perl module toolchain versions installed:

    Module              Have    
    ------------------- --------
    CPAN                2.28    
    CPAN::Meta          2.150010
    Cwd                 3.80    
    ExtUtils::CBuilder  0.280236
    ExtUtils::Command   7.62    
    ExtUtils::Install   2.20    
    ExtUtils::MakeMaker 7.62    
    ExtUtils::Manifest  1.73    
    ExtUtils::ParseXS   3.43    
    File::Spec          3.80    
    JSON                4.03    
    JSON::PP            4.06    
    Module::Build       0.4231  
    Module::Signature   n/a     
    Parse::CPAN::Meta   2.150010
    Test::Harness       3.43    
    Test::More          1.302183
    YAML                1.30    
    YAML::Syck          n/a     
    version             0.9928  


--

Summary of my perl5 (revision 5 version 34 subversion 0) configuration:
   
  Platform:
    osname=darwin
    osvers=20.4.0
    archname=darwin-2level
    uname='darwin midtown.fritz.box 20.4.0 darwin kernel version 20.4.0: thu apr 22 21:46:47 pdt 2021; root:xnu-7195.101.2~1release_x86_64 x86_64 '
    config_args='-des -Dinc_version_list=none'
    hint=recommended
    useposix=true
    d_sigaction=define
    useithreads=undef
    usemultiplicity=undef
    use64bitint=define
    use64bitall=define
    uselongdouble=undef
    usemymalloc=n
    default_inc_excludes_dot=define
  Compiler:
    cc='cc'
    ccflags ='-fno-common -DPERL_DARWIN -mmacosx-version-min=11.3 -fno-strict-aliasing -pipe -fstack-protector-strong -I/usr/local/include -I/opt/local/include -DPERL_USE_SAFE_PUTENV'
    optimize='-O3'
    cppflags='-fno-common -DPERL_DARWIN -mmacosx-version-min=11.3 -fno-strict-aliasing -pipe -fstack-protector-strong -I/usr/local/include -I/opt/local/include'
    ccversion=''
    gccversion='Apple LLVM 12.0.0 (clang-1200.0.32.29)'
    gccosandvers=''
    intsize=4
    longsize=8
    ptrsize=8
    doublesize=8
    byteorder=12345678
    doublekind=3
    d_longlong=define
    longlongsize=8
    d_longdbl=define
    longdblsize=16
    longdblkind=3
    ivtype='long'
    ivsize=8
    nvtype='double'
    nvsize=8
    Off_t='off_t'
    lseeksize=8
    alignbytes=8
    prototype=define
  Linker and Libraries:
    ld='cc'
    ldflags =' -mmacosx-version-min=11.3 -fstack-protector-strong -L/usr/local/lib -L/opt/local/lib'
    libpth=/Volumes/SanDisk/Xcode.app/Contents/Developer/Toolchains/XcodeDefault.xctoolchain/usr/lib/clang/12.0.0/lib /Volumes/SanDisk/Xcode.app/Contents/Developer/Platforms/MacOSX.platform/Developer/SDKs/MacOSX.sdk/usr/lib /Volumes/SanDisk/Xcode.app/Contents/Developer/Toolchains/XcodeDefault.xctoolchain/usr/lib /usr/local/lib /opt/local/lib /usr/lib
    libs=-lgdbm
    perllibs=
    libc=
    so=dylib
    useshrplib=false
    libperl=libperl.a
    gnulibc_version=''
  Dynamic Linking:
    dlsrc=dl_dlopen.xs
    dlext=bundle
    d_dlsymun=undef
    ccdlflags=' '
    cccdlflags=' '
    lddlflags=' -mmacosx-version-min=11.3 -bundle -undefined dynamic_lookup -L/usr/local/lib -L/opt/local/lib -fstack-protector-strong'


Characteristics of this binary (from libperl): 
  Compile-time options:
    HAS_TIMES
    PERLIO_LAYERS
    PERL_COPY_ON_WRITE
    PERL_DONT_CREATE_GVSV
    PERL_MALLOC_WRAP
    PERL_OP_PARENT
    PERL_PRESERVE_IVUV
    PERL_USE_SAFE_PUTENV
    USE_64_BIT_ALL
    USE_64_BIT_INT
    USE_LARGE_FILES
    USE_LOCALE
    USE_LOCALE_COLLATE
    USE_LOCALE_CTYPE
    USE_LOCALE_NUMERIC
    USE_LOCALE_TIME
    USE_PERLIO
    USE_PERL_ATOF
  Built under darwin
  Compiled at May 23 2021 18:17:38
  %ENV:
    PERL5LIB=""
    PERL5OPT=""
    PERL5_CPANPLUS_IS_RUNNING="92179"
    PERL5_CPAN_IS_RUNNING="92179"
    PERL_USE_UNSAFE_INC="1"
  @INC:
    /usr/local/lib/perl5/site_perl/5.34.0/darwin-2level
    /usr/local/lib/perl5/site_perl/5.34.0
    /usr/local/lib/perl5/5.34.0/darwin-2level
    /usr/local/lib/perl5/5.34.0
    .