Regexp-Assemble v0.38 Perl 5 v5.28.2 x86_64-linux-ld
- Status
- Pass
- From
- Nigel Horne
- Dist
-
Regexp-Assemble v0.38
- Platform
- Perl 5 v5.28.2 x86_64-linux-ld
- Date
- 2020-04-16 09:31:02
- ID
- fd253fe0-7fc4-11ea-baf9-8e7157f1bc38
This distribution has been tested as part of the CPAN Testers
project, supporting the Perl programming language. See
http://wiki.cpantesters.org/ for more information or email
questions to cpan-testers-discuss@perl.org
--
Dear Ron Savage,
This is a computer-generated report for Regexp-Assemble-0.38
on perl 5.28.2, created by CPAN-Reporter-1.2018.
Thank you for uploading your work to CPAN. Congratulations!
All tests were successful.
Sections of this report:
* Tester comments
* Program output
* Prerequisites
* Environment and other context
------------------------------
TESTER COMMENTS
------------------------------
Additional comments from tester:
this report is from an automated smoke testing program
and was not reviewed by a human for accuracy
------------------------------
PROGRAM OUTPUT
------------------------------
Output from '/usr/bin/make test':
PERL_DL_NONLAZY=1 "/home/njh/perl5/perlbrew/perls/perl-5.28.2-ld/bin/perl5.28.2" "-MExtUtils::Command::MM" "-MTest::Harness" "-e" "undef *Test::Harness::Switches; test_harness(0, 'blib/lib', 'blib/arch')" t/*.t
# Testing Regexp::Assemble
t/00_basic.t ...... ok
t/02_reduce.t ..... ok
t/01_insert.t ..... ok
t/03_str.t ........ ok
t/04_match.t ...... ok
t/05_hostmatch.t .. ok
t/06_general.t .... ok
t/07_warning.t .... ok
t/08_track.t ...... ok
t/09_debug.t ...... ok
t/10_perl514.t .... ok
All tests successful.
Files=11, Tests=2948, 2 wallclock secs ( 0.37 usr 0.08 sys + 2.45 cusr 0.27 csys = 3.17 CPU)
Result: PASS
------------------------------
PREREQUISITES
------------------------------
Prerequisite modules loaded:
requires:
Module Need Have
------------------- -------- --------
constant 0 1.33
strict 0 1.11
vars 0 1.04
warnings 0 1.42
build_requires:
Module Need Have
------------------- -------- --------
ExtUtils::MakeMaker 0 7.42
Test::More 1.001014 1.302171
configure_requires:
Module Need Have
------------------- -------- --------
ExtUtils::MakeMaker 0 7.42
------------------------------
ENVIRONMENT AND OTHER CONTEXT
------------------------------
Environment variables:
AUTOMATED_TESTING = 1
HARNESS_OPTIONS = j2
LANG = en_US.UTF-8
PATH = /home/njh/perl5/perlbrew/bin:/home/njh/perl5/perlbrew/perls/perl-5.28.2-ld/bin:/home/njh/src/njh/smoker/bin:/usr/bin:/bin
PERL5LIB = /tmp/build/File-Share-0.25-0/blib/arch:/tmp/build/File-Share-0.25-0/blib/lib:/tmp/build/File-ShareDir-1.116-0/blib/arch:/tmp/build/File-ShareDir-1.116-0/blib/lib:/tmp/build/Class-Inspector-1.36-0/blib/arch:/tmp/build/Class-Inspector-1.36-0/blib/lib:/tmp/build/File-ShareDir-Install-0.13-0/blib/arch:/tmp/build/File-ShareDir-Install-0.13-0/blib/lib:/tmp/build/Data-Section-0.200007-0/blib/arch:/tmp/build/Data-Section-0.200007-0/blib/lib:/tmp/build/Test-FailWarnings-0.008-0/blib/arch:/tmp/build/Test-FailWarnings-0.008-0/blib/lib:/tmp/build/App-Greple-8.39-0/blib/arch:/tmp/build/App-Greple-8.39-0/blib/lib:/tmp/build/List-BinarySearch-0.25-0/blib/arch:/tmp/build/List-BinarySearch-0.25-0/blib/lib:/tmp/build/List-BinarySearch-XS-0.09-0/blib/arch:/tmp/build/List-BinarySearch-XS-0.09-0/blib/lib:/tmp/build/Getopt-EX-v1.16.0-0/blib/arch:/tmp/build/Getopt-EX-v1.16.0-0/blib/lib:/tmp/build/Graphics-ColorNames-v3.5.0-0/blib/arch:/tmp/build/Graphics-ColorNames-v3.5.0-0/blib/lib
PERL5OPT =
PERL5_CPANPLUS_IS_RUNNING = 3132115
PERL5_CPAN_IS_RUNNING = 3132115
PERL5_CPAN_IS_RUNNING_IN_RECURSION = 3132051,3132115
PERLBREW_HOME = /home/njh/.perlbrew
PERLBREW_MANPATH = /home/njh/perl5/perlbrew/perls/perl-5.28.2-ld/man
PERLBREW_PATH = /home/njh/perl5/perlbrew/bin:/home/njh/perl5/perlbrew/perls/perl-5.28.2-ld/bin
PERLBREW_PERL = perl-5.28.2-ld
PERLBREW_ROOT = /home/njh/perl5/perlbrew
PERLBREW_SHELLRC_VERSION = 0.86
PERLBREW_VERSION = 0.86
PERL_USE_UNSAFE_INC = 1
SHELL = /bin/sh
TEMP = /tmp/user/1000
TMPDIR = /tmp/user/1000/testwrapper.3132101
Perl special variables (and OS-specific diagnostics, for MSWin32):
$^X = /home/njh/perl5/perlbrew/perls/perl-5.28.2-ld/bin/perl5.28.2
$UID/$EUID = 1000 / 1000
$GID = 1000 4 24 25 29 30 44 46 103 108 115 123 996 1000
$EGID = 1000 4 24 25 29 30 44 46 103 108 115 123 996 1000
Perl module toolchain versions installed:
Module Have
------------------- --------
CPAN 2.27
CPAN::Meta 2.150010
Cwd 3.75
ExtUtils::CBuilder 0.280230
ExtUtils::Command 7.42
ExtUtils::Install 2.14
ExtUtils::MakeMaker 7.42
ExtUtils::Manifest 1.70
ExtUtils::ParseXS 3.39
File::Spec 3.75
JSON 4.02
JSON::PP 4.03
Module::Build 0.4229
Module::Signature n/a
Parse::CPAN::Meta 2.150010
Test::Harness 3.42
Test::More 1.302171
YAML 1.30
YAML::Syck 1.32
version 0.9923
--
Summary of my perl5 (revision 5 version 28 subversion 2) configuration:
Platform:
osname=linux
osvers=4.16.0-2-amd64
archname=x86_64-linux-ld
uname='linux amelia 4.16.0-2-amd64 #1 smp debian 4.16.16-2 (2018-06-22) x86_64 gnulinux '
config_args='-de -Dprefix=/home/njh/perl5/perlbrew/perls/perl-5.28.2-ld -Dusedevel -Duselongdouble -Accflags= -Aeval:scriptdir=/home/njh/perl5/perlbrew/perls/perl-5.28.2-ld/bin'
hint=recommended
useposix=true
d_sigaction=define
useithreads=undef
usemultiplicity=undef
use64bitint=define
use64bitall=define
uselongdouble=define
usemymalloc=n
default_inc_excludes_dot=define
bincompat5005=undef
Compiler:
cc='cc'
ccflags ='-fwrapv -fno-strict-aliasing -pipe -fstack-protector-strong -I/usr/local/include -D_LARGEFILE_SOURCE -D_FILE_OFFSET_BITS=64'
optimize='-O2'
cppflags='-fwrapv -fno-strict-aliasing -pipe -fstack-protector-strong -I/usr/local/include'
ccversion=''
gccversion='8.3.0'
gccosandvers=''
intsize=4
longsize=8
ptrsize=8
doublesize=8
byteorder=12345678
doublekind=3
d_longlong=define
longlongsize=8
d_longdbl=define
longdblsize=16
longdblkind=3
ivtype='long'
ivsize=8
nvtype='long double'
nvsize=16
Off_t='off_t'
lseeksize=8
alignbytes=16
prototype=define
Linker and Libraries:
ld='cc'
ldflags =' -fstack-protector-strong -L/usr/local/lib'
libpth=/usr/local/lib /usr/lib/gcc/x86_64-linux-gnu/8/include-fixed /usr/include/x86_64-linux-gnu /usr/lib /lib/x86_64-linux-gnu /lib/../lib /usr/lib/x86_64-linux-gnu /usr/lib/../lib /lib /lib64 /usr/lib64
libs=-lpthread -lnsl -lgdbm -ldb -ldl -lm -lcrypt -lutil -lc
perllibs=-lpthread -lnsl -ldl -lm -lcrypt -lutil -lc
libc=libc-2.28.so
so=so
useshrplib=false
libperl=libperl.a
gnulibc_version='2.28'
Dynamic Linking:
dlsrc=dl_dlopen.xs
dlext=so
d_dlsymun=undef
ccdlflags='-Wl,-E'
cccdlflags='-fPIC'
lddlflags='-shared -O2 -L/usr/local/lib -fstack-protector-strong'
Characteristics of this binary (from libperl):
Compile-time options:
HAS_TIMES
PERLIO_LAYERS
PERL_COPY_ON_WRITE
PERL_DONT_CREATE_GVSV
PERL_MALLOC_WRAP
PERL_OP_PARENT
PERL_PRESERVE_IVUV
PERL_USE_DEVEL
USE_64_BIT_ALL
USE_64_BIT_INT
USE_LARGE_FILES
USE_LOCALE
USE_LOCALE_COLLATE
USE_LOCALE_CTYPE
USE_LOCALE_NUMERIC
USE_LOCALE_TIME
USE_LONG_DOUBLE
USE_PERLIO
USE_PERL_ATOF
Locally applied patches:
Devel::PatchPerl 1.48
Built under linux
Compiled at Apr 24 2019 01:16:03
%ENV:
PERL5LIB="/tmp/build/File-Share-0.25-0/blib/arch:/tmp/build/File-Share-0.25-0/blib/lib:/tmp/build/File-ShareDir-1.116-0/blib/arch:/tmp/build/File-ShareDir-1.116-0/blib/lib:/tmp/build/Class-Inspector-1.36-0/blib/arch:/tmp/build/Class-Inspector-1.36-0/blib/lib:/tmp/build/File-ShareDir-Install-0.13-0/blib/arch:/tmp/build/File-ShareDir-Install-0.13-0/blib/lib:/tmp/build/Data-Section-0.200007-0/blib/arch:/tmp/build/Data-Section-0.200007-0/blib/lib:/tmp/build/Test-FailWarnings-0.008-0/blib/arch:/tmp/build/Test-FailWarnings-0.008-0/blib/lib:/tmp/build/App-Greple-8.39-0/blib/arch:/tmp/build/App-Greple-8.39-0/blib/lib:/tmp/build/List-BinarySearch-0.25-0/blib/arch:/tmp/build/List-BinarySearch-0.25-0/blib/lib:/tmp/build/List-BinarySearch-XS-0.09-0/blib/arch:/tmp/build/List-BinarySearch-XS-0.09-0/blib/lib:/tmp/build/Getopt-EX-v1.16.0-0/blib/arch:/tmp/build/Getopt-EX-v1.16.0-0/blib/lib:/tmp/build/Graphics-ColorNames-v3.5.0-0/blib/arch:/tmp/build/Graphics-ColorNames-v3.5.0-0/blib/lib"
PERL5OPT=""
PERL5_CPANPLUS_IS_RUNNING="3132115"
PERL5_CPAN_IS_RUNNING="3132115"
PERL5_CPAN_IS_RUNNING_IN_RECURSION="3132051,3132115"
PERLBREW_HOME="/home/njh/.perlbrew"
PERLBREW_MANPATH="/home/njh/perl5/perlbrew/perls/perl-5.28.2-ld/man"
PERLBREW_PATH="/home/njh/perl5/perlbrew/bin:/home/njh/perl5/perlbrew/perls/perl-5.28.2-ld/bin"
PERLBREW_PERL="perl-5.28.2-ld"
PERLBREW_ROOT="/home/njh/perl5/perlbrew"
PERLBREW_SHELLRC_VERSION="0.86"
PERLBREW_VERSION="0.86"
PERL_USE_UNSAFE_INC="1"
@INC:
/tmp/build/File-Share-0.25-0/blib/arch
/tmp/build/File-Share-0.25-0/blib/lib
/tmp/build/File-ShareDir-1.116-0/blib/arch
/tmp/build/File-ShareDir-1.116-0/blib/lib
/tmp/build/Class-Inspector-1.36-0/blib/arch
/tmp/build/Class-Inspector-1.36-0/blib/lib
/tmp/build/File-ShareDir-Install-0.13-0/blib/arch
/tmp/build/File-ShareDir-Install-0.13-0/blib/lib
/tmp/build/Data-Section-0.200007-0/blib/arch
/tmp/build/Data-Section-0.200007-0/blib/lib
/tmp/build/Test-FailWarnings-0.008-0/blib/arch
/tmp/build/Test-FailWarnings-0.008-0/blib/lib
/tmp/build/App-Greple-8.39-0/blib/arch
/tmp/build/App-Greple-8.39-0/blib/lib
/tmp/build/List-BinarySearch-0.25-0/blib/arch
/tmp/build/List-BinarySearch-0.25-0/blib/lib
/tmp/build/List-BinarySearch-XS-0.09-0/blib/arch
/tmp/build/List-BinarySearch-XS-0.09-0/blib/lib
/tmp/build/Getopt-EX-v1.16.0-0/blib/arch
/tmp/build/Getopt-EX-v1.16.0-0/blib/lib
/tmp/build/Graphics-ColorNames-v3.5.0-0/blib/arch
/tmp/build/Graphics-ColorNames-v3.5.0-0/blib/lib
/home/njh/perl5/perlbrew/perls/perl-5.28.2-ld/lib/site_perl/5.28.2/x86_64-linux-ld
/home/njh/perl5/perlbrew/perls/perl-5.28.2-ld/lib/site_perl/5.28.2
/home/njh/perl5/perlbrew/perls/perl-5.28.2-ld/lib/5.28.2/x86_64-linux-ld
/home/njh/perl5/perlbrew/perls/perl-5.28.2-ld/lib/5.28.2
.