Report for Net-Google-AuthSub-0.5

Back
From: metabase:user:42ae0f1c-aa62-11df-86ee-d00500b589b5
Subject: PASS Net-Google-AuthSub-0.5 v5.20.2 
Date: 2015-03-19T17:44:37Z

This distribution has been tested as part of the CPAN Testers
project, supporting the Perl programming language.  See
http://wiki.cpantesters.org/ for more information or email
questions to cpan-testers-discuss@perl.org


--
Dear Simon Wistow,

This is a computer-generated report for Net-Google-AuthSub-0.5
on perl 5.20.2, created by CPAN-Reporter-1.2011.

Thank you for uploading your work to CPAN.  Congratulations!
All tests were successful.

Sections of this report:

    * Tester comments
    * Program output
    * Prerequisites
    * Environment and other context

------------------------------
TESTER COMMENTS
------------------------------

Additional comments from tester:

none provided

------------------------------
PROGRAM OUTPUT
------------------------------

Output from 'C:\sPerl\perl\bin\perl.exe ./Build test':

t\00use.t ......... ok
t\pod-coverage.t .. skipped: Test::Pod::Coverage 1.04 required for testing POD coverage
t\pod.t ........... ok
All tests successful.
Files=3, Tests=4,  2 wallclock secs ( 0.17 usr +  0.05 sys =  0.22 CPU)
Result: PASS

------------------------------
PREREQUISITES
------------------------------

Prerequisite modules loaded:

requires:

    Module         Need Have    
    -------------- ---- --------
    LWP::UserAgent 0    6.13    
    Test::More     0.62 1.001014
    URI            0    1.65    


------------------------------
ENVIRONMENT AND OTHER CONTEXT
------------------------------

Environment variables:

    COMSPEC = C:\WINDOWS\system32\cmd.exe
    NUMBER_OF_PROCESSORS = 1
    PATH = C:\Documents and Settings\All Users\Application Data\Oracle\Java\javapath;C:\Program Files\Common Files\ArcSoft\Bin;C:\sPerl\c\bin;C:\sPerl\perl\site\bin;C:\sPerl\perl\bin;C:\aPerl\site\bin;C:\aPerl\bin;C:\cygwin\bin;C:\Program Files\ThinkPad\Utilities;C:\WINDOWS\system32;C:\WINDOWS;C:\WINDOWS\System32\Wbem;C:\WINDOWS\Downloaded Program Files;C:\Program Files\Intel\Wireless\Bin\;C:\Program Files\Visual Networks\Dial Analysis\;C:\WINDOWS\system32\Wbem;C:\Program Files\NCR\Common Files\Shared ICU Libraries for Teradata\lib;C:\WINDOWS\system32\;C:\Program Files\NCR\Teradata Client\cliv2;C:\DOCUME~1\ALLUSE~1\DOCUME~1\PStools;C:\Program Files\Samsung\Samsung PC Studio 3\;C:\WINDOWS\system32\dllcache;C:\Program Files\TortoiseSVN\bin;c:\wamp\bin\mysql\mysql5.5.24\bin;c:\wamp\bin\php\php5.3.13;C:\Program Files\Git\cmd;c:\PROGRA~1\GnuGlobl\bin;C:\Program Files\nodejs\;C:\Program Files\TortoiseGit\bin;C:\Program Files\QuickTime\QTSystem\;C:\Program Files\Skype\Phone\;C:\Documents and Settings\yhluc00\Application Data\npm;C:\Documents and Settings\yhluc00\Local Settings\Application Data\Pandoc\
    PERL5LIB = 
    PERL5OPT = 
    PERL5_CPANPLUS_IS_RUNNING = 1520
    PERL5_CPAN_IS_RUNNING = 1520
    PROCESSOR_IDENTIFIER = x86 Family 6 Model 13 Stepping 8, GenuineIntel
    TEMP = C:\DOCUME~1\yhluc00\LOCALS~1\Temp
    TERM = dumb

Perl special variables (and OS-specific diagnostics, for MSWin32):

    $^X = C:\sPerl\perl\bin\perl.exe
    $UID/$EUID = 0 / 0
    $GID = 0
    $EGID = 0
    Win32::GetOSName = WinXP/.Net
    Win32::GetOSVersion = Service Pack 3, 5, 1, 2600, 2, 3, 0, 256, 1
    Win32::FsType = NTFS
    Win32::IsAdminUser = 1

Perl module toolchain versions installed:

    Module              Have    
    ------------------- --------
    CPAN                2.10    
    CPAN::Meta          2.143240
    Cwd                 3.48_01 
    ExtUtils::CBuilder  0.280220
    ExtUtils::Command   1.20    
    ExtUtils::Install   2.04    
    ExtUtils::MakeMaker 7.04    
    ExtUtils::Manifest  1.70    
    ExtUtils::ParseXS   3.24    
    File::Spec          3.48_01 
    JSON                2.90    
    JSON::PP            2.27300 
    Module::Build       0.4211  
    Module::Signature   n/a     
    Parse::CPAN::Meta   1.4414  
    Test::Harness       3.35    
    Test::More          1.001014
    YAML                1.14    
    YAML::Syck          n/a     
    version             0.9912  


--

Summary of my perl5 (revision 5 version 20 subversion 2) configuration:
   
  Platform:
    osname=MSWin32, osvers=6.3, archname=MSWin32-x86-multi-thread-64int
    uname='Win32 strawberry-perl 5.20.2.1 #1 Sat Feb 21 12:32:00 2015 i386'
    config_args='undef'
    hint=recommended, useposix=true, d_sigaction=undef
    useithreads=define, usemultiplicity=define
    use64bitint=define, use64bitall=undef, uselongdouble=undef
    usemymalloc=n, bincompat5005=undef
  Compiler:
    cc='gcc', ccflags =' -s -O2 -DWIN32  -DPERL_TEXTMODE_SCRIPTS -DPERL_IMPLICIT_CONTEXT -DPERL_IMPLICIT_SYS -DUSE_PERLIO -fwrapv -fno-strict-aliasing -mms-bitfields',
    optimize='-s -O2',
    cppflags='-DWIN32'
    ccversion='', gccversion='4.8.3', gccosandvers=''
    intsize=4, longsize=4, ptrsize=4, doublesize=8, byteorder=12345678
    d_longlong=define, longlongsize=8, d_longdbl=define, longdblsize=12
    ivtype='long long', ivsize=8, nvtype='double', nvsize=8, Off_t='long long', lseeksize=8
    alignbytes=8, prototype=define
  Linker and Libraries:
    ld='g++', ldflags ='-s -L"C:\sPerl\perl\lib\CORE" -L"C:\sPerl\c\lib"'
    libpth=C:\sPerl\c\lib C:\sPerl\c\i686-w64-mingw32\lib C:\sPerl\c\lib\gcc\i686-w64-mingw32\4.8.3
    libs=-lmoldname -lkernel32 -luser32 -lgdi32 -lwinspool -lcomdlg32 -ladvapi32 -lshell32 -lole32 -loleaut32 -lnetapi32 -luuid -lws2_32 -lmpr -lwinmm -lversion -lodbc32 -lodbccp32 -lcomctl32
    perllibs=-lmoldname -lkernel32 -luser32 -lgdi32 -lwinspool -lcomdlg32 -ladvapi32 -lshell32 -lole32 -loleaut32 -lnetapi32 -luuid -lws2_32 -lmpr -lwinmm -lversion -lodbc32 -lodbccp32 -lcomctl32
    libc=, so=dll, useshrplib=true, libperl=libperl520.a
    gnulibc_version=''
  Dynamic Linking:
    dlsrc=dl_win32.xs, dlext=xs.dll, d_dlsymun=undef, ccdlflags=' '
    cccdlflags=' ', lddlflags='-mdll -s -L"C:\sPerl\perl\lib\CORE" -L"C:\sPerl\c\lib"'


Characteristics of this binary (from libperl): 
  Compile-time options: HAS_TIMES HAVE_INTERP_INTERN MULTIPLICITY
                        PERLIO_LAYERS PERL_DONT_CREATE_GVSV
                        PERL_HASH_FUNC_ONE_AT_A_TIME_HARD
                        PERL_IMPLICIT_CONTEXT PERL_IMPLICIT_SYS
                        PERL_MALLOC_WRAP PERL_NEW_COPY_ON_WRITE
                        PERL_PRESERVE_IVUV USE_64_BIT_INT USE_ITHREADS
                        USE_LARGE_FILES USE_LOCALE USE_LOCALE_COLLATE
                        USE_LOCALE_CTYPE USE_LOCALE_NUMERIC USE_PERLIO
                        USE_PERL_ATOF
  Built under MSWin32
  Compiled at Feb 21 2015 12:36:01
  %ENV:
    PERL5_CPANPLUS_IS_RUNNING="1520"
    PERL5_CPAN_IS_RUNNING="1520"
  @INC:
    C:/sPerl/perl/site/lib
    C:/sPerl/perl/vendor/lib
    C:/sPerl/perl/lib
    .