Module-Data v0.013 Perl 5 v5.39.8 amd64-freebsd
- Status
- Pass
- From
- Carlos Guevara
- Dist
-
Module-Data v0.013
- Platform
- Perl 5 v5.39.8 amd64-freebsd
- Date
- 2024-02-09 00:27:21
- ID
- fd5bca8e-c6e1-11ee-94e2-828168f21229
This distribution has been tested as part of the CPAN Testers
project, supporting the Perl programming language. See
http://wiki.cpantesters.org/ for more information or email
questions to cpan-testers-discuss@perl.org
--
Dear Kent Fredric (PAUSE Custodial Account),
This is a computer-generated report for Module-Data-0.013
on perl 5.39.8, created by CPAN-Reporter-1.2019.
Thank you for uploading your work to CPAN. Congratulations!
All tests were successful.
Sections of this report:
* Tester comments
* Program output
* Prerequisites
* Environment and other context
------------------------------
TESTER COMMENTS
------------------------------
Additional comments from tester:
this report is from an automated smoke testing program
and was not reviewed by a human for accuracy
------------------------------
PROGRAM OUTPUT
------------------------------
Output from '/usr/bin/make test':
PERL_DL_NONLAZY=1 "/home/cpan/bin/perl/bin/perl5.39.8" "-MExtUtils::Command::MM" "-MTest::Harness" "-e" "undef *Test::Harness::Switches; test_harness(0, 'blib/lib', 'blib/arch')" t/*.t t/00-compile/*.t
t/00-compile/lib_Module_Data_pm.t .. ok
#
# Versions for all modules listed in MYMETA.json (including optional ones):
#
# === Configure Requires ===
#
# Module Want Have
# ------------------- ---- ----
# ExtUtils::MakeMaker any 7.70
#
# === Configure Recommends ===
#
# Module Want Have
# ------------------- ---- ----
# ExtUtils::MakeMaker 7.00 7.70
#
# === Build Requires ===
#
# Module Want Have
# ------------------- ---- ----
# ExtUtils::MakeMaker any 7.70
#
# === Test Requires ===
#
# Module Want Have
# ------------------- ---- --------
# Carp any 1.54
# Data::Dump any 1.25
# ExtUtils::MakeMaker any 7.70
# File::Spec any 3.90
# FindBin any 1.54
# Test::Fatal any 0.017
# Test::More 0.96 1.302198
#
# === Test Recommends ===
#
# Module Want Have
# ------------------- -------- --------
# CPAN::Meta 2.120900 2.150010
# ExtUtils::MakeMaker 7.00 7.70
# Test::More 0.99 1.302198
#
# === Runtime Requires ===
#
# Module Want Have
# ---------------- ----- --------
# Module::Metadata any 1.000038
# Module::Runtime any 0.016
# Moo any 2.005005
# Path::ScanINC 0.011 1.000003
# Path::Tiny any 0.144
# Sub::Quote any 2.006008
# strict any 1.13
# warnings any 1.67
#
# === Runtime Recommends ===
#
# Module Want Have
# ---------- -------- --------
# Moo 1.000008 2.005005
# Path::Tiny 0.058 0.144
#
t/00-report-prereqs.t .............. ok
t/01_basic.t ....................... ok
t/02_version.t ..................... ok
t/03_fake_system.t ................. ok
All tests successful.
Files=5, Tests=54, 1 wallclock secs ( 0.02 usr 0.01 sys + 0.30 cusr 0.03 csys = 0.36 CPU)
Result: PASS
------------------------------
PREREQUISITES
------------------------------
Prerequisite modules loaded:
requires:
Module Need Have
------------------- ----- --------
Module::Metadata 0 1.000038
Module::Runtime 0 0.016
Moo 0 2.005005
Path::ScanINC 0.011 1.000003
Path::Tiny 0 0.144
perl 5.006 5.039008
strict 0 1.13
Sub::Quote 0 2.006008
warnings 0 1.67
build_requires:
Module Need Have
------------------- ----- --------
Carp 0 1.54
Data::Dump 0 1.25
ExtUtils::MakeMaker 0 7.70
File::Spec 0 3.90
FindBin 0 1.54
Test::Fatal 0 0.017
Test::More 0.96 1.302198
configure_requires:
Module Need Have
------------------- ----- --------
ExtUtils::MakeMaker 0 7.70
perl 5.006 5.039008
------------------------------
ENVIRONMENT AND OTHER CONTEXT
------------------------------
Environment variables:
AUTOMATED_TESTING = 1
DATE_MANIP_TEST_DM5 = 1
LANG = C.UTF-8
LC_ALL = C
NONINTERACTIVE_TESTING = 1
NO_NETWORK_TESTING = 1
PATH = /home/cpan/bin/perl/bin:/home/cpan/bin:/sbin:/bin:/usr/sbin:/usr/bin:/usr/local/sbin:/usr/local/bin:/home/cpan/bin
PERL5LIB =
PERL5OPT =
PERL5_CPANPLUS_IS_RUNNING = 82932
PERL5_CPAN_IS_RUNNING = 82932
PERL_MM_USE_DEFAULT = 1
PERL_USE_UNSAFE_INC = 1
SHELL = /usr/local/bin/bash
TERM = screen
TMPDIR = /home/cpan/tmp
Perl special variables (and OS-specific diagnostics, for MSWin32):
$^X = /home/cpan/bin/perl/bin/perl5.39.8
$UID/$EUID = 1002 / 1002
$GID = 1002 1002
$EGID = 1002 1002
Perl module toolchain versions installed:
Module Have
------------------- --------
CPAN 2.36
CPAN::Meta 2.150010
Cwd 3.90
ExtUtils::CBuilder 0.280240
ExtUtils::Command 7.70
ExtUtils::Install 2.22
ExtUtils::MakeMaker 7.70
ExtUtils::Manifest 1.75
ExtUtils::ParseXS 3.51
File::Spec 3.90
JSON 4.10
JSON::PP 4.16
Module::Build 0.4234
Module::Signature n/a
Parse::CPAN::Meta 2.150010
Test2 1.302198
Test::Harness 3.48
Test::More 1.302198
YAML 1.31
YAML::Syck 1.34
version 0.9930
--
Summary of my perl5 (revision 5 version 39 subversion 8) configuration:
Commit id: 85a3d7082f1f125abdbb30bf7284971241384652
Platform:
osname=freebsd
osvers=14.0-release-p3
archname=amd64-freebsd
uname='freebsd cjg-freebsd14 14.0-release-p3 freebsd 14.0-release-p3 #0: mon dec 11 04:56:01 utc 2023 root@amd64-builder.daemonology.net:usrobjusrsrcamd64.amd64sysgeneric amd64 '
config_args='-des -Dprefix=/home/cpan/bin/perl -Dscriptdir=/home/cpan/bin/perl/bin -Dusedevel -Duse64bitall'
hint=recommended
useposix=true
d_sigaction=define
useithreads=undef
usemultiplicity=undef
use64bitint=define
use64bitall=define
uselongdouble=undef
usemymalloc=n
default_inc_excludes_dot=define
Compiler:
cc='cc'
ccflags ='-DHAS_FPSETMASK -DHAS_FLOATINGPOINT_H -DNO_POSIX_2008_LOCALE -fno-strict-aliasing -pipe -fstack-protector-strong -I/usr/local/include'
optimize='-O2'
cppflags='-DHAS_FPSETMASK -DHAS_FLOATINGPOINT_H -DNO_POSIX_2008_LOCALE -fno-strict-aliasing -pipe -fstack-protector-strong -I/usr/local/include'
ccversion=''
gccversion='FreeBSD Clang 16.0.6 (https://github.com/llvm/llvm-project.git llvmorg-16.0.6-0-g7cbf1a259152)'
gccosandvers=''
intsize=4
longsize=8
ptrsize=8
doublesize=8
byteorder=12345678
doublekind=3
d_longlong=define
longlongsize=8
d_longdbl=define
longdblsize=16
longdblkind=3
ivtype='long'
ivsize=8
nvtype='double'
nvsize=8
Off_t='off_t'
lseeksize=8
alignbytes=8
prototype=define
Linker and Libraries:
ld='cc'
ldflags ='-Wl,-E -fstack-protector-strong -L/usr/local/lib'
libpth=/usr/lib /usr/local/lib /usr/lib/clang/16/lib
libs=-lpthread -ldl -lm -lcrypt -lutil -lc
perllibs=-lpthread -ldl -lm -lcrypt -lutil -lc
libc=
so=so
useshrplib=false
libperl=libperl.a
gnulibc_version=''
Dynamic Linking:
dlsrc=dl_dlopen.xs
dlext=so
d_dlsymun=undef
ccdlflags=' '
cccdlflags='-DPIC -fPIC'
lddlflags='-shared -L/usr/local/lib -fstack-protector-strong'
Characteristics of this binary (from libperl):
Compile-time options:
HAS_LONG_DOUBLE
HAS_STRTOLD
HAS_TIMES
PERLIO_LAYERS
PERL_COPY_ON_WRITE
PERL_DONT_CREATE_GVSV
PERL_HASH_FUNC_SIPHASH13
PERL_HASH_USE_SBOX32
PERL_MALLOC_WRAP
PERL_OP_PARENT
PERL_PRESERVE_IVUV
PERL_USE_DEVEL
PERL_USE_SAFE_PUTENV
USE_64_BIT_ALL
USE_64_BIT_INT
USE_LARGE_FILES
USE_LOCALE
USE_LOCALE_COLLATE
USE_LOCALE_CTYPE
USE_LOCALE_NUMERIC
USE_LOCALE_TIME
USE_PERLIO
USE_PERL_ATOF
Built under freebsd
Compiled at Feb 8 2024 12:28:16
%ENV:
PERL5LIB=""
PERL5OPT=""
PERL5_CPANPLUS_IS_RUNNING="82932"
PERL5_CPAN_IS_RUNNING="82932"
PERL_MM_USE_DEFAULT="1"
PERL_USE_UNSAFE_INC="1"
@INC:
/home/cpan/bin/perl/lib/site_perl/5.39.8/amd64-freebsd
/home/cpan/bin/perl/lib/site_perl/5.39.8
/home/cpan/bin/perl/lib/5.39.8/amd64-freebsd
/home/cpan/bin/perl/lib/5.39.8
.