Report for File-PathInfo-Ext-1.30

Back
From: metabase:user:9820532a-708b-1014-9a05-b18a96298da1
Subject: PASS File-PathInfo-Ext-1.30 v5.15.2 GNU/Linux
Date: 2011-09-19T20:14:34Z

This distribution has been tested as part of the CPAN Testers
project, supporting the Perl programming language.  See
http://wiki.cpantesters.org/ for more information or email
questions to cpan-testers-discuss@perl.org


--
Dear Leo Charre,

This is a computer-generated report for File-PathInfo-Ext-1.30
on perl 5.15.2, created by CPAN-Reporter-1.2002.

Thank you for uploading your work to CPAN.  Congratulations!
All tests were successful.

Sections of this report:

    * Tester comments
    * Program output
    * Prerequisites
    * Environment and other context

------------------------------
TESTER COMMENTS
------------------------------

Additional comments from tester:

this report is from an automated smoke testing program
and was not reviewed by a human for accuracy

------------------------------
PROGRAM OUTPUT
------------------------------

Output from '/usr/bin/make test':

PERL_DL_NONLAZY=1 /home/bri/perl5/perlbrew/perls/perl-5.15.2/bin/perl5.15.2 "-MExtUtils::Command::MM" "-e" "test_harness(0, 'blib/lib', 'blib/arch')" t/*.t


===================
PART [1], ./T/PUBLIC_HTML/DEMO

 stat key 'ctime' = '1316463272'
 stat key 'mtime' = '1259076971'
 stat key 'nlink' = '2'
 stat key 'size' = '4096'
 stat key 'blocks' = '8'
 stat key 'atime_pretty' = '2011/09/19 21:14'
 stat key 'mtime_pretty' = '2009/11/24 15:36'
 stat key 'ctime_pretty' = '2011/09/19 21:14'
 stat key 'ino' = '1055933'


===================
PART [2], ./T/PUBLIC_HTML/SEVEN.PDF

 stat key 'ctime' = '1316463272'
 stat key 'mtime' = '1179497048'
 stat key 'nlink' = '1'
 stat key 'size' = '769239'
 stat key 'blocks' = '1504'
 stat key 'atime_pretty' = '2011/09/19 21:14'
 stat key 'mtime_pretty' = '2007/05/18 15:04'
 stat key 'ctime_pretty' = '2011/09/19 21:14'
 stat key 'ino' = '1055931'


===================
PART [3], DEMO

 stat key 'ctime' = '1316463272'
 stat key 'mtime' = '1259076971'
 stat key 'nlink' = '2'
 stat key 'size' = '4096'
 stat key 'blocks' = '8'
 stat key 'atime_pretty' = '2011/09/19 21:14'
 stat key 'mtime_pretty' = '2009/11/24 15:36'
 stat key 'ctime_pretty' = '2011/09/19 21:14'
 stat key 'ino' = '1055933'


===================
PART [4], ./T/PUBLIC_HTML/DEMO/HELLOKITTY.GIF

 stat key 'ctime' = '1316463272'
 stat key 'mtime' = '1174604434'
 stat key 'nlink' = '1'
 stat key 'size' = '4099'
 stat key 'blocks' = '16'
 stat key 'atime_pretty' = '2011/09/19 21:14'
 stat key 'mtime_pretty' = '2007/03/22 23:00'
 stat key 'ctime_pretty' = '2011/09/19 21:14'
 stat key 'ino' = '1055934'


===================
PART [5], ./T/PUBLIC_HTML/DEMO/../DEMO/CIVIL.TXT

 stat key 'ctime' = '1316463272'
 stat key 'mtime' = '1174604434'
 stat key 'nlink' = '1'
 stat key 'size' = '51460'
 stat key 'blocks' = '104'
 stat key 'atime_pretty' = '2011/09/19 21:14'
 stat key 'mtime_pretty' = '2007/03/22 23:00'
 stat key 'ctime_pretty' = '2011/09/19 21:14'
 stat key 'ino' = '1055935'


===================
PART [6], DEMO/../DEMO/CIVIL.TXT

 stat key 'ctime' = '1316463272'
 stat key 'mtime' = '1174604434'
 stat key 'nlink' = '1'
 stat key 'size' = '51460'
 stat key 'blocks' = '104'
 stat key 'atime_pretty' = '2011/09/19 21:14'
 stat key 'mtime_pretty' = '2007/03/22 23:00'
 stat key 'ctime_pretty' = '2011/09/19 21:14'
 stat key 'ino' = '1055935'


===================
PART [7], DEMO/CIVIL.TXT

 stat key 'ctime' = '1316463272'
 stat key 'mtime' = '1174604434'
 stat key 'nlink' = '1'
 stat key 'size' = '51460'
 stat key 'blocks' = '104'
 stat key 'atime_pretty' = '2011/09/19 21:14'
 stat key 'mtime_pretty' = '2007/03/22 23:00'
 stat key 'ctime_pretty' = '2011/09/19 21:14'
 stat key 'ino' = '1055935'
t/0.t ................. ok
newname cannot contain slashes at lib/File/PathInfo/Ext.pm line 16
	File::PathInfo::Ext::rename('File::PathInfo::Ext=HASH(0x8725858)', 'awe/gfaw/egawg/\pou*()^T)(T3wt//n23') called at t/1.t line 21
ls for [/home/bri/.cpan/build/File-PathInfo-Ext-1.30-rhK0GK]
ls for [/home/bri/.cpan/build/File-PathInfo-Ext-1.30-rhK0GK/tmp2]
ls for [/home/bri/.cpan/build/File-PathInfo-Ext-1.30-rhK0GK/tmp2]
t/1.t ................. ok



 SET 2 

 # on move newloc is : /home/bri/.cpan/build/File-PathInfo-Ext-1.30-rhK0GK/t/public_html/timp/incoming/movedme.txt

Can't move to '/home/bri/.cpan/build/File-PathInfo-Ext-1.30-rhK0GK/t/public_html/timp/movedme.txt', destination already exists at lib/File/PathInfo/Ext.pm line 136
	File::PathInfo::Ext::move('File::PathInfo::Ext=HASH(0x97064d0)', '/home/bri/.cpan/build/File-PathInfo-Ext-1.30-rhK0GK/t/public_...') called at t/2_move.t line 92
t/2_move.t ............ ok
Can't move '/home/bri/.cpan/build/File-PathInfo-Ext-1.30-rhK0GK/t/f1' to '/home/bri/.cpan/build/File-PathInfo-Ext-1.30-rhK0GK/t/f2', already exists. at lib/File/PathInfo/Ext.pm line 152
	File::PathInfo::Ext::move('File::PathInfo::Ext=HASH(0x84b9208)', '/home/bri/.cpan/build/File-PathInfo-Ext-1.30-rhK0GK/t/f2') called at lib/File/PathInfo/Ext.pm line 17
	File::PathInfo::Ext::rename('File::PathInfo::Ext=HASH(0x84b9208)', 'f2') called at t/3.t line 21
Use of uninitialized value in numeric eq (==) at t/3.t line 21.
t/3.t ................. ok

### $val: undef

### $val: 'this is'

### $val: 'this is a val for errstr'


--------------
----



--------------
----


### $val: '/home/bri/.cpan/build/File-PathInfo-Ext-1.30-rhK0GK/t/tmp/dir/file.txt'


--------------others
----

Use of uninitialized value $err in concatenation (.) or string at t/4_resolve_arg_to.t line 74.
 arg './file.txt' = [/home/bri/.cpan/build/File-PathInfo-Ext-1.30-rhK0GK/file.txt]
 err? 

 arg './' = [NO RESULT]
 err? Can't set destination to '/home/bri/.cpan/build/File-PathInfo-Ext-1.30-rhK0GK', already exists.

 arg '.' = [NO RESULT]
 err? Can't resolve arg ..

Use of uninitialized value $err in concatenation (.) or string at t/4_resolve_arg_to.t line 74.
 arg './../file.txt' = [/home/bri/.cpan/build/file.txt]
 err? 

 arg './../bogus/thing' = [NO RESULT]
 err? Can't resolve arg ../bogus/thing

 arg './t/tmp/bogusdir/' = [NO RESULT]
 err? Can't resolve arg t/tmp/bogusdir/

t/4_resolve_arg_to.t .. ok
 # NOW try to dirs



### $r: '/home/bri/.cpan/build/File-PathInfo-Ext-1.30-rhK0GK/t/tmp/dir/filealso.txt'
t/5_copy.t ............ ok
t/99_cleanup.t ........ ok
All tests successful.
Files=7, Tests=204,  0 wallclock secs ( 0.07 usr  0.01 sys +  0.48 cusr  0.10 csys =  0.66 CPU)
Result: PASS

------------------------------
PREREQUISITES
------------------------------

Prerequisite modules loaded:

requires:

    Module              Need Have   
    ------------------- ---- -------
    Carp                1    1.23   
    Cwd                 3    3.37   
    Digest::MD5         2    2.51   
    File::Copy          2    2.21   
    File::Path          1    2.08_01
    File::PathInfo      1.27 1.27   
    File::Type          0    0.22   
    Test::Simple        0    0.98   
    YAML                0    0.73   

build_requires:

    Module              Need Have   
    ------------------- ---- -------
    ExtUtils::MakeMaker 0    6.58   

configure_requires:

    Module              Need Have   
    ------------------- ---- -------
    ExtUtils::MakeMaker 0    6.58   


------------------------------
ENVIRONMENT AND OTHER CONTEXT
------------------------------

Environment variables:

    AUTOMATED_TESTING = 1
    LANG = C
    LANGUAGE = en_GB:en
    LC_ALL = C
    PATH = /home/bri/bin:/home/bri/perl5/perlbrew/bin:/home/bri/perl5/perlbrew/perls/perl-5.15.2/bin:~/bin:/usr/local/sbin:/usr/local/bin:/usr/sbin:/usr/bin:/sbin:/bin:/usr/games
    PATH_WITHOUT_PERLBREW = ~/bin:/usr/local/sbin:/usr/local/bin:/usr/sbin:/usr/bin:/sbin:/bin:/usr/games
    PERL5LIB = 
    PERL5OPT = 
    PERL5_CPANPLUS_IS_RUNNING = 31026
    PERL5_CPAN_IS_RUNNING = 31026
    PERL5_CPAN_IS_RUNNING_IN_RECURSION = 26512,31026
    PERLBREW_HOME = /home/bri/.perlbrew
    PERLBREW_PATH = /home/bri/perl5/perlbrew/bin:/home/bri/perl5/perlbrew/perls/perl-5.15.2/bin
    PERLBREW_PERL = perl-5.15.2
    PERLBREW_ROOT = /home/bri/perl5/perlbrew
    PERLBREW_VERSION = 0.29
    PERL_CPANM_OPT = --prompt --mirror http://172.16.1.3/cpan/
    PERL_CR_SMOKER_CURRENT = PDF-OCR2-1.21
    PERL_EXTUTILS_AUTOINSTALL = --defaultdeps
    PERL_MM_USE_DEFAULT = 1
    SHELL = /bin/bash
    TERM = linux

Perl special variables (and OS-specific diagnostics, for MSWin32):

    $^X = /home/bri/perl5/perlbrew/perls/perl-5.15.2/bin/perl5.15.2
    $UID/$EUID = 1000 / 1000
    $GID = 1000 4 20 24 46 112 120 122 1000
    $EGID = 1000 4 20 24 46 112 120 122 1000

Perl module toolchain versions installed:

    Module              Have    
    ------------------- --------
    CPAN                1.9800  
    CPAN::Meta          2.112621
    Cwd                 3.37    
    ExtUtils::CBuilder  0.280204
    ExtUtils::Command   1.17    
    ExtUtils::Install   1.57    
    ExtUtils::MakeMaker 6.58    
    ExtUtils::Manifest  1.60    
    ExtUtils::ParseXS   3.04    
    File::Spec          3.34    
    JSON                2.53    
    JSON::PP            2.27200 
    Module::Build       0.39_01 
    Module::Signature   n/a     
    Parse::CPAN::Meta   1.4401  
    Test::Harness       3.23    
    Test::More          0.98    
    YAML                0.73    
    YAML::Syck          n/a     
    version             0.94    


--

Summary of my perl5 (revision 5 version 15 subversion 2) configuration:
   
  Platform:
    osname=linux, osvers=2.6.38-11-generic, archname=i686-linux-thread-multi-ld
    uname='linux lappy 2.6.38-11-generic #48-ubuntu smp fri jul 29 19:05:14 utc 2011 i686 i686 i386 gnulinux '
    config_args='-de -Dprefix=/home/bri/perl5/perlbrew/perls/perl-5.15.2 -Duselongdouble -Dusethreads -Dusedevel'
    hint=recommended, useposix=true, d_sigaction=define
    useithreads=define, usemultiplicity=define
    useperlio=define, d_sfio=undef, uselargefiles=define, usesocks=undef
    use64bitint=undef, use64bitall=undef, uselongdouble=define
    usemymalloc=n, bincompat5005=undef
  Compiler:
    cc='cc', ccflags ='-D_REENTRANT -D_GNU_SOURCE -fno-strict-aliasing -pipe -fstack-protector -I/usr/local/include -D_LARGEFILE_SOURCE -D_FILE_OFFSET_BITS=64',
    optimize='-O2',
    cppflags='-D_REENTRANT -D_GNU_SOURCE -fno-strict-aliasing -pipe -fstack-protector -I/usr/local/include'
    ccversion='', gccversion='4.5.2', gccosandvers=''
    intsize=4, longsize=4, ptrsize=4, doublesize=8, byteorder=1234
    d_longlong=define, longlongsize=8, d_longdbl=define, longdblsize=12
    ivtype='long', ivsize=4, nvtype='long double', nvsize=12, Off_t='off_t', lseeksize=8
    alignbytes=4, prototype=define
  Linker and Libraries:
    ld='cc', ldflags =' -fstack-protector -L/usr/local/lib'
    libpth=/usr/local/lib /lib /usr/lib /usr/lib/i386-linux-gnu /usr/lib64
    libs=-lnsl -ldl -lm -lcrypt -lutil -lpthread -lc
    perllibs=-lnsl -ldl -lm -lcrypt -lutil -lpthread -lc
    libc=, so=so, useshrplib=false, libperl=libperl.a
    gnulibc_version='2.13'
  Dynamic Linking:
    dlsrc=dl_dlopen.xs, dlext=so, d_dlsymun=undef, ccdlflags='-Wl,-E'
    cccdlflags='-fPIC', lddlflags='-shared -O2 -L/usr/local/lib -fstack-protector'


Characteristics of this binary (from libperl): 
  Compile-time options: HAS_TIMES MULTIPLICITY PERLIO_LAYERS
                        PERL_DONT_CREATE_GVSV PERL_IMPLICIT_CONTEXT
                        PERL_MALLOC_WRAP PERL_PRESERVE_IVUV PERL_USE_DEVEL
                        USE_ITHREADS USE_LARGE_FILES USE_LOCALE
                        USE_LOCALE_COLLATE USE_LOCALE_CTYPE
                        USE_LOCALE_NUMERIC USE_LONG_DOUBLE USE_PERLIO
                        USE_PERL_ATOF USE_REENTRANT_API
  Built under linux
  Compiled at Sep 18 2011 12:00:58
  %ENV:
    PERL5LIB=""
    PERL5OPT=""
    PERL5_CPANPLUS_IS_RUNNING="31026"
    PERL5_CPAN_IS_RUNNING="31026"
    PERL5_CPAN_IS_RUNNING_IN_RECURSION="26512,31026"
    PERLBREW_HOME="/home/bri/.perlbrew"
    PERLBREW_PATH="/home/bri/perl5/perlbrew/bin:/home/bri/perl5/perlbrew/perls/perl-5.15.2/bin"
    PERLBREW_PERL="perl-5.15.2"
    PERLBREW_ROOT="/home/bri/perl5/perlbrew"
    PERLBREW_VERSION="0.29"
    PERL_CPANM_OPT="--prompt --mirror http://172.16.1.3/cpan/"
    PERL_CR_SMOKER_CURRENT="PDF-OCR2-1.21"
    PERL_EXTUTILS_AUTOINSTALL="--defaultdeps"
    PERL_MM_USE_DEFAULT="1"
  @INC:
    /home/bri/perl5/perlbrew/perls/perl-5.15.2/lib/site_perl/5.15.2/i686-linux-thread-multi-ld
    /home/bri/perl5/perlbrew/perls/perl-5.15.2/lib/site_perl/5.15.2
    /home/bri/perl5/perlbrew/perls/perl-5.15.2/lib/5.15.2/i686-linux-thread-multi-ld
    /home/bri/perl5/perlbrew/perls/perl-5.15.2/lib/5.15.2
    .