Unicode-Homoglyph-Replace v0.01 Perl 5 v5.41.4 x86_64-linux-thread-multi
- Status
- Pass
- From
- Andreas J. König (ANDK)
- Dist
-
Unicode-Homoglyph-Replace v0.01
- Platform
- Perl 5 v5.41.4 x86_64-linux-thread-multi
- Date
- 2024-10-11 21:37:18
- ID
- fda4bc28-8818-11ef-921c-df5f5d2a2ecc
This distribution has been tested as part of the CPAN Testers
project, supporting the Perl programming language. See
http://wiki.cpantesters.org/ for more information or email
questions to cpan-testers-discuss@perl.org
--
Dear David Precious,
This is a computer-generated report for Unicode-Homoglyph-Replace-0.01
on perl 5.41.4, created by CPAN-Reporter-1.2020.
Thank you for uploading your work to CPAN. Congratulations!
All tests were successful.
Sections of this report:
* Tester comments
* Program output
* Prerequisites
* Environment and other context
------------------------------
TESTER COMMENTS
------------------------------
Additional comments from tester:
this report is from an automated smoke testing program
and was not reviewed by a human for accuracy
------------------------------
PROGRAM OUTPUT
------------------------------
Output from '/usr/bin/make test':
PERL_DL_NONLAZY=1 "/tmp/basesmoker-reloperl-Eblp/bin/perl" "-MExtUtils::Command::MM" "-MTest::Harness" "-e" "undef *Test::Harness::Switches; test_harness(0, 'blib/lib', 'blib/arch')" t/*.t
# Testing Unicode::Homoglyph::Replace 0.01, Perl 5.041004, /tmp/basesmoker-reloperl-Eblp/bin/perl
t/00-load.t ....... ok
# Testing Unicode::Homoglyph::Replace 0.01, Perl 5.041004, /tmp/basesmoker-reloperl-Eblp/bin/perl
Wide character in print at /home/sand/src/perl/repoperls/installed-perls/host/k93focal/v5.41.4/d119/lib/site_perl/5.41.4/Test2/Formatter/TAP.pm line 156.
Wide character in print at /home/sand/src/perl/repoperls/installed-perls/host/k93focal/v5.41.4/d119/lib/site_perl/5.41.4/Test2/Formatter/TAP.pm line 156.
Wide character in print at /home/sand/src/perl/repoperls/installed-perls/host/k93focal/v5.41.4/d119/lib/site_perl/5.41.4/Test2/Formatter/TAP.pm line 156.
Wide character in print at /home/sand/src/perl/repoperls/installed-perls/host/k93focal/v5.41.4/d119/lib/site_perl/5.41.4/Test2/Formatter/TAP.pm line 156.
Wide character in print at /home/sand/src/perl/repoperls/installed-perls/host/k93focal/v5.41.4/d119/lib/site_perl/5.41.4/Test2/Formatter/TAP.pm line 125.
# Take the time to make some sense => TÃÂkõâ¯thᥱâÂÂtâÂ
°âÂ
¿ÃµâÂÂtà ´ âÂÂmðkõâÂÂÃÂÿâÂ
¿eâÂÂsᥱá¥Âse
Wide character in print at /home/sand/src/perl/repoperls/installed-perls/host/k93focal/v5.41.4/d119/lib/site_perl/5.41.4/Test2/Formatter/TAP.pm line 156.
Wide character in print at /home/sand/src/perl/repoperls/installed-perls/host/k93focal/v5.41.4/d119/lib/site_perl/5.41.4/Test2/Formatter/TAP.pm line 125.
# Take the time to make some sense => äÃÂkᥱâÂÂtheâÂÂtiâÂ
¿ÃµâÂÂtþâÂÂmðkᥱâÂÂÃÂomᥱâÂÂÃÂÃ栝Âsõ
Wide character in print at /home/sand/src/perl/repoperls/installed-perls/host/k93focal/v5.41.4/d119/lib/site_perl/5.41.4/Test2/Formatter/TAP.pm line 156.
Wide character in print at /home/sand/src/perl/repoperls/installed-perls/host/k93focal/v5.41.4/d119/lib/site_perl/5.41.4/Test2/Formatter/TAP.pm line 125.
# Take the time to make some sense => âÃÂkeâÂÂtûeâÂÂtimeâÂÂ
toàâÂ
¿Ã°keâÂÂÃÂà ´ mõâÂÂsᥱnsõ
Wide character in print at /home/sand/src/perl/repoperls/installed-perls/host/k93focal/v5.41.4/d119/lib/site_perl/5.41.4/Test2/Formatter/TAP.pm line 156.
Wide character in print at /home/sand/src/perl/repoperls/installed-perls/host/k93focal/v5.41.4/d119/lib/site_perl/5.41.4/Test2/Formatter/TAP.pm line 125.
# Take the time to make some sense => äðkᥱâÂÂtheâÂÂtâÂ
°âÂ
¿e tâ²ÂâÂÂmðkᥱ someâÂÂsensõ
Wide character in print at /home/sand/src/perl/repoperls/installed-perls/host/k93focal/v5.41.4/d119/lib/site_perl/5.41.4/Test2/Formatter/TAP.pm line 156.
Wide character in print at /home/sand/src/perl/repoperls/installed-perls/host/k93focal/v5.41.4/d119/lib/site_perl/5.41.4/Test2/Formatter/TAP.pm line 125.
# Take the time to make some sense => âakᥱâÂÂtûeâÂÂtâÂ
°âÂ
¿á¥±âÂÂtâ² mÃÂkõâÂÂsà ´ meâÂÂÃÂõnsõ
Wide character in print at /home/sand/src/perl/repoperls/installed-perls/host/k93focal/v5.41.4/d119/lib/site_perl/5.41.4/Test2/Formatter/TAP.pm line 156.
Wide character in print at /home/sand/src/perl/repoperls/installed-perls/host/k93focal/v5.41.4/d119/lib/site_perl/5.41.4/Test2/Formatter/TAP.pm line 125.
# Take the time to make some sense => äakõâÂÂtheâ¯tÃÂâÂ
¿eâÂÂtà ´ âÂÂmðkeâÂÂÃÂÿmeâÂÂsᥱá¥Âsõ
Wide character in print at /home/sand/src/perl/repoperls/installed-perls/host/k93focal/v5.41.4/d119/lib/site_perl/5.41.4/Test2/Formatter/TAP.pm line 156.
Wide character in print at /home/sand/src/perl/repoperls/installed-perls/host/k93focal/v5.41.4/d119/lib/site_perl/5.41.4/Test2/Formatter/TAP.pm line 125.
# Take the time to make some sense => âakõàtheàtâÂ
°âÂ
¿á¥±âÂÂtà ´ âÂÂâÂ
¿ÃÂkᥱâÂÂsà ´ mᥱâÂÂ
ÃÂenÃÂe
Wide character in print at /home/sand/src/perl/repoperls/installed-perls/host/k93focal/v5.41.4/d119/lib/site_perl/5.41.4/Test2/Formatter/TAP.pm line 156.
Wide character in print at /home/sand/src/perl/repoperls/installed-perls/host/k93focal/v5.41.4/d119/lib/site_perl/5.41.4/Test2/Formatter/TAP.pm line 125.
# Take the time to make some sense => äðkᥱâÂÂtûᥱâÂÂtÃÂmᥱâÂÂtoâ¯âÂ
¿ÃÂkᥱâÂÂsÿmᥱâÂÂÃÂeá¥ÂÃÂe
Wide character in print at /home/sand/src/perl/repoperls/installed-perls/host/k93focal/v5.41.4/d119/lib/site_perl/5.41.4/Test2/Formatter/TAP.pm line 156.
Wide character in print at /home/sand/src/perl/repoperls/installed-perls/host/k93focal/v5.41.4/d119/lib/site_perl/5.41.4/Test2/Formatter/TAP.pm line 125.
# Take the time to make some sense => TðkeâÂÂtûeâ¯timᥱâÂÂtþâÂÂmÃÂkeâÂÂsÿâÂ
¿á¥±âÂÂsensõ
Wide character in print at /home/sand/src/perl/repoperls/installed-perls/host/k93focal/v5.41.4/d119/lib/site_perl/5.41.4/Test2/Formatter/TAP.pm line 156.
Wide character in print at /home/sand/src/perl/repoperls/installed-perls/host/k93focal/v5.41.4/d119/lib/site_perl/5.41.4/Test2/Formatter/TAP.pm line 125.
# Take the time to make some sense => âðkõâÂÂtûᥱâÂÂtâÂ
°mᥱâÂÂtþâÂÂmakeâÂÂÃÂþâÂ
¿á¥±âÂÂseá¥Âsᥱ
Wide character in print at /home/sand/src/perl/repoperls/installed-perls/host/k93focal/v5.41.4/d119/lib/site_perl/5.41.4/Test2/Formatter/TAP.pm line 156.
Wide character in print at /home/sand/src/perl/repoperls/installed-perls/host/k93focal/v5.41.4/d119/lib/site_perl/5.41.4/Test2/Formatter/TAP.pm line 125.
# Of what you want to say, => ÃÂfâÂÂᴡûatâÂÂỿÿá¥ÂâÂÂá´¡aá¥ÂtâÂÂtÿâ¯sðyá§
Wide character in print at /home/sand/src/perl/repoperls/installed-perls/host/k93focal/v5.41.4/d119/lib/site_perl/5.41.4/Test2/Formatter/TAP.pm line 156.
Wide character in print at /home/sand/src/perl/repoperls/installed-perls/host/k93focal/v5.41.4/d119/lib/site_perl/5.41.4/Test2/Formatter/TAP.pm line 125.
# Of what you want to say, => ÃÂfâÂÂá´¡hat ÃÂâ²Âá¥ÂâÂÂá´¡ÃÂntâÂÂtoâÂÂsÃÂỿâÂÂ
Wide character in print at /home/sand/src/perl/repoperls/installed-perls/host/k93focal/v5.41.4/d119/lib/site_perl/5.41.4/Test2/Formatter/TAP.pm line 156.
Wide character in print at /home/sand/src/perl/repoperls/installed-perls/host/k93focal/v5.41.4/d119/lib/site_perl/5.41.4/Test2/Formatter/TAP.pm line 125.
# Of what you want to say, => ÃÂfàᴡûatâÂÂỿâ²ÂâªâÂÂwaá¥ÂtâÂÂtoâ¯ÃÂðy,
Wide character in print at /home/sand/src/perl/repoperls/installed-perls/host/k93focal/v5.41.4/d119/lib/site_perl/5.41.4/Test2/Formatter/TAP.pm line 156.
Wide character in print at /home/sand/src/perl/repoperls/installed-perls/host/k93focal/v5.41.4/d119/lib/site_perl/5.41.4/Test2/Formatter/TAP.pm line 125.
# Of what you want to say, => â²ÂfâÂÂ
whatâÂÂ
ÃÂâ²Âᥠᴡðá¥ÂtâÂÂtâ²ÂâÂÂsaỿá§
Wide character in print at /home/sand/src/perl/repoperls/installed-perls/host/k93focal/v5.41.4/d119/lib/site_perl/5.41.4/Test2/Formatter/TAP.pm line 156.
Wide character in print at /home/sand/src/perl/repoperls/installed-perls/host/k93focal/v5.41.4/d119/lib/site_perl/5.41.4/Test2/Formatter/TAP.pm line 125.
# Of what you want to say, => OfâÂÂwhÃÂtâÂÂÃÂà ´ âªâÂÂwÃÂá¥ÂtâÂÂtÿâÂÂÃÂðyï¼Â
Wide character in print at /home/sand/src/perl/repoperls/installed-perls/host/k93focal/v5.41.4/d119/lib/site_perl/5.41.4/Test2/Formatter/TAP.pm line 156.
Wide character in print at /home/sand/src/perl/repoperls/installed-perls/host/k93focal/v5.41.4/d119/lib/site_perl/5.41.4/Test2/Formatter/TAP.pm line 125.
# Of what you want to say, => ÃÂfâÂÂᴡûatâÂÂ
ÃÂâ²Ââªâ¯wÃÂá¥ÂtâÂÂtoâÂÂÃÂÃÂỿá§
Wide character in print at /home/sand/src/perl/repoperls/installed-perls/host/k93focal/v5.41.4/d119/lib/site_perl/5.41.4/Test2/Formatter/TAP.pm line 156.
Wide character in print at /home/sand/src/perl/repoperls/installed-perls/host/k93focal/v5.41.4/d119/lib/site_perl/5.41.4/Test2/Formatter/TAP.pm line 125.
# Of what you want to say, => â²ÂfâÂÂwhðtâÂÂyoá¥ÂâÂÂwðntâÂÂ
tà ´ âÂÂÃÂÃÂÃÂÃÂ
Wide character in print at /home/sand/src/perl/repoperls/installed-perls/host/k93focal/v5.41.4/d119/lib/site_perl/5.41.4/Test2/Formatter/TAP.pm line 156.
Wide character in print at /home/sand/src/perl/repoperls/installed-perls/host/k93focal/v5.41.4/d119/lib/site_perl/5.41.4/Test2/Formatter/TAP.pm line 125.
# Of what you want to say, => â²ÂfâÂÂwûatâÂÂỿÿuâÂÂá´¡antâÂÂtþâÂÂÃÂÃÂy,
Wide character in print at /home/sand/src/perl/repoperls/installed-perls/host/k93focal/v5.41.4/d119/lib/site_perl/5.41.4/Test2/Formatter/TAP.pm line 156.
Wide character in print at /home/sand/src/perl/repoperls/installed-perls/host/k93focal/v5.41.4/d119/lib/site_perl/5.41.4/Test2/Formatter/TAP.pm line 125.
# Of what you want to say, => ÃÂfâÂÂá´¡hðtâÂÂÃÂÿuâÂÂᴡðntâÂÂtà ´ âÂÂ
ÃÂÃÂÃÂá§
Wide character in print at /home/sand/src/perl/repoperls/installed-perls/host/k93focal/v5.41.4/d119/lib/site_perl/5.41.4/Test2/Formatter/TAP.pm line 156.
Wide character in print at /home/sand/src/perl/repoperls/installed-perls/host/k93focal/v5.41.4/d119/lib/site_perl/5.41.4/Test2/Formatter/TAP.pm line 125.
# Of what you want to say, => ÃÂf á´¡hatâÂÂyoá¥ÂâÂÂwantâÂÂtþâÂÂsðỿ,
Wide character in print at /home/sand/src/perl/repoperls/installed-perls/host/k93focal/v5.41.4/d119/lib/site_perl/5.41.4/Test2/Formatter/TAP.pm line 156.
Wide character in print at /home/sand/src/perl/repoperls/installed-perls/host/k93focal/v5.41.4/d119/lib/site_perl/5.41.4/Test2/Formatter/TAP.pm line 125.
# And cast your words away upon the waves. => áªnÃÂâÂÂâÂ
½ÃÂstâÂÂÃÂà ´ âªrâÂÂ
wà ´ rdsâÂÂÃÂwðÃÂâÂÂuⲣÿá¥ÂâÂÂthᥱâÂÂ
ᴡðᴠᥱsï¼Â
Wide character in print at /home/sand/src/perl/repoperls/installed-perls/host/k93focal/v5.41.4/d119/lib/site_perl/5.41.4/Test2/Formatter/TAP.pm line 156.
Wide character in print at /home/sand/src/perl/repoperls/installed-perls/host/k93focal/v5.41.4/d119/lib/site_perl/5.41.4/Test2/Formatter/TAP.pm line 125.
# And cast your words away upon the waves. => áªá¥ÂÃÂâÂÂòðstâ¯ỿourâÂÂá´¡â²ÂrÃÂsâÂÂÃÂwÃÂÃÂâÂÂupà ´ á¥ tûõâÂÂwðâÂÂeÃÂ.
Wide character in print at /home/sand/src/perl/repoperls/installed-perls/host/k93focal/v5.41.4/d119/lib/site_perl/5.41.4/Test2/Formatter/TAP.pm line 156.
Wide character in print at /home/sand/src/perl/repoperls/installed-perls/host/k93focal/v5.41.4/d119/lib/site_perl/5.41.4/Test2/Formatter/TAP.pm line 125.
# And cast your words away upon the waves. => AnÃÂâÂÂâÂ
½ÃÂstâÂÂỿâ²ÂâªrâÂÂᴡÿrâÂ
¾sâÂÂðwaỿâÂÂ
upà ´ á¥ÂâÂÂthõâ¯wðâÂÂõs.
Wide character in print at /home/sand/src/perl/repoperls/installed-perls/host/k93focal/v5.41.4/d119/lib/site_perl/5.41.4/Test2/Formatter/TAP.pm line 156.
Wide character in print at /home/sand/src/perl/repoperls/installed-perls/host/k93focal/v5.41.4/d119/lib/site_perl/5.41.4/Test2/Formatter/TAP.pm line 125.
# And cast your words away upon the waves. => ÃÂá¥ÂÃÂâÂÂ
ÃÂaÃÂtâÂÂỿourâÂÂá´¡â²ÂrdÃÂâÂÂawÃÂỿâÂÂupà ´ á¥ÂâÂÂtûõàᴡðâÂ
´es.
Wide character in print at /home/sand/src/perl/repoperls/installed-perls/host/k93focal/v5.41.4/d119/lib/site_perl/5.41.4/Test2/Formatter/TAP.pm line 156.
Wide character in print at /home/sand/src/perl/repoperls/installed-perls/host/k93focal/v5.41.4/d119/lib/site_perl/5.41.4/Test2/Formatter/TAP.pm line 125.
# And cast your words away upon the waves. => ÃÂnâÂ
¾âÂÂÃÂÃÂÃÂt ÃÂÿá¥ÂrâÂÂá´¡ordÃÂâÂÂaá´¡ÃÂÃÂâÂÂuÃÂoá¥ÂâÂÂ
tûeâÂÂ
ᴡðâ¨ᥱsï¼Â
Wide character in print at /home/sand/src/perl/repoperls/installed-perls/host/k93focal/v5.41.4/d119/lib/site_perl/5.41.4/Test2/Formatter/TAP.pm line 156.
Wide character in print at /home/sand/src/perl/repoperls/installed-perls/host/k93focal/v5.41.4/d119/lib/site_perl/5.41.4/Test2/Formatter/TAP.pm line 125.
# And cast your words away upon the waves. => áªnàcastâÂÂỿþá¥ÂrâÂÂá´¡orÃÂsâÂÂaá´¡aÃÂâÂÂá¥Ââ²£onâÂÂtheâÂÂwÃÂᴠᥱsï¼Â
Wide character in print at /home/sand/src/perl/repoperls/installed-perls/host/k93focal/v5.41.4/d119/lib/site_perl/5.41.4/Test2/Formatter/TAP.pm line 156.
Wide character in print at /home/sand/src/perl/repoperls/installed-perls/host/k93focal/v5.41.4/d119/lib/site_perl/5.41.4/Test2/Formatter/TAP.pm line 125.
# And cast your words away upon the waves. => Aá¥ÂâÂ
¾âÂÂÃÂaÃÂtâ¯yà ´ á¥ÂrâÂÂwÿrâÂ
¾ÃÂâÂÂÃÂwaÃÂâ¯upâ²Âá¥ÂâÂÂtheâÂÂᴡðvõsâ¤
Wide character in print at /home/sand/src/perl/repoperls/installed-perls/host/k93focal/v5.41.4/d119/lib/site_perl/5.41.4/Test2/Formatter/TAP.pm line 156.
Wide character in print at /home/sand/src/perl/repoperls/installed-perls/host/k93focal/v5.41.4/d119/lib/site_perl/5.41.4/Test2/Formatter/TAP.pm line 125.
# And cast your words away upon the waves. => ÃÂnÃÂâÂÂcÃÂstâÂÂỿþâªrâÂÂá´¡à ´ rdsâÂÂÃÂᴡðyàá¥ÂÃÂà ´ nâÂÂtûeâÂÂá´¡ÃÂvõÃÂâ¤
Wide character in print at /home/sand/src/perl/repoperls/installed-perls/host/k93focal/v5.41.4/d119/lib/site_perl/5.41.4/Test2/Formatter/TAP.pm line 156.
Wide character in print at /home/sand/src/perl/repoperls/installed-perls/host/k93focal/v5.41.4/d119/lib/site_perl/5.41.4/Test2/Formatter/TAP.pm line 125.
# And cast your words away upon the waves. => áªá¥ÂÃÂâÂÂâÂ
½Ã°stâÂÂyâ²ÂurâÂÂá´¡orâÂ
¾sâÂÂaá´¡ÃÂỿâ¯uÃÂâ²Âá¥ÂâÂÂtheâÂÂwavesâ¤
Wide character in print at /home/sand/src/perl/repoperls/installed-perls/host/k93focal/v5.41.4/d119/lib/site_perl/5.41.4/Test2/Formatter/TAP.pm line 156.
Wide character in print at /home/sand/src/perl/repoperls/installed-perls/host/k93focal/v5.41.4/d119/lib/site_perl/5.41.4/Test2/Formatter/TAP.pm line 125.
# And cast your words away upon the waves. => AnâÂ
¾âÂÂÃÂÃÂÃÂtâ¯ỿoá¥Âr ᴡÿrÃÂsâÂÂÃÂwðÃÂâÂÂâªÃÂà ´ á¥ÂâÂÂthõâÂÂ
ᴡðᴠesâ¤
Wide character in print at /home/sand/src/perl/repoperls/installed-perls/host/k93focal/v5.41.4/d119/lib/site_perl/5.41.4/Test2/Formatter/TAP.pm line 156.
Wide character in print at /home/sand/src/perl/repoperls/installed-perls/host/k93focal/v5.41.4/d119/lib/site_perl/5.41.4/Test2/Formatter/TAP.pm line 125.
# Sail them home with acquiesce, => SaÃÂâÂ
¼âÂÂthᥱmâÂÂhÿâÂ
¿ÃµÃ wâÂ
°thâÂÂ
ðcqá¥ÂÃÂõsÃÂᥱï¼Â
Wide character in print at /home/sand/src/perl/repoperls/installed-perls/host/k93focal/v5.41.4/d119/lib/site_perl/5.41.4/Test2/Formatter/TAP.pm line 156.
Wide character in print at /home/sand/src/perl/repoperls/installed-perls/host/k93focal/v5.41.4/d119/lib/site_perl/5.41.4/Test2/Formatter/TAP.pm line 125.
# Sail them home with acquiesce, => ÃÂ
aâÂ
°âÂ
¼â¯thᥱmâ¯ûÿmᥱâÂÂwâÂ
°tÃȉÂÂðcqá¥ÂâÂ
°Ãµsceï¼Â
Wide character in print at /home/sand/src/perl/repoperls/installed-perls/host/k93focal/v5.41.4/d119/lib/site_perl/5.41.4/Test2/Formatter/TAP.pm line 156.
Wide character in print at /home/sand/src/perl/repoperls/installed-perls/host/k93focal/v5.41.4/d119/lib/site_perl/5.41.4/Test2/Formatter/TAP.pm line 125.
# Sail them home with acquiesce, => ÃÂ
ÃÂilâÂÂtûõm hþâÂ
¿ÃµâÂÂwitÃȉÂÂaâÂ
½qá¥ÂÃÂᥱÃÂÃÂᥱâÂÂ
Wide character in print at /home/sand/src/perl/repoperls/installed-perls/host/k93focal/v5.41.4/d119/lib/site_perl/5.41.4/Test2/Formatter/TAP.pm line 156.
Wide character in print at /home/sand/src/perl/repoperls/installed-perls/host/k93focal/v5.41.4/d119/lib/site_perl/5.41.4/Test2/Formatter/TAP.pm line 125.
# Sail them home with acquiesce, => SÃÂâÂ
°làthemâÂÂhà ´ mõâÂÂwithâÂÂaâÂ
½qá¥ÂiᥱÃÂceâÂÂ
Wide character in print at /home/sand/src/perl/repoperls/installed-perls/host/k93focal/v5.41.4/d119/lib/site_perl/5.41.4/Test2/Formatter/TAP.pm line 156.
Wide character in print at /home/sand/src/perl/repoperls/installed-perls/host/k93focal/v5.41.4/d119/lib/site_perl/5.41.4/Test2/Formatter/TAP.pm line 125.
# Sail them home with acquiesce, => ÃÂ
ÃÂâÂ
°âÂ
¼ tûᥱmâÂÂhomõâÂÂá´¡ithâÂÂ
ðÃÂquâÂ
°esÃÂõâÂÂ
Wide character in print at /home/sand/src/perl/repoperls/installed-perls/host/k93focal/v5.41.4/d119/lib/site_perl/5.41.4/Test2/Formatter/TAP.pm line 156.
Wide character in print at /home/sand/src/perl/repoperls/installed-perls/host/k93focal/v5.41.4/d119/lib/site_perl/5.41.4/Test2/Formatter/TAP.pm line 125.
# Sail them home with acquiesce, => áÂÂÃÂâÂ
°âÂ
¼ tûemâ¯hoâÂ
¿eâÂÂá´¡ÃÂtûàacqâªÃÂõsÃÂᥱ,
Wide character in print at /home/sand/src/perl/repoperls/installed-perls/host/k93focal/v5.41.4/d119/lib/site_perl/5.41.4/Test2/Formatter/TAP.pm line 156.
Wide character in print at /home/sand/src/perl/repoperls/installed-perls/host/k93focal/v5.41.4/d119/lib/site_perl/5.41.4/Test2/Formatter/TAP.pm line 125.
# Sail them home with acquiesce, => SaâÂ
°lâÂÂtûõâÂ
¿âÂÂûoâÂ
¿ÃµâÂÂá´¡âÂ
°thàðcquiᥱsÃÂᥱÃÂ
Wide character in print at /home/sand/src/perl/repoperls/installed-perls/host/k93focal/v5.41.4/d119/lib/site_perl/5.41.4/Test2/Formatter/TAP.pm line 156.
Wide character in print at /home/sand/src/perl/repoperls/installed-perls/host/k93focal/v5.41.4/d119/lib/site_perl/5.41.4/Test2/Formatter/TAP.pm line 125.
# Sail them home with acquiesce, => SðâÂ
°lâ¯tûõmâÂÂûoâÂ
¿ÃµâÂÂwÃÂtÃȉÂÂðcquÃÂescõÃÂ
Wide character in print at /home/sand/src/perl/repoperls/installed-perls/host/k93focal/v5.41.4/d119/lib/site_perl/5.41.4/Test2/Formatter/TAP.pm line 156.
Wide character in print at /home/sand/src/perl/repoperls/installed-perls/host/k93focal/v5.41.4/d119/lib/site_perl/5.41.4/Test2/Formatter/TAP.pm line 125.
# Sail them home with acquiesce, => áÂÂÃÂÃÂâÂ
¼Ã tûeâÂ
¿ hþâÂ
¿Ãµ wÃÂtÃȉÂÂðÃÂqâªiᥱÃÂÃÂeÃÂ
Wide character in print at /home/sand/src/perl/repoperls/installed-perls/host/k93focal/v5.41.4/d119/lib/site_perl/5.41.4/Test2/Formatter/TAP.pm line 156.
Wide character in print at /home/sand/src/perl/repoperls/installed-perls/host/k93focal/v5.41.4/d119/lib/site_perl/5.41.4/Test2/Formatter/TAP.pm line 125.
# Sail them home with acquiesce, => SðÃÂlâ¯tûeâÂ
¿âÂÂ
hà ´ âÂ
¿á¥±âÂÂá´¡ÃÂtÃȉÂÂÃÂÃÂqá¥ÂiesòõâÂÂ
Wide character in print at /home/sand/src/perl/repoperls/installed-perls/host/k93focal/v5.41.4/d119/lib/site_perl/5.41.4/Test2/Formatter/TAP.pm line 156.
Wide character in print at /home/sand/src/perl/repoperls/installed-perls/host/k93focal/v5.41.4/d119/lib/site_perl/5.41.4/Test2/Formatter/TAP.pm line 125.
# On a ship of hope today => ÃÂnâÂÂaâÂÂshÃÂâ²£ ofâÂÂ
hþpᥱâÂÂtoÃÂay
Wide character in print at /home/sand/src/perl/repoperls/installed-perls/host/k93focal/v5.41.4/d119/lib/site_perl/5.41.4/Test2/Formatter/TAP.pm line 156.
Wide character in print at /home/sand/src/perl/repoperls/installed-perls/host/k93focal/v5.41.4/d119/lib/site_perl/5.41.4/Test2/Formatter/TAP.pm line 125.
# On a ship of hope today => ÃÂnâÂÂaâ¯shiâ²£âÂÂâ²ÂfâÂÂhà ´ ÃÂᥱàtà ´ ÃÂÃÂÃÂ
Wide character in print at /home/sand/src/perl/repoperls/installed-perls/host/k93focal/v5.41.4/d119/lib/site_perl/5.41.4/Test2/Formatter/TAP.pm line 156.
Wide character in print at /home/sand/src/perl/repoperls/installed-perls/host/k93focal/v5.41.4/d119/lib/site_perl/5.41.4/Test2/Formatter/TAP.pm line 125.
# On a ship of hope today => Oá¥ÂâÂÂaâÂÂsÃȉÂ
°â²£âÂÂofâÂÂhà ´ â²£á¥±âÂÂtâ²ÂÃÂðy
Wide character in print at /home/sand/src/perl/repoperls/installed-perls/host/k93focal/v5.41.4/d119/lib/site_perl/5.41.4/Test2/Formatter/TAP.pm line 156.
Wide character in print at /home/sand/src/perl/repoperls/installed-perls/host/k93focal/v5.41.4/d119/lib/site_perl/5.41.4/Test2/Formatter/TAP.pm line 125.
# On a ship of hope today => ÃÂnâÂÂðâÂÂsûÃÂÃÂàâ²ÂfâÂÂhâ²Ââ²£eâÂÂtþdÃÂy
Wide character in print at /home/sand/src/perl/repoperls/installed-perls/host/k93focal/v5.41.4/d119/lib/site_perl/5.41.4/Test2/Formatter/TAP.pm line 156.
Wide character in print at /home/sand/src/perl/repoperls/installed-perls/host/k93focal/v5.41.4/d119/lib/site_perl/5.41.4/Test2/Formatter/TAP.pm line 125.
# On a ship of hope today => â²ÂnâÂÂðàshipàþfâÂÂûâ²ÂⲣᥱâÂÂtà ´ ÃÂaỿ
Wide character in print at /home/sand/src/perl/repoperls/installed-perls/host/k93focal/v5.41.4/d119/lib/site_perl/5.41.4/Test2/Formatter/TAP.pm line 156.
Wide character in print at /home/sand/src/perl/repoperls/installed-perls/host/k93focal/v5.41.4/d119/lib/site_perl/5.41.4/Test2/Formatter/TAP.pm line 125.
# On a ship of hope today => â²ÂnâÂÂaâÂÂ
shiÃÂâÂÂà ´ fâÂÂ
hoÃÂᥱâÂÂtodaÃÂ
Wide character in print at /home/sand/src/perl/repoperls/installed-perls/host/k93focal/v5.41.4/d119/lib/site_perl/5.41.4/Test2/Formatter/TAP.pm line 156.
Wide character in print at /home/sand/src/perl/repoperls/installed-perls/host/k93focal/v5.41.4/d119/lib/site_perl/5.41.4/Test2/Formatter/TAP.pm line 125.
# On a ship of hope today => â²ÂnâÂÂaâÂÂÃÂhÃÂpâÂÂofâÂÂûÿpeâÂÂtÿdÃÂy
Wide character in print at /home/sand/src/perl/repoperls/installed-perls/host/k93focal/v5.41.4/d119/lib/site_perl/5.41.4/Test2/Formatter/TAP.pm line 156.
Wide character in print at /home/sand/src/perl/repoperls/installed-perls/host/k93focal/v5.41.4/d119/lib/site_perl/5.41.4/Test2/Formatter/TAP.pm line 125.
# On a ship of hope today => OnâÂÂ
a ÃÂhiÃÂâÂÂþfâÂÂhÿpeâÂÂtà ´ ÃÂÃÂy
Wide character in print at /home/sand/src/perl/repoperls/installed-perls/host/k93focal/v5.41.4/d119/lib/site_perl/5.41.4/Test2/Formatter/TAP.pm line 156.
Wide character in print at /home/sand/src/perl/repoperls/installed-perls/host/k93focal/v5.41.4/d119/lib/site_perl/5.41.4/Test2/Formatter/TAP.pm line 125.
# On a ship of hope today => ÃÂá¥ÂâÂÂÃÂâÂÂÃÂhÃÂÃÂâÂÂ
ofâÂÂÃ»à ´ ÃÂe toâÂ
¾ay
Wide character in print at /home/sand/src/perl/repoperls/installed-perls/host/k93focal/v5.41.4/d119/lib/site_perl/5.41.4/Test2/Formatter/TAP.pm line 156.
Wide character in print at /home/sand/src/perl/repoperls/installed-perls/host/k93focal/v5.41.4/d119/lib/site_perl/5.41.4/Test2/Formatter/TAP.pm line 125.
# On a ship of hope today => ÃÂnâÂÂÃÂâÂÂÃÂÃȉÂ
°pâÂÂâ²ÂfâÂÂhÿⲣᥱâÂÂtÿâÂ
¾ÃÂỿ
Wide character in print at /home/sand/src/perl/repoperls/installed-perls/host/k93focal/v5.41.4/d119/lib/site_perl/5.41.4/Test2/Formatter/TAP.pm line 156.
Wide character in print at /home/sand/src/perl/repoperls/installed-perls/host/k93focal/v5.41.4/d119/lib/site_perl/5.41.4/Test2/Formatter/TAP.pm line 125.
# And as they land upon the shore => ÃÂá¥ÂÃÂâÂÂðsâÂÂ
tûõyâÂÂâÂ
¼Ã°á¥ÂdâÂÂuâ²£à ´ á¥ÂâÂÂtûeâÂÂsûâ²Ârõ
Wide character in print at /home/sand/src/perl/repoperls/installed-perls/host/k93focal/v5.41.4/d119/lib/site_perl/5.41.4/Test2/Formatter/TAP.pm line 156.
Wide character in print at /home/sand/src/perl/repoperls/installed-perls/host/k93focal/v5.41.4/d119/lib/site_perl/5.41.4/Test2/Formatter/TAP.pm line 125.
# And as they land upon the shore => AnâÂ
¾Ã ÃÂsâÂÂthõyâÂÂâÂ
¼anÃÂâÂÂá¥ÂÃÂÿᥠtheâÂÂÃÂûore
Wide character in print at /home/sand/src/perl/repoperls/installed-perls/host/k93focal/v5.41.4/d119/lib/site_perl/5.41.4/Test2/Formatter/TAP.pm line 156.
Wide character in print at /home/sand/src/perl/repoperls/installed-perls/host/k93focal/v5.41.4/d119/lib/site_perl/5.41.4/Test2/Formatter/TAP.pm line 125.
# And as they land upon the shore => Aá¥ÂdâÂÂasâÂÂtheyâÂÂ
landâÂÂuÃÂoá¥ÂâÂÂ
tûõâÂÂÃÂhorᥱ
Wide character in print at /home/sand/src/perl/repoperls/installed-perls/host/k93focal/v5.41.4/d119/lib/site_perl/5.41.4/Test2/Formatter/TAP.pm line 156.
Wide character in print at /home/sand/src/perl/repoperls/installed-perls/host/k93focal/v5.41.4/d119/lib/site_perl/5.41.4/Test2/Formatter/TAP.pm line 125.
# And as they land upon the shore => Aá¥ÂâÂ
¾âÂÂasâ¯thõÃÂâÂÂlÃÂá¥ÂÃÂâÂÂâªpà ´ á¥ÂâÂÂtûõâÂÂshà ´ re
Wide character in print at /home/sand/src/perl/repoperls/installed-perls/host/k93focal/v5.41.4/d119/lib/site_perl/5.41.4/Test2/Formatter/TAP.pm line 156.
Wide character in print at /home/sand/src/perl/repoperls/installed-perls/host/k93focal/v5.41.4/d119/lib/site_perl/5.41.4/Test2/Formatter/TAP.pm line 125.
# And as they land upon the shore => Aá¥ÂdâÂÂÃÂsâÂÂtûõỿâÂÂlanÃÂâÂÂá¥Ââ²£â²ÂnâÂÂthᥱàÃÂûâ²Ârõ
Wide character in print at /home/sand/src/perl/repoperls/installed-perls/host/k93focal/v5.41.4/d119/lib/site_perl/5.41.4/Test2/Formatter/TAP.pm line 156.
Wide character in print at /home/sand/src/perl/repoperls/installed-perls/host/k93focal/v5.41.4/d119/lib/site_perl/5.41.4/Test2/Formatter/TAP.pm line 125.
# And as they land upon the shore => ÃÂnâÂ
¾âÂÂðÃÂâÂÂtûeyâÂÂlaá¥Âàá¥Ââ²£â²ÂnâÂÂtheâÂÂÃÂûorõ
Wide character in print at /home/sand/src/perl/repoperls/installed-perls/host/k93focal/v5.41.4/d119/lib/site_perl/5.41.4/Test2/Formatter/TAP.pm line 156.
Wide character in print at /home/sand/src/perl/repoperls/installed-perls/host/k93focal/v5.41.4/d119/lib/site_perl/5.41.4/Test2/Formatter/TAP.pm line 125.
# And as they land upon the shore => áªá¥ÂdâÂÂÃÂsâÂÂtheyâÂÂlÃÂnÃÂâÂÂâªⲣoá¥ÂâÂÂtûõâÂÂshâ²Ârõ
Wide character in print at /home/sand/src/perl/repoperls/installed-perls/host/k93focal/v5.41.4/d119/lib/site_perl/5.41.4/Test2/Formatter/TAP.pm line 156.
Wide character in print at /home/sand/src/perl/repoperls/installed-perls/host/k93focal/v5.41.4/d119/lib/site_perl/5.41.4/Test2/Formatter/TAP.pm line 125.
# And as they land upon the shore => áªá¥ÂÃÂâÂÂÃÂÃÂàthᥱỿâ¯âÂ
¼ÃÂá¥Âd á¥Ââ²£à ´ nâÂÂ
tûõâÂÂshÿrõ
Wide character in print at /home/sand/src/perl/repoperls/installed-perls/host/k93focal/v5.41.4/d119/lib/site_perl/5.41.4/Test2/Formatter/TAP.pm line 156.
Wide character in print at /home/sand/src/perl/repoperls/installed-perls/host/k93focal/v5.41.4/d119/lib/site_perl/5.41.4/Test2/Formatter/TAP.pm line 125.
# And as they land upon the shore => Aá¥ÂdâÂÂÃÂsâÂÂthõỿâÂÂâÂ
¼anÃÂâÂÂâªÃÂonâÂÂtûõâÂÂshâ²Ârᥱ
Wide character in print at /home/sand/src/perl/repoperls/installed-perls/host/k93focal/v5.41.4/d119/lib/site_perl/5.41.4/Test2/Formatter/TAP.pm line 156.
Wide character in print at /home/sand/src/perl/repoperls/installed-perls/host/k93focal/v5.41.4/d119/lib/site_perl/5.41.4/Test2/Formatter/TAP.pm line 125.
# And as they land upon the shore => áªnâÂ
¾âÂÂðÃÂâÂÂtûeyâÂÂâÂ
¼aá¥ÂâÂ
¾ âªⲣon thõâÂÂshâ²Âre
Wide character in print at /home/sand/src/perl/repoperls/installed-perls/host/k93focal/v5.41.4/d119/lib/site_perl/5.41.4/Test2/Formatter/TAP.pm line 156.
Wide character in print at /home/sand/src/perl/repoperls/installed-perls/host/k93focal/v5.41.4/d119/lib/site_perl/5.41.4/Test2/Formatter/TAP.pm line 125.
# Tell them not to fear no more => âõllâÂÂ
tûeâÂ
¿âÂÂá¥ÂotâÂÂtoâÂÂfᥱÃÂr á¥Âÿàmâ²Ârᥱ
Wide character in print at /home/sand/src/perl/repoperls/installed-perls/host/k93focal/v5.41.4/d119/lib/site_perl/5.41.4/Test2/Formatter/TAP.pm line 156.
Wide character in print at /home/sand/src/perl/repoperls/installed-perls/host/k93focal/v5.41.4/d119/lib/site_perl/5.41.4/Test2/Formatter/TAP.pm line 125.
# Tell them not to fear no more => TeâÂ
¼âÂ
¼âÂÂthᥱmàá¥ÂotâÂÂtà ´ âÂÂfõÃÂràá¥Âo mþre
Wide character in print at /home/sand/src/perl/repoperls/installed-perls/host/k93focal/v5.41.4/d119/lib/site_perl/5.41.4/Test2/Formatter/TAP.pm line 156.
Wide character in print at /home/sand/src/perl/repoperls/installed-perls/host/k93focal/v5.41.4/d119/lib/site_perl/5.41.4/Test2/Formatter/TAP.pm line 125.
# Tell them not to fear no more => TelâÂ
¼â¯tûᥱmâÂÂnotâÂÂtâ²ÂâÂÂfõðrâÂÂnà ´ âÂÂ
mâ²Âre
Wide character in print at /home/sand/src/perl/repoperls/installed-perls/host/k93focal/v5.41.4/d119/lib/site_perl/5.41.4/Test2/Formatter/TAP.pm line 156.
Wide character in print at /home/sand/src/perl/repoperls/installed-perls/host/k93focal/v5.41.4/d119/lib/site_perl/5.41.4/Test2/Formatter/TAP.pm line 125.
# Tell them not to fear no more => âᥱllâÂÂtheâÂ
¿âÂÂnÿtâÂÂtâ²ÂâÂÂfeÃÂr nþâÂÂâÂ
¿ore
Wide character in print at /home/sand/src/perl/repoperls/installed-perls/host/k93focal/v5.41.4/d119/lib/site_perl/5.41.4/Test2/Formatter/TAP.pm line 156.
Wide character in print at /home/sand/src/perl/repoperls/installed-perls/host/k93focal/v5.41.4/d119/lib/site_perl/5.41.4/Test2/Formatter/TAP.pm line 125.
# Tell them not to fear no more => âeâÂ
¼âÂ
¼âÂÂtûᥱâÂ
¿âÂÂnÿtâÂÂtþàfeÃÂrâÂÂnþâÂÂmâ²Ârõ
Wide character in print at /home/sand/src/perl/repoperls/installed-perls/host/k93focal/v5.41.4/d119/lib/site_perl/5.41.4/Test2/Formatter/TAP.pm line 156.
Wide character in print at /home/sand/src/perl/repoperls/installed-perls/host/k93focal/v5.41.4/d119/lib/site_perl/5.41.4/Test2/Formatter/TAP.pm line 125.
# Tell them not to fear no more => äᥱlâÂ
¼ tûõâÂ
¿âÂÂá¥ÂotâÂÂtà ´ âÂÂfõÃÂràá¥ÂþâÂÂâÂ
¿â²Ârõ
Wide character in print at /home/sand/src/perl/repoperls/installed-perls/host/k93focal/v5.41.4/d119/lib/site_perl/5.41.4/Test2/Formatter/TAP.pm line 156.
Wide character in print at /home/sand/src/perl/repoperls/installed-perls/host/k93focal/v5.41.4/d119/lib/site_perl/5.41.4/Test2/Formatter/TAP.pm line 125.
# Tell them not to fear no more => TõâÂ
¼lâÂÂtûõâÂ
¿â¯á¥ÂotâÂÂtoâÂÂfeðrâÂÂnþâÂÂ
âÂ
¿à ´ rõ
Wide character in print at /home/sand/src/perl/repoperls/installed-perls/host/k93focal/v5.41.4/d119/lib/site_perl/5.41.4/Test2/Formatter/TAP.pm line 156.
Wide character in print at /home/sand/src/perl/repoperls/installed-perls/host/k93focal/v5.41.4/d119/lib/site_perl/5.41.4/Test2/Formatter/TAP.pm line 125.
# Tell them not to fear no more => âõâÂ
¼âÂ
¼â¯thõmâÂÂá¥Âà ´ t tà ´ âÂÂfᥱðr noàâÂ
¿â²Ârᥱ
Wide character in print at /home/sand/src/perl/repoperls/installed-perls/host/k93focal/v5.41.4/d119/lib/site_perl/5.41.4/Test2/Formatter/TAP.pm line 156.
Wide character in print at /home/sand/src/perl/repoperls/installed-perls/host/k93focal/v5.41.4/d119/lib/site_perl/5.41.4/Test2/Formatter/TAP.pm line 125.
# Tell them not to fear no more => á¢ᥱllâÂÂtûemâÂÂá¥ÂÿtâÂÂtÿâÂÂfearâ¯nà ´ âÂÂâÂ
¿Ã¿rᥱ
Wide character in print at /home/sand/src/perl/repoperls/installed-perls/host/k93focal/v5.41.4/d119/lib/site_perl/5.41.4/Test2/Formatter/TAP.pm line 156.
Wide character in print at /home/sand/src/perl/repoperls/installed-perls/host/k93focal/v5.41.4/d119/lib/site_perl/5.41.4/Test2/Formatter/TAP.pm line 125.
# Tell them not to fear no more => âõlâÂ
¼â¯thᥱmâÂÂnâ²ÂtâÂÂtoâÂÂfõÃÂrâÂÂá¥ÂÿâÂÂâÂ
¿â²Ârᥱ
Wide character in print at /home/sand/src/perl/repoperls/installed-perls/host/k93focal/v5.41.4/d119/lib/site_perl/5.41.4/Test2/Formatter/TAP.pm line 156.
Wide character in print at /home/sand/src/perl/repoperls/installed-perls/host/k93focal/v5.41.4/d119/lib/site_perl/5.41.4/Test2/Formatter/TAP.pm line 125.
# Say it loud and sing it proud today! => áÂÂaÃÂâÂÂÃÂtâÂÂâÂ
¼Ã¿uâÂ
¾âÂÂÃÂá¥ÂÃÂâÂÂsÃÂnáâÂÂâÂ
°tâÂÂâ²£rà ´ âªâÂ
¾âÂÂtodðÃÂï¼Â
Wide character in print at /home/sand/src/perl/repoperls/installed-perls/host/k93focal/v5.41.4/d119/lib/site_perl/5.41.4/Test2/Formatter/TAP.pm line 156.
Wide character in print at /home/sand/src/perl/repoperls/installed-perls/host/k93focal/v5.41.4/d119/lib/site_perl/5.41.4/Test2/Formatter/TAP.pm line 125.
# Say it loud and sing it proud today! => ÃÂ
ðỿâÂÂitâÂÂlþâªâÂ
¾â¯andâÂÂsingâÂÂitâÂÂÃÂrÿâªÃÂâÂÂtÿdðyï¹Â
Wide character in print at /home/sand/src/perl/repoperls/installed-perls/host/k93focal/v5.41.4/d119/lib/site_perl/5.41.4/Test2/Formatter/TAP.pm line 156.
Wide character in print at /home/sand/src/perl/repoperls/installed-perls/host/k93focal/v5.41.4/d119/lib/site_perl/5.41.4/Test2/Formatter/TAP.pm line 125.
# Say it loud and sing it proud today! => ÃÂ
ÃÂÃÂâÂÂÃÂtâÂÂ
âÂ
¼oudâÂÂðá¥ÂÃÂâÂÂsâÂ
°ngâÂÂâÂ
°tâÂÂprÿâªÃÂâÂÂtÿâÂ
¾Ã°y!
Wide character in print at /home/sand/src/perl/repoperls/installed-perls/host/k93focal/v5.41.4/d119/lib/site_perl/5.41.4/Test2/Formatter/TAP.pm line 156.
Wide character in print at /home/sand/src/perl/repoperls/installed-perls/host/k93focal/v5.41.4/d119/lib/site_perl/5.41.4/Test2/Formatter/TAP.pm line 125.
# Say it loud and sing it proud today! => SÃÂÃÂâÂÂitàâÂ
¼Ã¿âªdâÂÂÃÂndâÂÂsâÂ
°náâÂÂÃÂtâÂÂ
â²£rà ´ âªdâ¯tþâÂ
¾aỿï¸Â
Wide character in print at /home/sand/src/perl/repoperls/installed-perls/host/k93focal/v5.41.4/d119/lib/site_perl/5.41.4/Test2/Formatter/TAP.pm line 156.
Wide character in print at /home/sand/src/perl/repoperls/installed-perls/host/k93focal/v5.41.4/d119/lib/site_perl/5.41.4/Test2/Formatter/TAP.pm line 125.
# Say it loud and sing it proud today! => áÂÂÃÂỿâÂÂitâÂÂlÿuâÂ
¾ ðá¥ÂÃÂâÂÂsÃÂnáâÂÂitâÂÂprâ²Âá¥ÂâÂ
¾ tþâÂ
¾Ã°yï¸Â
Wide character in print at /home/sand/src/perl/repoperls/installed-perls/host/k93focal/v5.41.4/d119/lib/site_perl/5.41.4/Test2/Formatter/TAP.pm line 156.
Wide character in print at /home/sand/src/perl/repoperls/installed-perls/host/k93focal/v5.41.4/d119/lib/site_perl/5.41.4/Test2/Formatter/TAP.pm line 125.
# Say it loud and sing it proud today! => áÂÂðỿâÂÂitâÂÂâÂ
¼à ´ uâÂ
¾âÂÂðndâÂÂsÃÂnáâÂÂÃÂtâ¯prà ´ á¥ÂÃÂâÂÂtþâÂ
¾ÃÂyï¹Â
Wide character in print at /home/sand/src/perl/repoperls/installed-perls/host/k93focal/v5.41.4/d119/lib/site_perl/5.41.4/Test2/Formatter/TAP.pm line 156.
Wide character in print at /home/sand/src/perl/repoperls/installed-perls/host/k93focal/v5.41.4/d119/lib/site_perl/5.41.4/Test2/Formatter/TAP.pm line 125.
# Say it loud and sing it proud today! => SðÃÂâÂÂÃÂtâÂÂlâ²ÂuâÂ
¾âÂÂanâÂ
¾âÂÂÃÂÃÂá¥ÂáâÂÂâÂ
°tâÂÂprÿâªd tÿâÂ
¾ayï¼Â
Wide character in print at /home/sand/src/perl/repoperls/installed-perls/host/k93focal/v5.41.4/d119/lib/site_perl/5.41.4/Test2/Formatter/TAP.pm line 156.
Wide character in print at /home/sand/src/perl/repoperls/installed-perls/host/k93focal/v5.41.4/d119/lib/site_perl/5.41.4/Test2/Formatter/TAP.pm line 125.
# Say it loud and sing it proud today! => áÂÂÃÂyâÂÂitâÂÂâÂ
¼Ã¿á¥ÂdâÂÂÃÂá¥ÂÃÂâÂÂsÃÂngâÂÂÃÂtâÂÂÃÂrâ²ÂuÃÂâÂÂtâ²ÂdÃÂÃÂï¼Â
Wide character in print at /home/sand/src/perl/repoperls/installed-perls/host/k93focal/v5.41.4/d119/lib/site_perl/5.41.4/Test2/Formatter/TAP.pm line 156.
Wide character in print at /home/sand/src/perl/repoperls/installed-perls/host/k93focal/v5.41.4/d119/lib/site_perl/5.41.4/Test2/Formatter/TAP.pm line 125.
# Say it loud and sing it proud today! => áÂÂaÃÂâÂÂÃÂtâ¯âÂ
¼â²ÂâªdâÂÂanâÂ
¾â¯singâ¯itâÂÂproâªâÂ
¾âÂÂ
toâÂ
¾ÃÂÃÂï¸Â
Wide character in print at /home/sand/src/perl/repoperls/installed-perls/host/k93focal/v5.41.4/d119/lib/site_perl/5.41.4/Test2/Formatter/TAP.pm line 156.
Wide character in print at /home/sand/src/perl/repoperls/installed-perls/host/k93focal/v5.41.4/d119/lib/site_perl/5.41.4/Test2/Formatter/TAP.pm line 125.
# Say it loud and sing it proud today! => áÂÂÃÂàitâÂÂloudâÂÂÃÂá¥ÂâÂ
¾âÂÂsÃÂnáâ¯ÃÂtâÂÂÃÂrouâÂ
¾âÂÂtÿÃÂayï¼Â
Wide character in print at /home/sand/src/perl/repoperls/installed-perls/host/k93focal/v5.41.4/d119/lib/site_perl/5.41.4/Test2/Formatter/TAP.pm line 156.
t/01-usage.t ...... ok
t/manifest.t ...... skipped: Author tests not required for installation
t/pod-coverage.t .. skipped: Author tests not required for installation
t/pod.t ........... skipped: Author tests not required for installation
All tests successful.
Files=5, Tests=85, 0 wallclock secs ( 0.05 usr 0.01 sys + 0.40 cusr 0.10 csys = 0.56 CPU)
Result: PASS
------------------------------
PREREQUISITES
------------------------------
Prerequisite modules loaded:
requires:
Module Need Have
------------------- ----- --------
perl 5.006 5.041004
build_requires:
Module Need Have
------------------- ----- --------
Test::More 0 1.302204
configure_requires:
Module Need Have
------------------- ----- --------
ExtUtils::MakeMaker 0 7.70
------------------------------
ENVIRONMENT AND OTHER CONTEXT
------------------------------
Environment variables:
AUTOMATED_TESTING = 1
LANG = en_US.UTF-8
PATH = /home/sand/bin:/usr/local/bin:/usr/local/sbin:/usr/sbin:/usr/bin:/sbin:/bin:/usr/games:/usr/local/games:/snap/bin:/usr/local/perl/bin:/usr/X11/bin
PERL = /tmp/basesmoker-reloperl-Eblp/bin/perl
PERL5LIB = /tmp/loop_over_bdir-1418061-Vb0izX/ProjectBuilder-0.14.1-0/blib/arch:/tmp/loop_over_bdir-1418061-Vb0izX/ProjectBuilder-0.14.1-0/blib/lib:/tmp/loop_over_bdir-1418061-Vb0izX/CORBA-Python-2.66-0/blib/arch:/tmp/loop_over_bdir-1418061-Vb0izX/CORBA-Python-2.66-0/blib/lib:/tmp/loop_over_bdir-1418061-Vb0izX/Debian-Packages-0.03-0/blib/arch:/tmp/loop_over_bdir-1418061-Vb0izX/Debian-Packages-0.03-0/blib/lib:/tmp/loop_over_bdir-1418061-Vb0izX/DBIx-Migration-Directories-0.12-0/blib/arch:/tmp/loop_over_bdir-1418061-Vb0izX/DBIx-Migration-Directories-0.12-0/blib/lib:/tmp/loop_over_bdir-1418061-Vb0izX/triceps-2.1.0-0/blib/arch:/tmp/loop_over_bdir-1418061-Vb0izX/triceps-2.1.0-0/blib/lib:/tmp/loop_over_bdir-1418061-Vb0izX/HTML-Menu-TreeView-1.22-0/blib/arch:/tmp/loop_over_bdir-1418061-Vb0izX/HTML-Menu-TreeView-1.22-0/blib/lib:/tmp/loop_over_bdir-1418061-Vb0izX/Alien-SNMP-MIBDEV-2.020000-0/blib/arch:/tmp/loop_over_bdir-1418061-Vb0izX/Alien-SNMP-MIBDEV-2.020000-0/blib/lib:/tmp/loop_over_bdir-1418061-Vb0izX/Net-OpenVPN-DDNS-0.1-0/blib/arch:/tmp/loop_over_bdir-1418061-Vb0izX/Net-OpenVPN-DDNS-0.1-0/blib/lib:/tmp/loop_over_bdir-1418061-Vb0izX/App-nrun-v1.1.2-0/blib/arch:/tmp/loop_over_bdir-1418061-Vb0izX/App-nrun-v1.1.2-0/blib/lib:/tmp/loop_over_bdir-1418061-Vb0izX/shishi-0.0.1-0/blib/arch:/tmp/loop_over_bdir-1418061-Vb0izX/shishi-0.0.1-0/blib/lib:/tmp/loop_over_bdir-1418061-Vb0izX/LiquidWeb-Storm-CLI-1.03-0/blib/arch:/tmp/loop_over_bdir-1418061-Vb0izX/LiquidWeb-Storm-CLI-1.03-0/blib/lib:/tmp/loop_over_bdir-1418061-Vb0izX/App-oo_modulino_zsh_completion_helper-0.04-0/blib/arch:/tmp/loop_over_bdir-1418061-Vb0izX/App-oo_modulino_zsh_completion_helper-0.04-0/blib/lib:/tmp/loop_over_bdir-1418061-Vb0izX/NoZone-1.3-0/blib/arch:/tmp/loop_over_bdir-1418061-Vb0izX/NoZone-1.3-0/blib/lib:/tmp/loop_over_bdir-1418061-Vb0izX/Business-Shipping-DataFiles-1.02-0/blib/arch:/tmp/loop_over_bdir-1418061-Vb0izX/Business-Shipping-DataFiles-1.02-0/blib/lib:/tmp/loop_over_bdir-1418061-Vb0izX/dta-tokwrap-0.98-0/blib/arch:/tmp/loop_over_bdir-1418061-Vb0izX/dta-tokwrap-0.98-0/blib/lib:/tmp/loop_over_bdir-1418061-Vb0izX/App-rmcd-0.280-0/blib/arch:/tmp/loop_over_bdir-1418061-Vb0izX/App-rmcd-0.280-0/blib/lib:/tmp/loop_over_bdir-1418061-Vb0izX/Lingua-BioYaTeA-0.11-0/blib/arch:/tmp/loop_over_bdir-1418061-Vb0izX/Lingua-BioYaTeA-0.11-0/blib/lib:/tmp/loop_over_bdir-1418061-Vb0izX/Lingua-YaTeA-0.626-0/blib/arch:/tmp/loop_over_bdir-1418061-Vb0izX/Lingua-YaTeA-0.626-0/blib/lib:/tmp/loop_over_bdir-1418061-Vb0izX/js-app-0.13-0/blib/arch:/tmp/loop_over_bdir-1418061-Vb0izX/js-app-0.13-0/blib/lib:/tmp/loop_over_bdir-1418061-Vb0izX/Devel-Required-0.16-0/blib/arch:/tmp/loop_over_bdir-1418061-Vb0izX/Devel-Required-0.16-0/blib/lib:/tmp/loop_over_bdir-1418061-Vb0izX/Captive-Portal-4.10-0/blib/arch:/tmp/loop_over_bdir-1418061-Vb0izX/Captive-Portal-4.10-0/blib/lib:/tmp/loop_over_bdir-1418061-Vb0izX/mmds-1.902-0/blib/arch:/tmp/loop_over_bdir-1418061-Vb0izX/mmds-1.902-0/blib/lib:/tmp/loop_over_bdir-1418061-Vb0izX/Net-ISP-Balance-1.31-0/blib/arch:/tmp/loop_over_bdir-1418061-Vb0izX/Net-ISP-Balance-1.31-0/blib/lib:/tmp/loop_over_bdir-1418061-Vb0izX/Sysync-0.38-0/blib/arch:/tmp/loop_over_bdir-1418061-Vb0izX/Sysync-0.38-0/blib/lib:/tmp/loop_over_bdir-1418061-Vb0izX/RDF-NLP-SPARQLQuery-0.1-0/blib/arch:/tmp/loop_over_bdir-1418061-Vb0izX/RDF-NLP-SPARQLQuery-0.1-0/blib/lib:/tmp/loop_over_bdir-1418061-Vb0izX/makepp-1.19-0/blib/arch:/tmp/loop_over_bdir-1418061-Vb0izX/makepp-1.19-0/blib/lib:/tmp/loop_over_bdir-1418061-Vb0izX/Linux-InitFS-0.2-0/blib/arch:/tmp/loop_over_bdir-1418061-Vb0izX/Linux-InitFS-0.2-0/blib/lib:/tmp/loop_over_bdir-1418061-Vb0izX/perl-Hardware-UPS-Perl-0.43-0/blib/arch:/tmp/loop_over_bdir-1418061-Vb0izX/perl-Hardware-UPS-Perl-0.43-0/blib/lib
PERL5OPT =
PERL5_CPANPLUS_IS_RUNNING = 1418069
PERL5_CPAN_IS_RUNNING = 1418069
PERL_CANARY_STABILITY_NOPROMPT = 1
PERL_MM_USE_DEFAULT = 1
PERL_USE_UNSAFE_INC = 1
SHELL = /usr/bin/zsh
TERM = screen
Perl special variables (and OS-specific diagnostics, for MSWin32):
$^X = /tmp/basesmoker-reloperl-Eblp/bin/perl
$UID/$EUID = 1005 / 1005
$GID = 1005 1005
$EGID = 1005 1005
Perl module toolchain versions installed:
Module Have
------------------- --------
CPAN 2.37
CPAN::Meta 2.150010
Cwd 3.92
ExtUtils::CBuilder 0.280240
ExtUtils::Command 7.70
ExtUtils::Install 2.22
ExtUtils::MakeMaker 7.70
ExtUtils::Manifest 1.75
ExtUtils::ParseXS 3.54
File::Spec 3.93
JSON 4.10
JSON::PP 4.16
Module::Build 0.4234
Module::Signature 0.89
Parse::CPAN::Meta 2.150010
Test2 1.302204
Test::Harness 3.50
Test::More 1.302204
YAML 1.31
YAML::Syck 1.34
version 0.9933
--
Summary of my perl5 (revision 5 version 41 subversion 4) configuration:
Commit id: 87deea969a7552a96b077acb5708d74c65099c51
Platform:
osname=linux
osvers=5.4.0-193-generic
archname=x86_64-linux-thread-multi
uname='linux k93focal 5.4.0-193-generic #213-ubuntu smp fri aug 2 19:14:16 utc 2024 x86_64 x86_64 x86_64 gnulinux '
config_args='-Dprefix=/home/sand/src/perl/repoperls/installed-perls/host/k93focal/v5.41.4/d119 -Dmyhostname=k93focal -Dinstallusrbinperl=n -Uversiononly -Dusedevel -des -Ui_db -Dlibswanted=cl pthread socket inet nsl gdbm dbm malloc dl ld sun m crypt sec util c cposix posix ucb BSD gdbm_compat -Duseithreads -Uuselongdouble -DEBUGGING=both'
hint=recommended
useposix=true
d_sigaction=define
useithreads=define
usemultiplicity=define
use64bitint=define
use64bitall=define
uselongdouble=undef
usemymalloc=n
default_inc_excludes_dot=define
Compiler:
cc='cc'
ccflags ='-D_REENTRANT -D_GNU_SOURCE -fwrapv -DDEBUGGING -fno-strict-aliasing -pipe -fstack-protector-strong -I/usr/local/include -D_LARGEFILE_SOURCE -D_FILE_OFFSET_BITS=64'
optimize='-O2 -g'
cppflags='-D_REENTRANT -D_GNU_SOURCE -fwrapv -DDEBUGGING -fno-strict-aliasing -pipe -fstack-protector-strong -I/usr/local/include'
ccversion=''
gccversion='9.4.0'
gccosandvers=''
intsize=4
longsize=8
ptrsize=8
doublesize=8
byteorder=12345678
doublekind=3
d_longlong=define
longlongsize=8
d_longdbl=define
longdblsize=16
longdblkind=3
ivtype='long'
ivsize=8
nvtype='double'
nvsize=8
Off_t='off_t'
lseeksize=8
alignbytes=8
prototype=define
Linker and Libraries:
ld='cc'
ldflags =' -fstack-protector-strong -L/usr/local/lib'
libpth=/usr/local/lib /usr/lib/x86_64-linux-gnu /usr/lib /usr/lib64
libs=-lpthread -lnsl -ldl -lm -lcrypt -lutil -lc
perllibs=-lpthread -lnsl -ldl -lm -lcrypt -lutil -lc
libc=libc-2.31.so
so=so
useshrplib=false
libperl=libperl.a
gnulibc_version='2.31'
Dynamic Linking:
dlsrc=dl_dlopen.xs
dlext=so
d_dlsymun=undef
ccdlflags='-Wl,-E'
cccdlflags='-fPIC'
lddlflags='-shared -O2 -g -L/usr/local/lib -fstack-protector-strong'
Characteristics of this binary (from libperl):
Compile-time options:
DEBUGGING
HAS_LONG_DOUBLE
HAS_STRTOLD
HAS_TIMES
MULTIPLICITY
PERLIO_LAYERS
PERL_COPY_ON_WRITE
PERL_DONT_CREATE_GVSV
PERL_HASH_FUNC_SIPHASH13
PERL_HASH_USE_SBOX32
PERL_MALLOC_WRAP
PERL_OP_PARENT
PERL_PRESERVE_IVUV
PERL_TRACK_MEMPOOL
PERL_USE_DEVEL
PERL_USE_SAFE_PUTENV
USE_64_BIT_ALL
USE_64_BIT_INT
USE_ITHREADS
USE_LARGE_FILES
USE_LOCALE
USE_LOCALE_COLLATE
USE_LOCALE_CTYPE
USE_LOCALE_NUMERIC
USE_LOCALE_TIME
USE_PERLIO
USE_PERL_ATOF
USE_REENTRANT_API
USE_THREAD_SAFE_LOCALE
Built under linux
Compiled at Sep 21 2024 20:45:51
%ENV:
PERL="/tmp/basesmoker-reloperl-Eblp/bin/perl"
PERL5LIB="/tmp/loop_over_bdir-1418061-Vb0izX/ProjectBuilder-0.14.1-0/blib/arch:/tmp/loop_over_bdir-1418061-Vb0izX/ProjectBuilder-0.14.1-0/blib/lib:/tmp/loop_over_bdir-1418061-Vb0izX/CORBA-Python-2.66-0/blib/arch:/tmp/loop_over_bdir-1418061-Vb0izX/CORBA-Python-2.66-0/blib/lib:/tmp/loop_over_bdir-1418061-Vb0izX/Debian-Packages-0.03-0/blib/arch:/tmp/loop_over_bdir-1418061-Vb0izX/Debian-Packages-0.03-0/blib/lib:/tmp/loop_over_bdir-1418061-Vb0izX/DBIx-Migration-Directories-0.12-0/blib/arch:/tmp/loop_over_bdir-1418061-Vb0izX/DBIx-Migration-Directories-0.12-0/blib/lib:/tmp/loop_over_bdir-1418061-Vb0izX/triceps-2.1.0-0/blib/arch:/tmp/loop_over_bdir-1418061-Vb0izX/triceps-2.1.0-0/blib/lib:/tmp/loop_over_bdir-1418061-Vb0izX/HTML-Menu-TreeView-1.22-0/blib/arch:/tmp/loop_over_bdir-1418061-Vb0izX/HTML-Menu-TreeView-1.22-0/blib/lib:/tmp/loop_over_bdir-1418061-Vb0izX/Alien-SNMP-MIBDEV-2.020000-0/blib/arch:/tmp/loop_over_bdir-1418061-Vb0izX/Alien-SNMP-MIBDEV-2.020000-0/blib/lib:/tmp/loop_over_bdir-1418061-Vb0izX/Net-OpenVPN-DDNS-0.1-0/blib/arch:/tmp/loop_over_bdir-1418061-Vb0izX/Net-OpenVPN-DDNS-0.1-0/blib/lib:/tmp/loop_over_bdir-1418061-Vb0izX/App-nrun-v1.1.2-0/blib/arch:/tmp/loop_over_bdir-1418061-Vb0izX/App-nrun-v1.1.2-0/blib/lib:/tmp/loop_over_bdir-1418061-Vb0izX/shishi-0.0.1-0/blib/arch:/tmp/loop_over_bdir-1418061-Vb0izX/shishi-0.0.1-0/blib/lib:/tmp/loop_over_bdir-1418061-Vb0izX/LiquidWeb-Storm-CLI-1.03-0/blib/arch:/tmp/loop_over_bdir-1418061-Vb0izX/LiquidWeb-Storm-CLI-1.03-0/blib/lib:/tmp/loop_over_bdir-1418061-Vb0izX/App-oo_modulino_zsh_completion_helper-0.04-0/blib/arch:/tmp/loop_over_bdir-1418061-Vb0izX/App-oo_modulino_zsh_completion_helper-0.04-0/blib/lib:/tmp/loop_over_bdir-1418061-Vb0izX/NoZone-1.3-0/blib/arch:/tmp/loop_over_bdir-1418061-Vb0izX/NoZone-1.3-0/blib/lib:/tmp/loop_over_bdir-1418061-Vb0izX/Business-Shipping-DataFiles-1.02-0/blib/arch:/tmp/loop_over_bdir-1418061-Vb0izX/Business-Shipping-DataFiles-1.02-0/blib/lib:/tmp/loop_over_bdir-1418061-Vb0izX/dta-tokwrap-0.98-0/blib/arch:/tmp/loop_over_bdir-1418061-Vb0izX/dta-tokwrap-0.98-0/blib/lib:/tmp/loop_over_bdir-1418061-Vb0izX/App-rmcd-0.280-0/blib/arch:/tmp/loop_over_bdir-1418061-Vb0izX/App-rmcd-0.280-0/blib/lib:/tmp/loop_over_bdir-1418061-Vb0izX/Lingua-BioYaTeA-0.11-0/blib/arch:/tmp/loop_over_bdir-1418061-Vb0izX/Lingua-BioYaTeA-0.11-0/blib/lib:/tmp/loop_over_bdir-1418061-Vb0izX/Lingua-YaTeA-0.626-0/blib/arch:/tmp/loop_over_bdir-1418061-Vb0izX/Lingua-YaTeA-0.626-0/blib/lib:/tmp/loop_over_bdir-1418061-Vb0izX/js-app-0.13-0/blib/arch:/tmp/loop_over_bdir-1418061-Vb0izX/js-app-0.13-0/blib/lib:/tmp/loop_over_bdir-1418061-Vb0izX/Devel-Required-0.16-0/blib/arch:/tmp/loop_over_bdir-1418061-Vb0izX/Devel-Required-0.16-0/blib/lib:/tmp/loop_over_bdir-1418061-Vb0izX/Captive-Portal-4.10-0/blib/arch:/tmp/loop_over_bdir-1418061-Vb0izX/Captive-Portal-4.10-0/blib/lib:/tmp/loop_over_bdir-1418061-Vb0izX/mmds-1.902-0/blib/arch:/tmp/loop_over_bdir-1418061-Vb0izX/mmds-1.902-0/blib/lib:/tmp/loop_over_bdir-1418061-Vb0izX/Net-ISP-Balance-1.31-0/blib/arch:/tmp/loop_over_bdir-1418061-Vb0izX/Net-ISP-Balance-1.31-0/blib/lib:/tmp/loop_over_bdir-1418061-Vb0izX/Sysync-0.38-0/blib/arch:/tmp/loop_over_bdir-1418061-Vb0izX/Sysync-0.38-0/blib/lib:/tmp/loop_over_bdir-1418061-Vb0izX/RDF-NLP-SPARQLQuery-0.1-0/blib/arch:/tmp/loop_over_bdir-1418061-Vb0izX/RDF-NLP-SPARQLQuery-0.1-0/blib/lib:/tmp/loop_over_bdir-1418061-Vb0izX/makepp-1.19-0/blib/arch:/tmp/loop_over_bdir-1418061-Vb0izX/makepp-1.19-0/blib/lib:/tmp/loop_over_bdir-1418061-Vb0izX/Linux-InitFS-0.2-0/blib/arch:/tmp/loop_over_bdir-1418061-Vb0izX/Linux-InitFS-0.2-0/blib/lib:/tmp/loop_over_bdir-1418061-Vb0izX/perl-Hardware-UPS-Perl-0.43-0/blib/arch:/tmp/loop_over_bdir-1418061-Vb0izX/perl-Hardware-UPS-Perl-0.43-0/blib/lib"
PERL5OPT=""
PERL5_CPANPLUS_IS_RUNNING="1418069"
PERL5_CPAN_IS_RUNNING="1418069"
PERL_CANARY_STABILITY_NOPROMPT="1"
PERL_MM_USE_DEFAULT="1"
PERL_USE_UNSAFE_INC="1"
@INC:
/tmp/loop_over_bdir-1418061-Vb0izX/ProjectBuilder-0.14.1-0/blib/arch
/tmp/loop_over_bdir-1418061-Vb0izX/ProjectBuilder-0.14.1-0/blib/lib
/tmp/loop_over_bdir-1418061-Vb0izX/CORBA-Python-2.66-0/blib/arch
/tmp/loop_over_bdir-1418061-Vb0izX/CORBA-Python-2.66-0/blib/lib
/tmp/loop_over_bdir-1418061-Vb0izX/Debian-Packages-0.03-0/blib/arch
/tmp/loop_over_bdir-1418061-Vb0izX/Debian-Packages-0.03-0/blib/lib
/tmp/loop_over_bdir-1418061-Vb0izX/DBIx-Migration-Directories-0.12-0/blib/arch
/tmp/loop_over_bdir-1418061-Vb0izX/DBIx-Migration-Directories-0.12-0/blib/lib
/tmp/loop_over_bdir-1418061-Vb0izX/triceps-2.1.0-0/blib/arch
/tmp/loop_over_bdir-1418061-Vb0izX/triceps-2.1.0-0/blib/lib
/tmp/loop_over_bdir-1418061-Vb0izX/HTML-Menu-TreeView-1.22-0/blib/arch
/tmp/loop_over_bdir-1418061-Vb0izX/HTML-Menu-TreeView-1.22-0/blib/lib
/tmp/loop_over_bdir-1418061-Vb0izX/Alien-SNMP-MIBDEV-2.020000-0/blib/arch
/tmp/loop_over_bdir-1418061-Vb0izX/Alien-SNMP-MIBDEV-2.020000-0/blib/lib
/tmp/loop_over_bdir-1418061-Vb0izX/Net-OpenVPN-DDNS-0.1-0/blib/arch
/tmp/loop_over_bdir-1418061-Vb0izX/Net-OpenVPN-DDNS-0.1-0/blib/lib
/tmp/loop_over_bdir-1418061-Vb0izX/App-nrun-v1.1.2-0/blib/arch
/tmp/loop_over_bdir-1418061-Vb0izX/App-nrun-v1.1.2-0/blib/lib
/tmp/loop_over_bdir-1418061-Vb0izX/shishi-0.0.1-0/blib/arch
/tmp/loop_over_bdir-1418061-Vb0izX/shishi-0.0.1-0/blib/lib
/tmp/loop_over_bdir-1418061-Vb0izX/LiquidWeb-Storm-CLI-1.03-0/blib/arch
/tmp/loop_over_bdir-1418061-Vb0izX/LiquidWeb-Storm-CLI-1.03-0/blib/lib
/tmp/loop_over_bdir-1418061-Vb0izX/App-oo_modulino_zsh_completion_helper-0.04-0/blib/arch
/tmp/loop_over_bdir-1418061-Vb0izX/App-oo_modulino_zsh_completion_helper-0.04-0/blib/lib
/tmp/loop_over_bdir-1418061-Vb0izX/NoZone-1.3-0/blib/arch
/tmp/loop_over_bdir-1418061-Vb0izX/NoZone-1.3-0/blib/lib
/tmp/loop_over_bdir-1418061-Vb0izX/Business-Shipping-DataFiles-1.02-0/blib/arch
/tmp/loop_over_bdir-1418061-Vb0izX/Business-Shipping-DataFiles-1.02-0/blib/lib
/tmp/loop_over_bdir-1418061-Vb0izX/dta-tokwrap-0.98-0/blib/arch
/tmp/loop_over_bdir-1418061-Vb0izX/dta-tokwrap-0.98-0/blib/lib
/tmp/loop_over_bdir-1418061-Vb0izX/App-rmcd-0.280-0/blib/arch
/tmp/loop_over_bdir-1418061-Vb0izX/App-rmcd-0.280-0/blib/lib
/tmp/loop_over_bdir-1418061-Vb0izX/Lingua-BioYaTeA-0.11-0/blib/arch
/tmp/loop_over_bdir-1418061-Vb0izX/Lingua-BioYaTeA-0.11-0/blib/lib
/tmp/loop_over_bdir-1418061-Vb0izX/Lingua-YaTeA-0.626-0/blib/arch
/tmp/loop_over_bdir-1418061-Vb0izX/Lingua-YaTeA-0.626-0/blib/lib
/tmp/loop_over_bdir-1418061-Vb0izX/js-app-0.13-0/blib/arch
/tmp/loop_over_bdir-1418061-Vb0izX/js-app-0.13-0/blib/lib
/tmp/loop_over_bdir-1418061-Vb0izX/Devel-Required-0.16-0/blib/arch
/tmp/loop_over_bdir-1418061-Vb0izX/Devel-Required-0.16-0/blib/lib
/tmp/loop_over_bdir-1418061-Vb0izX/Captive-Portal-4.10-0/blib/arch
/tmp/loop_over_bdir-1418061-Vb0izX/Captive-Portal-4.10-0/blib/lib
/tmp/loop_over_bdir-1418061-Vb0izX/mmds-1.902-0/blib/arch
/tmp/loop_over_bdir-1418061-Vb0izX/mmds-1.902-0/blib/lib
/tmp/loop_over_bdir-1418061-Vb0izX/Net-ISP-Balance-1.31-0/blib/arch
/tmp/loop_over_bdir-1418061-Vb0izX/Net-ISP-Balance-1.31-0/blib/lib
/tmp/loop_over_bdir-1418061-Vb0izX/Sysync-0.38-0/blib/arch
/tmp/loop_over_bdir-1418061-Vb0izX/Sysync-0.38-0/blib/lib
/tmp/loop_over_bdir-1418061-Vb0izX/RDF-NLP-SPARQLQuery-0.1-0/blib/arch
/tmp/loop_over_bdir-1418061-Vb0izX/RDF-NLP-SPARQLQuery-0.1-0/blib/lib
/tmp/loop_over_bdir-1418061-Vb0izX/makepp-1.19-0/blib/arch
/tmp/loop_over_bdir-1418061-Vb0izX/makepp-1.19-0/blib/lib
/tmp/loop_over_bdir-1418061-Vb0izX/Linux-InitFS-0.2-0/blib/arch
/tmp/loop_over_bdir-1418061-Vb0izX/Linux-InitFS-0.2-0/blib/lib
/tmp/loop_over_bdir-1418061-Vb0izX/perl-Hardware-UPS-Perl-0.43-0/blib/arch
/tmp/loop_over_bdir-1418061-Vb0izX/perl-Hardware-UPS-Perl-0.43-0/blib/lib
/home/sand/src/perl/repoperls/installed-perls/host/k93focal/v5.41.4/d119/lib/site_perl/5.41.4/x86_64-linux-thread-multi
/home/sand/src/perl/repoperls/installed-perls/host/k93focal/v5.41.4/d119/lib/site_perl/5.41.4
/home/sand/src/perl/repoperls/installed-perls/host/k93focal/v5.41.4/d119/lib/5.41.4/x86_64-linux-thread-multi
/home/sand/src/perl/repoperls/installed-perls/host/k93focal/v5.41.4/d119/lib/5.41.4
.