Filter-Crypto v2.07 Perl 5 v5.27.6 x86_64-linux

Status
Pass
From
Slaven Rezić (SREZIC)
Dist
Filter-Crypto v2.07
Platform
Perl 5 v5.27.6 x86_64-linux
Date
2018-02-15 22:45:58
ID
fda9967e-12a1-11e8-96ab-d15fde8b42ec
This distribution has been tested as part of the CPAN Testers
project, supporting the Perl programming language.  See
http://wiki.cpantesters.org/ for more information or email
questions to cpan-testers-discuss@perl.org


--
Dear Steve Hay,

This is a computer-generated report for Filter-Crypto-2.07
on perl 5.27.6, created by CPAN-Reporter-1.2018.

Thank you for uploading your work to CPAN.  Congratulations!
All tests were successful.

Sections of this report:

    * Tester comments
    * Program output
    * Prerequisites
    * Environment and other context

------------------------------
TESTER COMMENTS
------------------------------

Additional comments from tester:

none provided

------------------------------
PROGRAM OUTPUT
------------------------------

Output from 'make test':

make[1]: Entering directory `/home/cpansand/.cpan/build/2018021521/Filter-Crypto-2.07-4/CryptFile'
"/opt/perl-5.27.6/bin/perl5.27.6" -MExtUtils::Command::MM -e 'cp_nonempty' -- CryptFile.bs ../blib/arch/auto/Filter/Crypto/CryptFile/CryptFile.bs 644
Manifying 1 pod document
make[1]: Leaving directory `/home/cpansand/.cpan/build/2018021521/Filter-Crypto-2.07-4/CryptFile'
make[1]: Entering directory `/home/cpansand/.cpan/build/2018021521/Filter-Crypto-2.07-4/Decrypt'
"/opt/perl-5.27.6/bin/perl5.27.6" -MExtUtils::Command::MM -e 'cp_nonempty' -- Decrypt.bs ../blib/arch/auto/Filter/Crypto/Decrypt/Decrypt.bs 644
Manifying 1 pod document
make[1]: Leaving directory `/home/cpansand/.cpan/build/2018021521/Filter-Crypto-2.07-4/Decrypt'
PERL_DL_NONLAZY=1 "/opt/perl-5.27.6/bin/perl5.27.6" "-MExtUtils::Command::MM" "-MTest::Harness" "-e" "undef *Test::Harness::Switches; test_harness(0, 'blib/lib', 'blib/arch')" t/*.t
t/01_imports_01.t .... ok
t/01_imports_02.t .... ok
t/01_imports_03.t .... ok
t/01_imports_04.t .... ok
t/02_function.t ...... ok
t/03_script.t ........ ok
t/04_par.t ........... skipped: PAR::Filter required to test PAR::Filter::Crypto
t/05_errstr.t ........ ok
t/06_changes.t ....... skipped: Author testing only
t/07_critic.t ........ skipped: Author testing only
t/08_pod.t ........... skipped: Author testing only
t/09_pod_coverage.t .. skipped: Author testing only
All tests successful.
Files=12, Tests=432,  8 wallclock secs ( 0.05 usr  0.04 sys +  5.89 cusr  2.49 csys =  8.47 CPU)
Result: PASS

------------------------------
PREREQUISITES
------------------------------

Prerequisite modules loaded:

requires:

    Module                Need     Have     
    --------------------- -------- ---------
    Carp                  0        1.44     
    Config                0        5.027006 
    constant              0        1.33     
    Cwd                   0        3.70     
    Exporter              0        5.72     
    ExtUtils::MakeMaker   6.66     7.30     
    Fcntl                 0        1.13     
    File::Basename        0        2.85     
    File::Copy            0        2.33     
    File::Find            0        1.34     
    File::Spec::Functions 0        3.69     
    File::Temp            0        0.2304   
    Getopt::Long          0        2.5      
    perl                  5.008001 5.027006 
    Pod::Usage            1.15     1.69     
    Scalar::Util          0        1.49     
    strict                0        1.11     
    Text::ParseWords      0        3.30     
    Text::Wrap            0        2013.0523
    warnings              0        1.38     
    XSLoader              0        0.28     

build_requires:

    Module                Need     Have     
    --------------------- -------- ---------
    blib                  0        1.07     
    ExtUtils::MakeMaker   0        7.30     
    FindBin               0        1.51     
    Test::More            0        1.302111 

configure_requires:

    Module                Need     Have     
    --------------------- -------- ---------
    Carp                  0        1.44     
    Config                0        5.027006 
    constant              0        1.33     
    Cwd                   0        3.70     
    ExtUtils::MakeMaker   6.66     7.30     
    Fcntl                 0        1.13     
    File::Basename        0        2.85     
    File::Copy            0        2.33     
    File::Spec::Functions 0        3.69     
    Getopt::Long          0        2.5      
    perl                  5.008001 5.027006 
    Pod::Usage            1.15     1.69     
    strict                0        1.11     
    Text::Wrap            0        2013.0523
    warnings              0        1.38     


------------------------------
ENVIRONMENT AND OTHER CONTEXT
------------------------------

Environment variables:

    LANG = en_US.UTF-8
    PATH = /usr/local/bin:/usr/bin:/bin:/usr/local/sbin:/usr/sbin:/sbin:/home/cpansand/bin/linux-gnu:/home/cpansand/bin/sh:/home/cpansand/bin:/usr/games:/home/cpansand/devel:/home/eserte/src/srezic-misc/scripts
    PERL5LIB = 
    PERL5OPT = 
    PERL5_CPANPLUS_IS_RUNNING = 18127
    PERL5_CPAN_IS_RUNNING = 18127
    PERL5_CPAN_IS_RUNNING_IN_RECURSION = 18113,18127
    PERLDOC = -MPod::Perldoc::ToTextOverstrike
    PERL_BATCH = yes
    PERL_CANARY_STABILITY_NOPROMPT = 1
    PERL_CPAN_REPORTER_CONFIG = /var/tmp/cpansmoker-1023/2018021521/cpanreporter_000_config.ini
    PERL_EXTUTILS_AUTOINSTALL = --defaultdeps
    PERL_USE_UNSAFE_INC = 1
    SHELL = /bin/zsh
    TERM = screen
    TMPDIR = /var/tmp/cpansmoker-1023/2018021521

Perl special variables (and OS-specific diagnostics, for MSWin32):

    $^X = /opt/perl-5.27.6/bin/perl5.27.6
    $UID/$EUID = 1023 / 1023
    $GID = 1023 1023
    $EGID = 1023 1023

Perl module toolchain versions installed:

    Module              Have    
    ------------------- --------
    CPAN                2.18    
    CPAN::Meta          2.150010
    Cwd                 3.70    
    ExtUtils::CBuilder  0.280229
    ExtUtils::Command   7.30    
    ExtUtils::Install   2.14    
    ExtUtils::MakeMaker 7.30    
    ExtUtils::Manifest  1.70    
    ExtUtils::ParseXS   3.36    
    File::Spec          3.69    
    JSON                2.97000 
    JSON::PP            2.94    
    Module::Build       0.4224  
    Module::Signature   0.81    
    Parse::CPAN::Meta   2.150010
    Test::Harness       3.39    
    Test::More          1.302111
    YAML                1.24    
    YAML::Syck          1.30    
    version             0.9918  


--

Summary of my perl5 (revision 5 version 27 subversion 6) configuration:
   
  Platform:
    osname=linux
    osvers=2.6.32-696.3.1.el6.x86_64
    archname=x86_64-linux
    uname='linux centos6 2.6.32-696.3.1.el6.x86_64 #1 smp tue may 30 19:52:55 utc 2017 x86_64 x86_64 x86_64 gnulinux '
    config_args='-ds -e -Dprefix=/opt/perl-5.27.6 -Dusedevel -Dusemallocwrap=no -Dcf_email=srezic@cpan.org'
    hint=recommended
    useposix=true
    d_sigaction=define
    useithreads=undef
    usemultiplicity=undef
    use64bitint=define
    use64bitall=define
    uselongdouble=undef
    usemymalloc=n
    default_inc_excludes_dot=define
    bincompat5005=undef
  Compiler:
    cc='cc'
    ccflags ='-fwrapv -fno-strict-aliasing -pipe -fstack-protector -I/usr/local/include -D_LARGEFILE_SOURCE -D_FILE_OFFSET_BITS=64 -D_FORTIFY_SOURCE=2'
    optimize='-O2'
    cppflags='-fwrapv -fno-strict-aliasing -pipe -fstack-protector -I/usr/local/include'
    ccversion=''
    gccversion='4.4.7 20120313 (Red Hat 4.4.7-18)'
    gccosandvers=''
    intsize=4
    longsize=8
    ptrsize=8
    doublesize=8
    byteorder=12345678
    doublekind=3
    d_longlong=define
    longlongsize=8
    d_longdbl=define
    longdblsize=16
    longdblkind=3
    ivtype='long'
    ivsize=8
    nvtype='double'
    nvsize=8
    Off_t='off_t'
    lseeksize=8
    alignbytes=8
    prototype=define
  Linker and Libraries:
    ld='cc'
    ldflags =' -fstack-protector -L/usr/local/lib'
    libpth=/usr/local/lib /usr/lib /lib/../lib64 /usr/lib/../lib64 /lib /lib64 /usr/lib64 /usr/local/lib64
    libs=-lpthread -lnsl -lgdbm -ldb -ldl -lm -lcrypt -lutil -lc
    perllibs=-lpthread -lnsl -ldl -lm -lcrypt -lutil -lc
    libc=libc-2.12.so
    so=so
    useshrplib=false
    libperl=libperl.a
    gnulibc_version='2.12'
  Dynamic Linking:
    dlsrc=dl_dlopen.xs
    dlext=so
    d_dlsymun=undef
    ccdlflags='-Wl,-E'
    cccdlflags='-fPIC'
    lddlflags='-shared -O2 -L/usr/local/lib -fstack-protector'


Characteristics of this binary (from libperl): 
  Compile-time options:
    HAS_TIMES
    PERLIO_LAYERS
    PERL_COPY_ON_WRITE
    PERL_DONT_CREATE_GVSV
    PERL_OP_PARENT
    PERL_PRESERVE_IVUV
    PERL_USE_DEVEL
    USE_64_BIT_ALL
    USE_64_BIT_INT
    USE_LARGE_FILES
    USE_LOCALE
    USE_LOCALE_COLLATE
    USE_LOCALE_CTYPE
    USE_LOCALE_NUMERIC
    USE_LOCALE_TIME
    USE_PERLIO
    USE_PERL_ATOF
  Built under linux
  Compiled at Nov 21 2017 06:12:44
  %ENV:
    PERL5LIB=""
    PERL5OPT=""
    PERL5_CPANPLUS_IS_RUNNING="18127"
    PERL5_CPAN_IS_RUNNING="18127"
    PERL5_CPAN_IS_RUNNING_IN_RECURSION="18113,18127"
    PERLDOC="-MPod::Perldoc::ToTextOverstrike"
    PERL_BATCH="yes"
    PERL_CANARY_STABILITY_NOPROMPT="1"
    PERL_CPAN_REPORTER_CONFIG="/var/tmp/cpansmoker-1023/2018021521/cpanreporter_000_config.ini"
    PERL_EXTUTILS_AUTOINSTALL="--defaultdeps"
    PERL_USE_UNSAFE_INC="1"
  @INC:
    /opt/perl-5.27.6/lib/site_perl/5.27.6/x86_64-linux
    /opt/perl-5.27.6/lib/site_perl/5.27.6
    /opt/perl-5.27.6/lib/5.27.6/x86_64-linux
    /opt/perl-5.27.6/lib/5.27.6
    .