Dist-Zilla-Plugin-Test-EOL v0.19 Perl 5 v5.30.1 x86_64-linux-thread-multi
- Status
- Pass
- From
- Slaven Rezić (SREZIC)
- Dist
-
Dist-Zilla-Plugin-Test-EOL v0.19
- Platform
- Perl 5 v5.30.1 x86_64-linux-thread-multi
- Date
- 2019-11-19 09:43:07
- ID
- fdb23294-0ab0-11ea-a9e1-311e1f24ea8f
This distribution has been tested as part of the CPAN Testers
project, supporting the Perl programming language. See
http://wiki.cpantesters.org/ for more information or email
questions to cpan-testers-discuss@perl.org
--
Dear Karen Etheridge,
This is a computer-generated report for Dist-Zilla-Plugin-Test-EOL-0.19
on perl 5.30.1, created by CPAN-Reporter-1.2018.
Thank you for uploading your work to CPAN. Congratulations!
All tests were successful.
Sections of this report:
* Tester comments
* Program output
* Prerequisites
* Environment and other context
------------------------------
TESTER COMMENTS
------------------------------
Additional comments from tester:
none provided
------------------------------
PROGRAM OUTPUT
------------------------------
Output from './Build test':
#
# Versions for all modules listed in MYMETA.json (including optional ones):
#
# === Configure Requires ===
#
# Module Want Have
# ------------------- ----- -----
# Module::Build::Tiny 0.034 0.039
#
# === Test Requires ===
#
# Module Want Have
# ---------------- ----- --------
# File::Spec any 3.78
# File::pushd any 1.016
# FindBin any 1.51
# Module::Metadata any 1.000036
# Test::DZil any 6.012
# Test::Deep any 1.128
# Test::EOL any 2.00
# Test::More 0.88 1.302162
# Test::Warnings 0.009 0.027
# if any 0.0608
#
# === Test Recommends ===
#
# Module Want Have
# ---------- -------- --------
# CPAN::Meta 2.120900 2.150010
#
# === Runtime Requires ===
#
# Module Want Have
# --------------------------------- ----- --------
# Data::Section 0.004 0.200007
# Dist::Zilla::File::InMemory any 6.012
# Dist::Zilla::Role::FileFinderUser any 6.012
# Dist::Zilla::Role::FileGatherer any 6.012
# Dist::Zilla::Role::FileMunger any 6.012
# Dist::Zilla::Role::PrereqSource any 6.012
# Dist::Zilla::Role::TextTemplate any 6.012
# Moose any 2.2011
# Moose::Util::TypeConstraints any 2.2011
# Path::Tiny any 0.108
# Sub::Exporter::ForMethods any 0.100052
# namespace::autoclean any 0.29
# strict any 1.11
# warnings any 1.44
#
# === Other Modules ===
#
# Module Have
# --------------------- --------
# CPAN::Meta::Validator 2.150010
# Pod::Coverage 0.23
#
t/00-report-prereqs.t .. ok
t/01-basic.t ........... ok
t/02-eoltests.t ........ ok
t/03-finder.t .......... ok
t/04-filename.t ........ ok
t/eol.t ................ ok
t/prereqs.t ............ ok
t/zzz-check-breaks.t ... ok
All tests successful.
Files=8, Tests=66, 3 wallclock secs ( 0.03 usr 0.08 sys + 2.80 cusr 0.40 csys = 3.31 CPU)
Result: PASS
------------------------------
PREREQUISITES
------------------------------
Prerequisite modules loaded:
requires:
Module Need Have
--------------------------------- ----- --------
Data::Section 0.004 0.200007
Dist::Zilla::File::InMemory 0 6.012
Dist::Zilla::Role::FileFinderUser 0 6.012
Dist::Zilla::Role::FileGatherer 0 6.012
Dist::Zilla::Role::FileMunger 0 6.012
Dist::Zilla::Role::PrereqSource 0 6.012
Dist::Zilla::Role::TextTemplate 0 6.012
Moose 0 2.2011
Moose::Util::TypeConstraints 0 2.2011
namespace::autoclean 0 0.29
Path::Tiny 0 0.108
perl 5.006 5.030001
strict 0 1.11
Sub::Exporter::ForMethods 0 0.100052
warnings 0 1.44
build_requires:
Module Need Have
--------------------------------- ----- --------
File::pushd 0 1.016
File::Spec 0 3.78
FindBin 0 1.51
if 0 0.0608
Module::Metadata 0 1.000036
perl 5.006 5.030001
Test::Deep 0 1.128
Test::DZil 0 6.012
Test::EOL 0 2.00
Test::More 0.88 1.302162
Test::Warnings 0.009 0.027
configure_requires:
Module Need Have
--------------------------------- ----- --------
Module::Build::Tiny 0.034 0.039
perl 5.006 5.030001
------------------------------
ENVIRONMENT AND OTHER CONTEXT
------------------------------
Environment variables:
LANG = en_US.UTF-8
PATH = /usr/local/bin:/usr/bin:/bin:/usr/local/sbin:/usr/sbin:/sbin:/home/cpansand/bin/linux-gnu:/home/cpansand/bin/sh:/home/cpansand/bin:/usr/games:/home/cpansand/devel:/home/eserte/src/srezic-misc/scripts
PERL5LIB = /home/cpansand/.local/share/.cpan/build/2019111121/Mail-SPF-v2.9.0-0/blib/arch:/home/cpansand/.local/share/.cpan/build/2019111121/Mail-SPF-v2.9.0-0/blib/lib
PERL5OPT =
PERL5_CPANPLUS_IS_RUNNING = 17172
PERL5_CPAN_IS_RUNNING = 17172
PERL5_CPAN_IS_RUNNING_IN_RECURSION = 17116,17172
PERLDOC = -MPod::Perldoc::ToTextOverstrike
PERL_BATCH = yes
PERL_CANARY_STABILITY_NOPROMPT = 1
PERL_CPAN_REPORTER_CONFIG = /var/tmp/cpansmoker-1023/2019111120/cpanreporter_000_config.ini
PERL_EXTUTILS_AUTOINSTALL = --defaultdeps
PERL_USE_UNSAFE_INC = 1
SHELL = /usr/bin/zsh
TERM = screen
TMPDIR = /var/tmp/cpansmoker-1023/2019111120
Perl special variables (and OS-specific diagnostics, for MSWin32):
$^X = /opt/perl-5.30.1t/bin/perl
$UID/$EUID = 1023 / 1023
$GID = 1023 1023
$EGID = 1023 1023
Perl module toolchain versions installed:
Module Have
------------------- --------
CPAN 2.22
CPAN::Meta 2.150010
Cwd 3.78
ExtUtils::CBuilder 0.280231
ExtUtils::Command 7.34
ExtUtils::Install 2.14
ExtUtils::MakeMaker 7.34
ExtUtils::Manifest 1.72
ExtUtils::ParseXS 3.40
File::Spec 3.78
JSON 4.02
JSON::PP 4.02
Module::Build 0.4229
Module::Signature n/a
Parse::CPAN::Meta 2.150010
Test::Harness 3.42
Test::More 1.302162
YAML 1.29
YAML::Syck 1.31
version 0.9924
--
Summary of my perl5 (revision 5 version 30 subversion 1) configuration:
Platform:
osname=linux
osvers=4.15.0-66-generic
archname=x86_64-linux-thread-multi
uname='linux ubuntu18 4.15.0-66-generic #75-ubuntu smp tue oct 1 05:24:09 utc 2019 x86_64 x86_64 x86_64 gnulinux '
config_args='-ds -e -Dprefix=/opt/perl-5.30.1t -Dusethreads -Dcf_email=srezic@cpan.org'
hint=recommended
useposix=true
d_sigaction=define
useithreads=define
usemultiplicity=define
use64bitint=define
use64bitall=define
uselongdouble=undef
usemymalloc=n
default_inc_excludes_dot=define
bincompat5005=undef
Compiler:
cc='cc'
ccflags ='-D_REENTRANT -D_GNU_SOURCE -fwrapv -fno-strict-aliasing -pipe -fstack-protector-strong -I/usr/local/include -D_LARGEFILE_SOURCE -D_FILE_OFFSET_BITS=64'
optimize='-O2'
cppflags='-D_REENTRANT -D_GNU_SOURCE -fwrapv -fno-strict-aliasing -pipe -fstack-protector-strong -I/usr/local/include'
ccversion=''
gccversion='7.4.0'
gccosandvers=''
intsize=4
longsize=8
ptrsize=8
doublesize=8
byteorder=12345678
doublekind=3
d_longlong=define
longlongsize=8
d_longdbl=define
longdblsize=16
longdblkind=3
ivtype='long'
ivsize=8
nvtype='double'
nvsize=8
Off_t='off_t'
lseeksize=8
alignbytes=8
prototype=define
Linker and Libraries:
ld='cc'
ldflags =' -fstack-protector-strong -L/usr/local/lib'
libpth=/usr/local/lib /usr/lib/gcc/x86_64-linux-gnu/7/include-fixed /usr/include/x86_64-linux-gnu /usr/lib /lib/x86_64-linux-gnu /lib/../lib /usr/lib/x86_64-linux-gnu /usr/lib/../lib /lib
libs=-lpthread -lnsl -lgdbm -ldb -ldl -lm -lcrypt -lutil -lc
perllibs=-lpthread -lnsl -ldl -lm -lcrypt -lutil -lc
libc=libc-2.27.so
so=so
useshrplib=false
libperl=libperl.a
gnulibc_version='2.27'
Dynamic Linking:
dlsrc=dl_dlopen.xs
dlext=so
d_dlsymun=undef
ccdlflags='-Wl,-E'
cccdlflags='-fPIC'
lddlflags='-shared -O2 -L/usr/local/lib -fstack-protector-strong'
Characteristics of this binary (from libperl):
Compile-time options:
HAS_TIMES
MULTIPLICITY
PERLIO_LAYERS
PERL_COPY_ON_WRITE
PERL_DONT_CREATE_GVSV
PERL_IMPLICIT_CONTEXT
PERL_MALLOC_WRAP
PERL_OP_PARENT
PERL_PRESERVE_IVUV
USE_64_BIT_ALL
USE_64_BIT_INT
USE_ITHREADS
USE_LARGE_FILES
USE_LOCALE
USE_LOCALE_COLLATE
USE_LOCALE_CTYPE
USE_LOCALE_NUMERIC
USE_LOCALE_TIME
USE_PERLIO
USE_PERL_ATOF
USE_REENTRANT_API
USE_THREAD_SAFE_LOCALE
Built under linux
Compiled at Nov 11 2019 20:34:53
%ENV:
PERL5LIB="/home/cpansand/.local/share/.cpan/build/2019111121/Mail-SPF-v2.9.0-0/blib/arch:/home/cpansand/.local/share/.cpan/build/2019111121/Mail-SPF-v2.9.0-0/blib/lib"
PERL5OPT=""
PERL5_CPANPLUS_IS_RUNNING="17172"
PERL5_CPAN_IS_RUNNING="17172"
PERL5_CPAN_IS_RUNNING_IN_RECURSION="17116,17172"
PERLDOC="-MPod::Perldoc::ToTextOverstrike"
PERL_BATCH="yes"
PERL_CANARY_STABILITY_NOPROMPT="1"
PERL_CPAN_REPORTER_CONFIG="/var/tmp/cpansmoker-1023/2019111120/cpanreporter_000_config.ini"
PERL_EXTUTILS_AUTOINSTALL="--defaultdeps"
PERL_USE_UNSAFE_INC="1"
@INC:
/home/cpansand/.local/share/.cpan/build/2019111121/Mail-SPF-v2.9.0-0/blib/arch
/home/cpansand/.local/share/.cpan/build/2019111121/Mail-SPF-v2.9.0-0/blib/lib
/opt/perl-5.30.1t/lib/site_perl/5.30.1/x86_64-linux-thread-multi
/opt/perl-5.30.1t/lib/site_perl/5.30.1
/opt/perl-5.30.1t/lib/5.30.1/x86_64-linux-thread-multi
/opt/perl-5.30.1t/lib/5.30.1
.