Back
From: metabase:user:31d414ea-2aae-11df-837a-5e0a49663a4f
Subject: PASS DBIx-Schema-Changelog-0.4.0 v5.18.0 GNU/Linux
Date: 2015-03-04T13:11:38Z
This distribution has been tested as part of the CPAN Testers
project, supporting the Perl programming language. See
http://wiki.cpantesters.org/ for more information or email
questions to cpan-testers-discuss@perl.org
--
Dear Mario Zieschang,
This is a computer-generated report for DBIx-Schema-Changelog-0.4.0
on perl 5.18.0, created by CPAN-Reporter-1.2010.
Thank you for uploading your work to CPAN. Congratulations!
All tests were successful.
Sections of this report:
* Tester comments
* Program output
* Prerequisites
* Environment and other context
------------------------------
TESTER COMMENTS
------------------------------
Additional comments from tester:
this report is from an automated smoke testing program
and was not reviewed by a human for accuracy
------------------------------
PROGRAM OUTPUT
------------------------------
Output from '/usr/bin/make test':
PERL_DL_NONLAZY=1 "/home/david/cpantesting/perl-5.18.0/bin/perl" "-MExtUtils::Command::MM" "-MTest::Harness" "-e" "undef *Test::Harness::Switches; test_harness(0, 'blib/lib', 'blib/arch')" t/*.t
t/00-load.t ......... ok
t/010-changelog.t ... ok
t/020-driver.t ...... ok
DBIx::Schema::Changelog::File::Yaml. Read changlog file '/home/david/cpantesting/perl-5.18.0/.cpan/build/DBIx-Schema-Changelog-0.4.0-RvnVI3/t/data/changelog/changelog.yml'.
DBIx::Schema::Changelog::File::Yaml. Read changlog file '/home/david/cpantesting/perl-5.18.0/.cpan/build/DBIx-Schema-Changelog-0.4.0-RvnVI3/t/data/changelog/changelog-01.yml'.
DBIx::Schema::Changelog::Action::Index (36) Create index is not supported!
DBIx::Schema::Changelog::Action::Sql (33). WARNING: Execute sql statements can lead very likely to incompatibilities.
DBIx::Schema::Changelog::Action::Column (97) Drop column is not supported!
t/021-sqlite.t ...... ok
t/022-pg.t .......... skipped: Test requires module 'DBD::Pg' but it's not found
t/030-changeset.t ... ok
t/040-action.t ...... ok
DBIx::Schema::Changelog::Action::Column (82) Alter column is not supported!
DBIx::Schema::Changelog::Action::Column (97) Drop column is not supported!
t/041-column.t ...... ok
t/042-constraint.t .. ok
t/043-index.t ....... ok
t/044-table.t ....... ok
t/045-view.t ........ ok
t/046-sql.t ......... ok
t/047-sequence.t .... ok
t/050-command.t ..... ok
t/051-base.t ........ ok
t/052-driver.t ...... ok
t/053-file.t ........ ok
DBIx::Schema::Changelog::File::Yaml. Read changlog file '/home/david/cpantesting/perl-5.18.0/.cpan/build/DBIx-Schema-Changelog-0.4.0-RvnVI3/t/../.tmp/changelog/changelog.yml'.
DBIx::Schema::Changelog::File::Yaml. Read changlog file '/home/david/cpantesting/perl-5.18.0/.cpan/build/DBIx-Schema-Changelog-0.4.0-RvnVI3/t/../.tmp/changelog/changelog-01.yml'.
t/054-changeset.t ... ok
t/060-file.t ........ ok
DBIx::Schema::Changelog::File::Yaml. Read changlog file '/home/david/cpantesting/perl-5.18.0/.cpan/build/DBIx-Schema-Changelog-0.4.0-RvnVI3/t/data/changelog/changelog.yml'.
DBIx::Schema::Changelog::File::Yaml. Read changlog file '/home/david/cpantesting/perl-5.18.0/.cpan/build/DBIx-Schema-Changelog-0.4.0-RvnVI3/t/data/changelog/changelog-01.yml'.
t/061-yaml.t ........ ok
DBIx::Schema::Changelog::File::JSON. Read changlog file '/home/david/cpantesting/perl-5.18.0/.cpan/build/DBIx-Schema-Changelog-0.4.0-RvnVI3/t/data/changelog/changelog.json'.
DBIx::Schema::Changelog::File::JSON. Read changlog file '/home/david/cpantesting/perl-5.18.0/.cpan/build/DBIx-Schema-Changelog-0.4.0-RvnVI3/t/data/changelog/changelog-01.json'.
t/062-json.t ........ ok
Could not remove /home/david/cpantesting/perl-5.18.0/.cpan/build/DBIx-Schema-Changelog-0.4.0-RvnVI3/t/../.tmp: No such file or directory at t/999-delete.t line 17.
t/999-delete.t ...... ok
t/boilerplate.t ..... ok
t/manifest.t ........ skipped: Author tests not required for installation
t/pod-coverage.t .... skipped: Author tests not required for installation
t/pod.t ............. skipped: Author tests not required for installation
All tests successful.
Test Summary Report
-------------------
t/boilerplate.t (Wstat: 0 Tests: 5 Failed: 0)
TODO passed: 1-3
Files=27, Tests=152, 16 wallclock secs ( 0.10 usr 0.07 sys + 4.19 cusr 0.50 csys = 4.86 CPU)
Result: PASS
------------------------------
PREREQUISITES
------------------------------
Prerequisite modules loaded:
requires:
Module Need Have
---------------------------- -------- --------
DBD::SQLite 1.4 1.46
DBI 1.632 1.633
File::Spec 0 3.40
Getopt::Long 2.42 2.45
Hash::MD5 0.05 0.05
JSON::Parse 0.31 0.31
Method::Signatures::Simple 1.07 1.07
Moose 2.1403 2.1403
MooseX::HasDefaults::RO 0 0
MooseX::Types::LoadableClass 0.013 0.013
MooseX::Types::Moose 0.45 0.45
MooseX::Types::Path::Class 0.06 0.06
MooseX::Types::PerlVersion 0.002 0.002
Path::Class 0.3 0.35
perl 5.010000 5.018000
Pod::Coverage::TrustPod 0 0.100003
Pod::Usage 0 1.61
Storable 2.49 2.51
Test::CheckManifest 0 1.29
Test::Cmd 0 1.08
Test::Exception 0 0.32
Test::Pod::Coverage 0 1.10
! Test::PostgreSQL 1.01 n/a
Text::Trim 1.02 1.02
Time::Piece 1.27 1.29
YAML 1.13 1.14
YAML::XS 0.55 0.59
build_requires:
Module Need Have
---------------------------- -------- --------
DBD::SQLite 1.4 1.46
DBI 1.632 1.633
File::Spec 0 3.40
Getopt::Long 2.42 2.45
Hash::MD5 0.05 0.05
JSON::Parse 0.31 0.31
Method::Signatures::Simple 1.07 1.07
Moose 2.1403 2.1403
MooseX::HasDefaults::RO 0 0
MooseX::Types::LoadableClass 0.013 0.013
MooseX::Types::Moose 0.45 0.45
MooseX::Types::Path::Class 0.06 0.06
MooseX::Types::PerlVersion 0.002 0.002
Path::Class 0.3 0.35
Pod::Coverage::TrustPod 0 0.100003
Pod::Usage 0 1.61
Storable 2.49 2.51
Test::CheckManifest 0 1.29
Test::Cmd 0 1.08
Test::Exception 0 0.32
Test::Pod::Coverage 0 1.10
! Test::PostgreSQL 1.01 n/a
Text::Trim 1.02 1.02
Time::Piece 1.27 1.29
YAML 1.13 1.14
YAML::XS 0.55 0.59
configure_requires:
Module Need Have
---------------------------- -------- --------
ExtUtils::MakeMaker 0 7.04
------------------------------
ENVIRONMENT AND OTHER CONTEXT
------------------------------
Environment variables:
AUTOMATED_TESTING = 1
PATH = /usr/local/bin:/usr/bin:/bin:/usr/games
PERL = 5.18.0
PERL5LIB =
PERL5OPT =
PERL5_CPANPLUS_IS_RUNNING = 13921
PERL5_CPAN_IS_RUNNING = 13921
PERLVER = 5.18.0
PERL_INLINE_DIRECTORY = /home/david/.Inline-5.18.0
PERL_MM_USE_DEFAULT = 1
SHELL = /bin/bash
TERM = screen
Perl special variables (and OS-specific diagnostics, for MSWin32):
$^X = /home/david/cpantesting/perl-5.18.0/bin/perl
$UID/$EUID = 1000 / 1000
$GID = 1000 1000
$EGID = 1000 1000
Perl module toolchain versions installed:
Module Have
------------------- --------
CPAN 2.00
CPAN::Meta 2.143240
Cwd 3.40
ExtUtils::CBuilder 0.280210
ExtUtils::Command 1.17
ExtUtils::Install 1.59
ExtUtils::MakeMaker 7.04
ExtUtils::Manifest 1.65
ExtUtils::ParseXS 3.18
File::Spec 3.40
JSON 2.57
JSON::PP 2.27203
Module::Build 0.4211
Module::Signature n/a
Parse::CPAN::Meta 1.4414
Test::Harness 3.35
Test::More 1.001014
YAML 1.14
YAML::Syck n/a
version 0.9902
--
Summary of my perl5 (revision 5 version 18 subversion 0) configuration:
Platform:
osname=linux, osvers=3.2.0-4-amd64, archname=x86_64-linux-thread-multi
uname='linux pigsty.barnyard.co.uk 3.2.0-4-amd64 #1 smp debian 3.2.35-2 x86_64 gnulinux '
config_args='-de -Dprefix=/home/david/cpantesting/perl-5.18.0 -Dusethreads -Duse64bitall'
hint=recommended, useposix=true, d_sigaction=define
useithreads=define, usemultiplicity=define
useperlio=define, d_sfio=undef, uselargefiles=define, usesocks=undef
use64bitint=define, use64bitall=define, uselongdouble=undef
usemymalloc=n, bincompat5005=undef
Compiler:
cc='cc', ccflags ='-D_REENTRANT -D_GNU_SOURCE -fno-strict-aliasing -pipe -fstack-protector -I/usr/local/include -D_LARGEFILE_SOURCE -D_FILE_OFFSET_BITS=64',
optimize='-O2',
cppflags='-D_REENTRANT -D_GNU_SOURCE -fno-strict-aliasing -pipe -fstack-protector -I/usr/local/include'
ccversion='', gccversion='4.1.2 20061115 (prerelease) (Debian 4.1.1-21)', gccosandvers=''
intsize=4, longsize=8, ptrsize=8, doublesize=8, byteorder=12345678
d_longlong=define, longlongsize=8, d_longdbl=define, longdblsize=16
ivtype='long', ivsize=8, nvtype='double', nvsize=8, Off_t='off_t', lseeksize=8
alignbytes=8, prototype=define
Linker and Libraries:
ld='cc', ldflags =' -fstack-protector -L/usr/local/lib'
libpth=/usr/local/lib /lib /usr/lib /lib64 /usr/lib64
libs=-lnsl -lgdbm -ldb -ldl -lm -lcrypt -lutil -lpthread -lc -lgdbm_compat
perllibs=-lnsl -ldl -lm -lcrypt -lutil -lpthread -lc
libc=/lib/libc-2.3.6.so, so=so, useshrplib=false, libperl=libperl.a
gnulibc_version='2.3.6'
Dynamic Linking:
dlsrc=dl_dlopen.xs, dlext=so, d_dlsymun=undef, ccdlflags='-Wl,-E'
cccdlflags='-fPIC', lddlflags='-shared -O2 -L/usr/local/lib -fstack-protector'
Characteristics of this binary (from libperl):
Compile-time options: HAS_TIMES MULTIPLICITY PERLIO_LAYERS
PERL_DONT_CREATE_GVSV
PERL_HASH_FUNC_ONE_AT_A_TIME_HARD
PERL_IMPLICIT_CONTEXT PERL_MALLOC_WRAP
PERL_PRESERVE_IVUV PERL_SAWAMPERSAND USE_64_BIT_ALL
USE_64_BIT_INT USE_ITHREADS USE_LARGE_FILES
USE_LOCALE USE_LOCALE_COLLATE USE_LOCALE_CTYPE
USE_LOCALE_NUMERIC USE_PERLIO USE_PERL_ATOF
USE_REENTRANT_API
Built under linux
Compiled at May 20 2013 18:28:55
%ENV:
PERL="5.18.0"
PERL5LIB=""
PERL5OPT=""
PERL5_CPANPLUS_IS_RUNNING="13921"
PERL5_CPAN_IS_RUNNING="13921"
PERLVER="5.18.0"
PERL_INLINE_DIRECTORY="/home/david/.Inline-5.18.0"
PERL_MM_USE_DEFAULT="1"
@INC:
/home/david/cpantesting/perl-5.18.0/lib/site_perl/5.18.0/x86_64-linux-thread-multi
/home/david/cpantesting/perl-5.18.0/lib/site_perl/5.18.0
/home/david/cpantesting/perl-5.18.0/lib/5.18.0/x86_64-linux-thread-multi
/home/david/cpantesting/perl-5.18.0/lib/5.18.0
.