Devel-REPL v1.003029 Perl 5 v5.38.0 x86_64-linux-thread-multi
- Status
- Pass
- From
- Andreas J. König (ANDK)
- Dist
-
Devel-REPL v1.003029
- Platform
- Perl 5 v5.38.0 x86_64-linux-thread-multi
- Date
- 2023-09-11 07:51:18
- ID
- fe0ac4a2-5077-11ee-b696-8161d1e91619
This distribution has been tested as part of the CPAN Testers
project, supporting the Perl programming language. See
http://wiki.cpantesters.org/ for more information or email
questions to cpan-testers-discuss@perl.org
--
Dear Karen Etheridge,
This is a computer-generated report for Devel-REPL-1.003029
on perl 5.38.0, created by CPAN-Reporter-1.2019.
Thank you for uploading your work to CPAN. Congratulations!
All tests were successful.
Sections of this report:
* Tester comments
* Program output
* Prerequisites
* Environment and other context
------------------------------
TESTER COMMENTS
------------------------------
Additional comments from tester:
this report is from an automated smoke testing program
and was not reviewed by a human for accuracy
------------------------------
PROGRAM OUTPUT
------------------------------
Output from '/usr/bin/make test':
PERL_DL_NONLAZY=1 "/home/sand/src/perl/repoperls/installed-perls/host/k93msid/v5.38.0/1e0c/bin/perl" "-MExtUtils::Command::MM" "-MTest::Harness" "-e" "undef *Test::Harness::Switches; test_harness(0, 'blib/lib', 'blib/arch')" t/*.t
#
# Versions for all modules listed in MYMETA.json (including optional ones):
#
# === Configure Requires ===
#
# Module Want Have
# ------------------------ -------- --------
# CPAN::Meta::Requirements 2.120620 2.143
# ExtUtils::MakeMaker any 7.70
# Module::Metadata any 1.000037
#
# === Build Requires ===
#
# Module Want Have
# ------------------- ---- ----
# ExtUtils::MakeMaker any 7.70
#
# === Test Requires ===
#
# Module Want Have
# ------------------- ---- --------
# ExtUtils::MakeMaker any 7.70
# File::Spec any 3.88
# Test::Fatal any 0.017
# Test::More 0.88 1.302195
# if any 0.0610
#
# === Test Recommends ===
#
# Module Want Have
# ---------- -------- --------
# CPAN::Meta 2.120900 2.150010
#
# === Runtime Requires ===
#
# Module Want Have
# ------------------------- ------ ------
# B::Concise 0.62 1.007
# B::Keywords any 1.26
# Data::Dump::Streamer 2.39 2.42
# Data::Dumper::Concise any 2.023
# Devel::Peek any 1.33
# File::Next any 1.18
# File::Spec any 3.88
# Lexical::Persistence any 1.020
# Module::Runtime any 0.016
# Moose 0.93 2.2206
# Moose::Meta::Role any 2.2206
# Moose::Role any 2.2206
# MooseX::Getopt 0.18 0.75
# MooseX::Object::Pluggable 0.0009 0.0014
# PPI any 1.276
# Scalar::Util any 1.63
# Task::Weaken any 1.06
# Term::ANSIColor any 5.01
# Term::ReadLine any 1.17
# Time::HiRes any 1.9775
# namespace::autoclean any 0.29
# strict any 1.12
# warnings any 1.65
#
# === Runtime Recommends ===
#
# Module Want Have
# --------------------- ----- -------
# App::Nopaste any missing
# B::Keywords any 1.26
# Data::Dump::Streamer 2.39 2.42
# Data::Dumper::Concise any 2.023
# File::Next any 1.18
# Lexical::Persistence any 1.020
# Module::Refresh any missing
# PPI any 1.276
# PPI::XS 0.902 missing
# Sys::SigAction any missing
#
# === Other Modules ===
#
# Module Have
# --------------- -------
# Encode 3.19
# File::Temp 0.2311
# JSON::PP 4.17_01
# Module::Runtime 0.016
# Sub::Name 0.27
# YAML 1.30
# autodie 2.36
#
t/00-report-prereqs.t .. ok
t/load_core.t .......... ok
t/load_plugins.t ....... ok
All tests successful.
Files=3, Tests=61, 3 wallclock secs ( 0.03 usr 0.01 sys + 1.32 cusr 0.16 csys = 1.52 CPU)
Result: PASS
------------------------------
PREREQUISITES
------------------------------
Prerequisite modules loaded:
requires:
Module Need Have
------------------------- -------- --------
B::Concise 0.62 1.007
B::Keywords 0 1.26
Data::Dump::Streamer 2.39 2.42
Data::Dumper::Concise 0 2.023
Devel::Peek 0 1.33
File::Next 0 1.18
File::Spec 0 3.88
Lexical::Persistence 0 1.020
Module::Runtime 0 0.016
Moose 0.93 2.2206
Moose::Meta::Role 0 2.2206
Moose::Role 0 2.2206
MooseX::Getopt 0.18 0.75
MooseX::Object::Pluggable 0.0009 0.0014
namespace::autoclean 0 0.29
perl 5.008001 5.038000
PPI 0 1.276
Scalar::Util 0 1.63
strict 0 1.12
Task::Weaken 0 1.06
Term::ANSIColor 0 5.01
Term::ReadLine 0 1.17
Time::HiRes 0 1.9775
warnings 0 1.65
build_requires:
Module Need Have
------------------------- -------- --------
ExtUtils::MakeMaker 0 7.70
File::Spec 0 3.88
if 0 0.0610
Test::Fatal 0 0.017
Test::More 0.88 1.302195
configure_requires:
Module Need Have
------------------------- -------- --------
CPAN::Meta::Requirements 2.120620 2.143
ExtUtils::MakeMaker 0 7.70
Module::Metadata 0 1.000037
perl 5.008001 5.038000
opt_requires:
Module Need Have
------------------------- -------- --------
! App::Nopaste 0 n/a
B::Keywords 0 1.26
Data::Dump::Streamer 2.39 2.42
Data::Dumper::Concise 0 2.023
File::Next 0 1.18
Lexical::Persistence 0 1.020
! Module::Refresh 0 n/a
PPI 0 1.276
! PPI::XS 0.902 n/a
! Sys::SigAction 0 n/a
------------------------------
ENVIRONMENT AND OTHER CONTEXT
------------------------------
Environment variables:
AUTOMATED_TESTING = 1
LANG = en_US.UTF-8
LANGUAGE = en_US:en
PATH = /home/sand/bin:/usr/local/bin:/usr/bin:/bin:/usr/games:/usr/local/perl/bin:/usr/X11/bin:/sbin:/usr/sbin
PERL5LIB =
PERL5OPT =
PERL5_CPANPLUS_IS_RUNNING = 412466
PERL5_CPAN_IS_RUNNING = 412466
PERL_CANARY_STABILITY_NOPROMPT = 1
PERL_MM_USE_DEFAULT = 1
PERL_USE_UNSAFE_INC = 1
SHELL = /usr/bin/zsh
TERM = screen
Perl special variables (and OS-specific diagnostics, for MSWin32):
$^X = /home/sand/src/perl/repoperls/installed-perls/host/k93msid/v5.38.0/1e0c/bin/perl
$UID/$EUID = 1005 / 1005
$GID = 1005 1005
$EGID = 1005 1005
Perl module toolchain versions installed:
Module Have
------------------- --------
CPAN 2.36
CPAN::Meta 2.150010
Cwd 3.89
ExtUtils::CBuilder 0.280238
ExtUtils::Command 7.70
ExtUtils::Install 2.22
ExtUtils::MakeMaker 7.70
ExtUtils::Manifest 1.73
ExtUtils::ParseXS 3.51
File::Spec 3.88
JSON 4.10
JSON::PP 4.17_01
Module::Build 0.4234
Module::Signature 0.88
Parse::CPAN::Meta 2.150010
Test2 1.302195
Test::Harness 3.44
Test::More 1.302195
YAML 1.30
YAML::Syck 1.34
version 0.9929
--
Summary of my perl5 (revision 5 version 38 subversion 0) configuration:
Commit id: 76298ae68aa7796f0ffc05095b127d23f4b2de8f
Platform:
osname=linux
osvers=6.1.0-7-amd64
archname=x86_64-linux-thread-multi
uname='linux k93msid 6.1.0-7-amd64 #1 smp preempt_dynamic debian 6.1.20-1 (2023-03-19) x86_64 gnulinux '
config_args='-Dprefix=/home/sand/src/perl/repoperls/installed-perls/host/k93msid/v5.38.0/1e0c -Dmyhostname=k93msid -Dinstallusrbinperl=n -Uversiononly -Dusedevel -des -Ui_db -Dlibswanted=cl pthread socket inet nsl gdbm dbm malloc dl ld sun m crypt sec util c cposix posix ucb BSD gdbm_compat -Duseithreads -Uuselongdouble -DEBUGGING=-g'
hint=recommended
useposix=true
d_sigaction=define
useithreads=define
usemultiplicity=define
use64bitint=define
use64bitall=define
uselongdouble=undef
usemymalloc=n
default_inc_excludes_dot=define
Compiler:
cc='cc'
ccflags ='-D_REENTRANT -D_GNU_SOURCE -fwrapv -fno-strict-aliasing -pipe -fstack-protector-strong -I/usr/local/include -D_LARGEFILE_SOURCE -D_FILE_OFFSET_BITS=64 -D_FORTIFY_SOURCE=2'
optimize='-O2 -g'
cppflags='-D_REENTRANT -D_GNU_SOURCE -fwrapv -fno-strict-aliasing -pipe -fstack-protector-strong -I/usr/local/include'
ccversion=''
gccversion='12.2.0'
gccosandvers=''
intsize=4
longsize=8
ptrsize=8
doublesize=8
byteorder=12345678
doublekind=3
d_longlong=define
longlongsize=8
d_longdbl=define
longdblsize=16
longdblkind=3
ivtype='long'
ivsize=8
nvtype='double'
nvsize=8
Off_t='off_t'
lseeksize=8
alignbytes=8
prototype=define
Linker and Libraries:
ld='cc'
ldflags =' -fstack-protector-strong -L/usr/local/lib'
libpth=/usr/local/lib /usr/lib/x86_64-linux-gnu /usr/lib /usr/lib64
libs=-lpthread -lnsl -ldl -lm -lcrypt -lutil -lc
perllibs=-lpthread -lnsl -ldl -lm -lcrypt -lutil -lc
libc=/lib/x86_64-linux-gnu/libc.so.6
so=so
useshrplib=false
libperl=libperl.a
gnulibc_version='2.36'
Dynamic Linking:
dlsrc=dl_dlopen.xs
dlext=so
d_dlsymun=undef
ccdlflags='-Wl,-E'
cccdlflags='-fPIC'
lddlflags='-shared -O2 -g -L/usr/local/lib -fstack-protector-strong'
Characteristics of this binary (from libperl):
Compile-time options:
HAS_LONG_DOUBLE
HAS_STRTOLD
HAS_TIMES
MULTIPLICITY
PERLIO_LAYERS
PERL_COPY_ON_WRITE
PERL_DONT_CREATE_GVSV
PERL_HASH_FUNC_SIPHASH13
PERL_HASH_USE_SBOX32
PERL_MALLOC_WRAP
PERL_OP_PARENT
PERL_PRESERVE_IVUV
PERL_USE_DEVEL
PERL_USE_SAFE_PUTENV
USE_64_BIT_ALL
USE_64_BIT_INT
USE_ITHREADS
USE_LARGE_FILES
USE_LOCALE
USE_LOCALE_COLLATE
USE_LOCALE_CTYPE
USE_LOCALE_NUMERIC
USE_LOCALE_TIME
USE_PERLIO
USE_PERL_ATOF
USE_REENTRANT_API
USE_THREAD_SAFE_LOCALE
Built under linux
Compiled at Jul 3 2023 05:16:21
%ENV:
PERL5LIB=""
PERL5OPT=""
PERL5_CPANPLUS_IS_RUNNING="412466"
PERL5_CPAN_IS_RUNNING="412466"
PERL_CANARY_STABILITY_NOPROMPT="1"
PERL_MM_USE_DEFAULT="1"
PERL_USE_UNSAFE_INC="1"
@INC:
/home/sand/src/perl/repoperls/installed-perls/host/k93msid/v5.38.0/1e0c/lib/site_perl/5.38.0/x86_64-linux-thread-multi
/home/sand/src/perl/repoperls/installed-perls/host/k93msid/v5.38.0/1e0c/lib/site_perl/5.38.0
/home/sand/src/perl/repoperls/installed-perls/host/k93msid/v5.38.0/1e0c/lib/5.38.0/x86_64-linux-thread-multi
/home/sand/src/perl/repoperls/installed-perls/host/k93msid/v5.38.0/1e0c/lib/5.38.0
.