MooseX-Types-Structured v0.36 Perl 5 v5.26.3 x86_64-linux

Status
Pass
From
Slaven Rezić
Dist
MooseX-Types-Structured v0.36
Platform
Perl 5 v5.26.3 x86_64-linux
Date
2025-04-21 20:48:34
ID
fe137cd8-1ef1-11f0-bd19-6e506e8775ea
This distribution has been tested as part of the CPAN Testers
project, supporting the Perl programming language.  See
http://wiki.cpantesters.org/ for more information or email
questions to cpan-testers-discuss@perl.org


--
Dear Karen Etheridge,

This is a computer-generated report for MooseX-Types-Structured-0.36
on perl 5.26.3, created by CPAN-Reporter-1.2020.

Thank you for uploading your work to CPAN.  Congratulations!
All tests were successful.

Sections of this report:

    * Tester comments
    * Program output
    * Prerequisites
    * Environment and other context

------------------------------
TESTER COMMENTS
------------------------------

Additional comments from tester:

this report is from an automated smoke testing program
and was not reviewed by a human for accuracy

------------------------------
PROGRAM OUTPUT
------------------------------

Output from './Build test':

t/00-load.t .................... ok
# 
# Versions for all modules listed in MYMETA.json (including optional ones):
# 
# === Configure Requires ===
# 
#     Module               Want  Have
#     ------------------- ----- -----
#     Module::Build::Tiny 0.034 0.051
# 
# === Configure Suggests ===
# 
#     Module      Want Have
#     -------- ------- ----
#     JSON::PP 2.27300 4.16
# 
# === Test Requires ===
# 
#     Module               Want     Have
#     -------------------- ---- --------
#     Data::Dumper          any    2.183
#     DateTime              any     1.65
#     File::Spec            any     3.75
#     Module::Metadata      any 1.000038
#     MooseX::Types::Moose  any     0.50
#     Test::Fatal           any    0.017
#     Test::More           0.88 1.302209
#     Test::Needs           any 0.002010
#     strict                any     1.11
#     warnings              any     1.37
# 
# === Test Recommends ===
# 
#     Module         Want     Have
#     ---------- -------- --------
#     CPAN::Meta 2.120900 2.150010
# 
# === Test Suggests ===
# 
#     Module                  Want Have
#     ----------------------- ---- ----
#     MooseX::Types::DateTime  any 0.13
# 
# === Runtime Requires ===
# 
#     Module                                        Want   Have
#     -------------------------------------------- ----- ------
#     Devel::PartialDump                            0.13   0.20
#     Moose                                          any 2.2207
#     Moose::Meta::TypeCoercion                      any 2.2207
#     Moose::Meta::TypeConstraint                    any 2.2207
#     Moose::Meta::TypeConstraint::Parameterizable   any 2.2207
#     Moose::Util::TypeConstraints                  1.06 2.2207
#     MooseX::Types                                 0.22   0.50
#     Scalar::Util                                   any   1.69
#     Sub::Exporter                                0.982  0.991
#     if                                             any 0.0606
#     namespace::clean                              0.19   0.27
#     overload                                       any   1.28
# 
# === Other Modules ===
# 
#     Module               Have
#     -------------------- ----
#     Dist::CheckConflicts 0.11
#     JSON::PP             4.16
#     Sub::Name            0.28
#     YAML                 1.31
#     autodie              2.37
# 
t/00-report-prereqs.t .......... ok
t/01-basic.t ................... ok
t/02-tuple.t ................... ok
t/03-dict.t .................... ok
t/04-combined.t ................ ok
t/04-map.t ..................... ok
t/05-advanced.t ................ ok
t/06-api.t ..................... ok
t/07-coerce.t .................. ok
t/08-examples.t ................ ok
t/09-optional.t ................ ok
t/10-recursion.t ............... ok
t/11-overflow.t ................ ok
t/12-error.t ................... ok
t/13-deeper_error.t ............ ok
t/14-fully-qualified.t ......... ok
t/bug-incorrect-message.t ...... ok
t/bug-is-subtype.t ............. ok
t/bug-mixed-stringy.t .......... ok
t/bug-optional.t ............... ok
t/regressions/01-is_type_of.t .. ok
t/zzz-check-breaks.t ........... ok
All tests successful.
Files=23, Tests=362,  6 wallclock secs ( 0.08 usr  0.04 sys +  5.27 cusr  0.72 csys =  6.11 CPU)
Result: PASS

------------------------------
PREREQUISITES
------------------------------

Prerequisite modules loaded:

requires:

    Module                                       Need  Have    
    -------------------------------------------- ----- --------
    Devel::PartialDump                           0.13  0.20    
    if                                           0     0.0606  
    Moose                                        0     2.2207  
    Moose::Meta::TypeCoercion                    0     2.2207  
    Moose::Meta::TypeConstraint                  0     2.2207  
    Moose::Meta::TypeConstraint::Parameterizable 0     2.2207  
    Moose::Util::TypeConstraints                 1.06  2.2207  
    MooseX::Types                                0.22  0.50    
    namespace::clean                             0.19  0.27    
    overload                                     0     1.28    
    perl                                         5.008 5.026003
    Scalar::Util                                 0     1.69    
    Sub::Exporter                                0.982 0.991   

build_requires:

    Module                                       Need  Have    
    -------------------------------------------- ----- --------
    Data::Dumper                                 0     2.183   
    DateTime                                     0     1.65    
    File::Spec                                   0     3.75    
    Module::Metadata                             0     1.000038
    MooseX::Types::Moose                         0     0.50    
    perl                                         5.008 5.026003
    strict                                       0     1.11    
    Test::Fatal                                  0     0.017   
    Test::More                                   0.88  1.302209
    Test::Needs                                  0     0.002010
    warnings                                     0     1.37    

configure_requires:

    Module                                       Need  Have    
    -------------------------------------------- ----- --------
    Module::Build::Tiny                          0.034 0.051   
    perl                                         5.008 5.026003


------------------------------
ENVIRONMENT AND OTHER CONTEXT
------------------------------

Environment variables:

    AUTOMATED_TESTING = 1
    LANG = en_US.UTF-8
    PATH = /usr/local/bin:/usr/bin:/bin:/usr/local/sbin:/usr/sbin:/sbin:/home/cpansand/bin/linux-gnu:/home/cpansand/bin/sh:/home/cpansand/bin:/usr/games:/home/cpansand/devel:/home/eserte/src/srezic-misc/scripts
    PERL5LIB = /home/cpansand/.cpan/build/2025042016/Devel-PartialDump-0.20-4/blib/arch:/home/cpansand/.cpan/build/2025042016/Devel-PartialDump-0.20-4/blib/lib
    PERL5OPT = 
    PERL5_CPANPLUS_IS_RUNNING = 590790
    PERL5_CPAN_IS_RUNNING = 590790
    PERL5_CPAN_IS_RUNNING_IN_RECURSION = 588868,590790
    PERLDOC = -MPod::Perldoc::ToTextOverstrike
    PERL_BATCH = yes
    PERL_CANARY_STABILITY_NOPROMPT = 1
    PERL_CPAN_REPORTER_CONFIG = /var/tmp/cpansmoker-1023/2025042016/cpanreporter_000_config.ini
    PERL_EXTUTILS_AUTOINSTALL = --defaultdeps
    PERL_USE_UNSAFE_INC = 1
    SHELL = /usr/bin/zsh
    TERM = screen
    TMPDIR = /var/tmp/cpansmoker-1023/2025042016

Perl special variables (and OS-specific diagnostics, for MSWin32):

    $^X = /opt/perl-5.26.3/bin/perl
    $UID/$EUID = 1023 / 1023
    $GID = 1023 1023
    $EGID = 1023 1023

Perl module toolchain versions installed:

    Module              Have    
    ------------------- --------
    CPAN                2.18    
    CPAN::Meta          2.150010
    Cwd                 3.75    
    ExtUtils::CBuilder  0.280236
    ExtUtils::Command   7.72    
    ExtUtils::Install   2.06    
    ExtUtils::MakeMaker 7.72    
    ExtUtils::Manifest  1.75    
    ExtUtils::ParseXS   3.51    
    File::Spec          3.75    
    JSON                4.10    
    JSON::PP            4.16    
    Module::Build       0.4234  
    Module::Signature   n/a     
    Parse::CPAN::Meta   2.150010
    Test2               1.302209
    Test::Harness       3.38    
    Test::More          1.302209
    YAML                1.31    
    YAML::Syck          1.34    
    version             0.9917  


--

Summary of my perl5 (revision 5 version 26 subversion 3) configuration:
   
  Platform:
    osname=linux
    osvers=6.12.11-200.fc41.x86_64
    archname=x86_64-linux
    uname='linux cloud4.bbbike.org 6.12.11-200.fc41.x86_64 #1 smp preempt_dynamic fri jan 24 04:59:58 utc 2025 x86_64 gnulinux '
    config_args='-ds -e -Dprefix=/opt/perl-5.26.3 -Uinstallusrbinperl -Dcf_email=srezic@cpan.org'
    hint=recommended
    useposix=true
    d_sigaction=define
    useithreads=undef
    usemultiplicity=undef
    use64bitint=define
    use64bitall=define
    uselongdouble=undef
    usemymalloc=n
    default_inc_excludes_dot=define
    bincompat5005=undef
  Compiler:
    cc='cc'
    ccflags ='-fwrapv -fno-strict-aliasing -pipe -fstack-protector-strong -I/usr/local/include -D_LARGEFILE_SOURCE -D_FILE_OFFSET_BITS=64 -D_FORTIFY_SOURCE=2'
    optimize='-O2'
    cppflags='-fwrapv -fno-strict-aliasing -pipe -fstack-protector-strong -I/usr/local/include'
    ccversion=''
    gccversion='14.2.1 20250110 (Red Hat 14.2.1-7)'
    gccosandvers=''
    intsize=4
    longsize=8
    ptrsize=8
    doublesize=8
    byteorder=12345678
    doublekind=3
    d_longlong=define
    longlongsize=8
    d_longdbl=define
    longdblsize=16
    longdblkind=3
    ivtype='long'
    ivsize=8
    nvtype='double'
    nvsize=8
    Off_t='off_t'
    lseeksize=8
    alignbytes=8
    prototype=define
  Linker and Libraries:
    ld='cc'
    ldflags =' -fstack-protector-strong -L/usr/local/lib'
    libpth=/usr/local/lib /usr/lib /lib/../lib64 /usr/lib/../lib64 /lib /lib64 /usr/lib64 /usr/local/lib64
    libs=-lpthread -ldb -ldl -lm -lcrypt -lutil -lc
    perllibs=-lpthread -ldl -lm -lcrypt -lutil -lc
    libc=/lib/../lib64/libc.so.6
    so=so
    useshrplib=false
    libperl=libperl.a
    gnulibc_version='2.40'
  Dynamic Linking:
    dlsrc=dl_dlopen.xs
    dlext=so
    d_dlsymun=undef
    ccdlflags='-Wl,-E'
    cccdlflags='-fPIC'
    lddlflags='-shared -O2 -L/usr/local/lib -fstack-protector-strong'


Characteristics of this binary (from libperl): 
  Compile-time options:
    HAS_TIMES
    PERLIO_LAYERS
    PERL_COPY_ON_WRITE
    PERL_DONT_CREATE_GVSV
    PERL_MALLOC_WRAP
    PERL_OP_PARENT
    PERL_PRESERVE_IVUV
    USE_64_BIT_ALL
    USE_64_BIT_INT
    USE_LARGE_FILES
    USE_LOCALE
    USE_LOCALE_COLLATE
    USE_LOCALE_CTYPE
    USE_LOCALE_NUMERIC
    USE_LOCALE_TIME
    USE_PERLIO
    USE_PERL_ATOF
  Locally applied patches:
    Devel::PatchPerl 2.08
  Built under linux
  Compiled at Feb  6 2025 21:24:33
  %ENV:
    PERL5LIB="/home/cpansand/.cpan/build/2025042016/Devel-PartialDump-0.20-4/blib/arch:/home/cpansand/.cpan/build/2025042016/Devel-PartialDump-0.20-4/blib/lib"
    PERL5OPT=""
    PERL5_CPANPLUS_IS_RUNNING="590790"
    PERL5_CPAN_IS_RUNNING="590790"
    PERL5_CPAN_IS_RUNNING_IN_RECURSION="588868,590790"
    PERLDOC="-MPod::Perldoc::ToTextOverstrike"
    PERL_BATCH="yes"
    PERL_CANARY_STABILITY_NOPROMPT="1"
    PERL_CPAN_REPORTER_CONFIG="/var/tmp/cpansmoker-1023/2025042016/cpanreporter_000_config.ini"
    PERL_EXTUTILS_AUTOINSTALL="--defaultdeps"
    PERL_USE_UNSAFE_INC="1"
  @INC:
    /home/cpansand/.cpan/build/2025042016/Devel-PartialDump-0.20-4/blib/arch
    /home/cpansand/.cpan/build/2025042016/Devel-PartialDump-0.20-4/blib/lib
    /opt/perl-5.26.3/lib/site_perl/5.26.3/x86_64-linux
    /opt/perl-5.26.3/lib/site_perl/5.26.3
    /opt/perl-5.26.3/lib/5.26.3/x86_64-linux
    /opt/perl-5.26.3/lib/5.26.3
    .