Back
From: metabase:user:320bfe00-2aae-11df-837a-5e0a49663a4f
Subject: PASS VANAMBURG-SEMPROG-SimpleGraph-0.010 v5.19.3 GNU/Linux
Date: 2013-07-23T03:57:28Z
This distribution has been tested as part of the CPAN Testers
project, supporting the Perl programming language. See
http://wiki.cpantesters.org/ for more information or email
questions to cpan-testers-discuss@perl.org
--
Dear Gordon Van Amburg,
This is a computer-generated report for VANAMBURG-SEMPROG-SimpleGraph-0.010
on perl 5.19.3, created by CPAN-Reporter-1.2010.
Thank you for uploading your work to CPAN. Congratulations!
All tests were successful.
Sections of this report:
* Tester comments
* Program output
* Prerequisites
* Environment and other context
------------------------------
TESTER COMMENTS
------------------------------
Additional comments from tester:
this report is from an automated smoke testing program
and was not reviewed by a human for accuracy
------------------------------
PROGRAM OUTPUT
------------------------------
Output from '/usr/bin/make test':
PERL_DL_NONLAZY=1 /tmp/basesmoker-reloperl-r3VK/bin/perl "-MExtUtils::Command::MM" "-e" "test_harness(0, 'blib/lib', 'blib/arch')" t/*.t
# >>> t1 is gordon, add, triple1
# >>> gordon
# >>> gordon triples is 2
# >>> triple2 triples is 1
# >>> gordon triples is now 1
# >>> pot_belly_cost is cheap
t/00-load.t ......................... ok
t/pod-coverage.t .................... ok
#
# sub=San_Francisco_California
# pred=longitude obj=-122.4183
# pred=population obj=744042
# pred=mayor obj=Gavin Newsom
# pred=latitude obj=37.775
# pred=inside obj=California
# pred=name obj=San Francisco
# sub=Banning_California obj=Debbie Franklin
# sub=Anaheim_California obj=Curt Pringle
# sub=Cleveland_Ohio obj=Dennis Kucinich
# sub=Chula_Vista_California obj=Cheryl Cox
# sub=San_Francisco_California obj=Gavin Newsom
# sub=Cleveland_Ohio obj=Newton D. Baker
# sub=Hillsdale_Michigan obj=Michael Sessions
# sub=Alameda_California obj=Lena Tam
# sub=Philadelphia_Pennsylvania obj=John F. Street
# sub=Cincinnati_Ohio obj=Jerry Springer
# sub=Garden_Grove_California obj=William Dalton
# sub=Adelanto_California obj=Charley B. Glasper
# sub=Alameda_California obj=Beverly Johnson
# sub=Corona_California obj=Jeff Miller
# sub=Fontana_California obj=Mark Nuaimi
# sub=Half_Moon_Bay_California obj=Bonnie McClung
# sub=Portsmouth_New_Hampshire obj=Thomas G. Ferrini
# sub=Fremont_California obj=Bob Wasserman
# sub=Wasilla_Alaska obj=Sarah Palin
# sub=Fremont_California obj=Bill Harrison
# sub=Aliso_Viejo_California obj=William Phillips
# sub=Fontana_California obj=Acquanetta Warren
# sub=Aliso_Viejo_California obj=Donald Garcia
# sub=Edmonton_Canada obj=Bill Smith
# sub=Athens_Greece obj=Dora Bakoyannis
# sub=Corona_California obj=Steve Nolan
# sub=Garden_Grove_California obj=Mark Rosen
# sub=Half_Moon_Bay_California obj=John Muller
# sub=Adelanto_California obj=Steven R. Baisden
# sub=Detroit_Michigan obj=Frank Murphy
# sub=Chicago_Illinois obj=Richard M. Daley
# sub=Cleveland_Ohio obj=Frank G. Jackson
# sub=New_York_New_York obj=Michael Bloomberg
# sub=Fresno_California obj=Alan Autry
# sub=San_Jose_California obj=Norman Mineta
# sub=Portsmouth_New_Hampshire obj=John Blalock
# sub=Banning_California obj=Brenda Salas
# sub=Bakersfield_California obj=Harvey Hall
# sub=Glendale_California obj=John Drayman
# sub=Stuttgart_Germany obj=Manfred Rommel
# there are 30 cal cities
# mayor of Half_Moon_Bay_California is John Muller
# mayor of Half_Moon_Bay_California is Bonnie McClung
# mayor of Aliso_Viejo_California is Donald Garcia
# mayor of Aliso_Viejo_California is William Phillips
# mayor of Adelanto_California is Charley B. Glasper
# mayor of Adelanto_California is Steven R. Baisden
# mayor of Bakersfield_California is Harvey Hall
# mayor of Fremont_California is Bob Wasserman
# mayor of Fremont_California is Bill Harrison
# mayor of San_Francisco_California is Gavin Newsom
# mayor of Corona_California is Steve Nolan
# mayor of Corona_California is Jeff Miller
# mayor of San_Jose_California is Norman Mineta
# mayor of Chula_Vista_California is Cheryl Cox
# mayor of Banning_California is Brenda Salas
# mayor of Banning_California is Debbie Franklin
# mayor of Alameda_California is Beverly Johnson
# mayor of Alameda_California is Lena Tam
# mayor of Anaheim_California is Curt Pringle
# mayor of Garden_Grove_California is William Dalton
# mayor of Garden_Grove_California is Mark Rosen
# mayor of Glendale_California is John Drayman
# mayor of Fresno_California is Alan Autry
# mayor of Fontana_California is Acquanetta Warren
# mayor of Fontana_California is Mark Nuaimi
t/semprog_ch02_03_places.t .......... ok
# jt's partners
# Justin Timberlake + Jessica Biel
# Britney Spears + Justin Timberlake
# Justin Timberlake + Alyssa Milano
# Alyssa Milano + Justin Timberlake
# Justin Timberlake + Jenna Dewan
# Justin Timberlake + Cameron Diaz
# Cameron Diaz + Justin Timberlake
# Britney Spears + Justin Timberlake
# Justin Timberlake + Jenna Dewan
# Jessica Biel + Justin Timberlake
t/semprog_ch02_04_celebs.t .......... ok
# $VAR1 = 'DHIL';
# $VAR2 = 'MER';
# $VAR3 = 'WDR';
# $VAR4 = 'CLMS';
# $VAR5 = 'GS';
# $VAR6 = 'GBL';
# $VAR7 = 'LAB';
# $VAR8 = 'SCHW';
# $VAR9 = 'BSC';
# $VAR10 = 'TWPG';
# $VAR11 = 'ITG';
# $VAR12 = 'LEH';
# $VAR13 = 'PNSN';
# $VAR14 = 'JEF';
# $VAR15 = 'COWN';
# $VAR16 = 'MS';
# $VAR17 = 'LM';
# $VAR18 = 'TRAD';
# $VAR19 = 'NITE';
# $VAR20 = 'BLK';
# $VAR21 = 'SF';
# $VAR22 = 'MKTX';
# $VAR23 = 'OXPS';
t/semprog_ch02_05_business.t ........ ok
t/semprog_ch02_moviegraph.t ......... ok
# $VAR1 = {
# 'cont' => 'contrib285',
# 'company' => 'BSC',
# 'dollars' => '30700.0'
# };
t/semprog_ch03_01_queries.t ......... ok
# triples before:
# $VAR1 = [
# 'White House',
# 'address',
# '1600 Pennsylvania Avenue, Washington DC'
# ];
# triples after:
# $VAR1 = [
# 'White House',
# 'latitude',
# '-77.037684'
# ];
# $VAR2 = [
# 'White House',
# 'address',
# '1600 Pennsylvania Avenue, Washington DC'
# ];
# $VAR3 = [
# 'White House',
# 'longitude',
# '38.898748'
# ];
t/semprog_ch03_02_inference.t ....... ok
# getting geo code data from internet -- could take a while...
# touristy triples:
# $VAR1 = [
# 'Pot Belly',
# 'is_a',
# 'touristy restaurant'
# ];
t/semprog_ch03_03_chain_of_rules.t .. ok
# loading movie data...
# load done. finding path
# path=Kevin Bacon, Footloose, Chris Penn, True Romance, Val Kilmer
# path=Kevin Bacon, National Lampoon's Animal House, Stephen Furst, Silent Rage, Chuck Norris, Way of the Dragon, Bruce Lee
# path=Kevin Bacon, Mystic River, Laurence Fishburne, Apocalypse Now Redux, Harrison Ford
t/semprog_ch03_04_shortest_path.t ... ok
t/semprog_ch03_05_join_graph.t ...... ok
All tests successful.
Files=11, Tests=42, 30 wallclock secs ( 0.04 usr 0.01 sys + 23.98 cusr 0.34 csys = 24.37 CPU)
Result: PASS
------------------------------
PREREQUISITES
------------------------------
Prerequisite modules loaded:
requires:
Module Need Have
------------------- ---- ----------
File::Slurp 0 9999.19
JSON 0 2.59
List::MoreUtils 0 0.33
LWP::Simple 0 6.00
Modern::Perl 1.03 1.20121103
Moose 0.93 2.0802
Moose::Role 0 2.0802
Set::Scalar 0 1.26
Test::More 0 0.98
Text::CSV_XS 0 1.01
URI::Escape 0 3.31
build_requires:
Module Need Have
------------------- ---- ----------
ExtUtils::MakeMaker 0 6.68
configure_requires:
Module Need Have
------------------- ---- ----------
ExtUtils::MakeMaker 0 6.68
------------------------------
ENVIRONMENT AND OTHER CONTEXT
------------------------------
Environment variables:
AUTOMATED_TESTING = 1
LANG = en_US.UTF-8
LANGUAGE = en_US:en
PATH = /usr/lib/ccache:/home/sand/bin:/usr/local/bin:/usr/bin:/bin:/usr/bin/X11:/usr/games:/usr/local/perl/bin:/usr/X11/bin:/sbin:/usr/sbin
PERL5LIB =
PERL5OPT =
PERL5_CPANPLUS_IS_RUNNING = 604
PERL5_CPAN_IS_RUNNING = 604
PERL_MM_USE_DEFAULT = 1
SHELL = /usr/bin/zsh
TERM = screen
Perl special variables (and OS-specific diagnostics, for MSWin32):
$^X = /tmp/basesmoker-reloperl-r3VK/bin/perl
$UID/$EUID = 1005 / 1005
$GID = 1005 1005
$EGID = 1005 1005
Perl module toolchain versions installed:
Module Have
------------------- --------
CPAN 2.00
CPAN::Meta 2.131560
Cwd 3.41
ExtUtils::CBuilder 0.280210
ExtUtils::Command 1.17
ExtUtils::Install 1.60
ExtUtils::MakeMaker 6.68
ExtUtils::Manifest 1.63
ExtUtils::ParseXS 3.21
File::Spec 3.41
JSON 2.59
JSON::PP 2.27202
Module::Build 0.4007
Module::Signature 0.73
Parse::CPAN::Meta 1.4405
Test::Harness 3.28
Test::More 0.98
YAML 0.84
YAML::Syck 1.27
version 0.9902
--
Summary of my perl5 (revision 5 version 19 subversion 3) configuration:
Commit id: da46ab3732c369c451e8f975eeca0700552ac282
Platform:
osname=linux, osvers=3.9-1-amd64, archname=x86_64-linux
uname='linux k83 3.9-1-amd64 #1 smp debian 3.9.8-1 x86_64 gnulinux '
config_args='-Dprefix=/home/sand/src/perl/repoperls/installed-perls/perl/v5.19.2-28-gda46ab3/165a -Dmyhostname=k83 -Dinstallusrbinperl=n -Uversiononly -Dusedevel -des -Ui_db -Uuseithreads -Uuselongdouble -DDEBUGGING=-g'
hint=recommended, useposix=true, d_sigaction=define
useithreads=undef, usemultiplicity=undef
useperlio=define, d_sfio=undef, uselargefiles=define, usesocks=undef
use64bitint=define, use64bitall=define, uselongdouble=undef
usemymalloc=n, bincompat5005=undef
Compiler:
cc='cc', ccflags ='-fno-strict-aliasing -pipe -fstack-protector -I/usr/local/include -D_LARGEFILE_SOURCE -D_FILE_OFFSET_BITS=64',
optimize='-O2 -g',
cppflags='-fno-strict-aliasing -pipe -fstack-protector -I/usr/local/include'
ccversion='', gccversion='4.8.1', gccosandvers=''
intsize=4, longsize=8, ptrsize=8, doublesize=8, byteorder=12345678
d_longlong=define, longlongsize=8, d_longdbl=define, longdblsize=16
ivtype='long', ivsize=8, nvtype='double', nvsize=8, Off_t='off_t', lseeksize=8
alignbytes=8, prototype=define
Linker and Libraries:
ld='cc', ldflags =' -fstack-protector -L/usr/local/lib'
libpth=/usr/local/lib /lib/x86_64-linux-gnu /lib/../lib /usr/lib/x86_64-linux-gnu /usr/lib/../lib /lib /usr/lib
libs=-lnsl -lgdbm -ldb -ldl -lm -lcrypt -lutil -lc -lgdbm_compat
perllibs=-lnsl -ldl -lm -lcrypt -lutil -lc
libc=, so=so, useshrplib=false, libperl=libperl.a
gnulibc_version='2.17'
Dynamic Linking:
dlsrc=dl_dlopen.xs, dlext=so, d_dlsymun=undef, ccdlflags='-Wl,-E'
cccdlflags='-fPIC', lddlflags='-shared -O2 -g -L/usr/local/lib -fstack-protector'
Characteristics of this binary (from libperl):
Compile-time options: HAS_TIMES PERLIO_LAYERS PERL_DONT_CREATE_GVSV
PERL_HASH_FUNC_ONE_AT_A_TIME_HARD PERL_MALLOC_WRAP
PERL_NEW_COPY_ON_WRITE PERL_PRESERVE_IVUV
PERL_USE_DEVEL USE_64_BIT_ALL USE_64_BIT_INT
USE_LARGE_FILES USE_LOCALE USE_LOCALE_COLLATE
USE_LOCALE_CTYPE USE_LOCALE_NUMERIC USE_PERLIO
USE_PERL_ATOF
Built under linux
Compiled at Jul 23 2013 03:08:22
%ENV:
PERL5LIB=""
PERL5OPT=""
PERL5_CPANPLUS_IS_RUNNING="604"
PERL5_CPAN_IS_RUNNING="604"
PERL_MM_USE_DEFAULT="1"
@INC:
/home/sand/src/perl/repoperls/installed-perls/perl/v5.19.2-28-gda46ab3/165a/lib/site_perl/5.19.3/x86_64-linux
/home/sand/src/perl/repoperls/installed-perls/perl/v5.19.2-28-gda46ab3/165a/lib/site_perl/5.19.3
/home/sand/src/perl/repoperls/installed-perls/perl/v5.19.2-28-gda46ab3/165a/lib/5.19.3/x86_64-linux
/home/sand/src/perl/repoperls/installed-perls/perl/v5.19.2-28-gda46ab3/165a/lib/5.19.3
.