Test-MockModule vv0.176.0 Perl 5 v5.32.0 darwin-2level

Status
Pass
From
Roland van Ipenburg (IPENBURG)
Dist
Test-MockModule vv0.176.0
Platform
Perl 5 v5.32.0 darwin-2level
Date
2021-01-13 21:12:07
ID
fe1a3158-55e3-11eb-b51e-d1b2dc1ae63c
This distribution has been tested as part of the CPAN Testers
project, supporting the Perl programming language.  See
http://wiki.cpantesters.org/ for more information or email
questions to cpan-testers-discuss@perl.org


--
Dear Geoff Franks,

This is a computer-generated report for Test-MockModule-v0.176.0
on perl 5.32.0, created by CPAN-Reporter-1.2018.

Thank you for uploading your work to CPAN.  Congratulations!
All tests were successful.

Sections of this report:

    * Tester comments
    * Program output
    * Prerequisites
    * Environment and other context

------------------------------
TESTER COMMENTS
------------------------------

Additional comments from tester:

none provided

------------------------------
PROGRAM OUTPUT
------------------------------

Output from './Build test':

t/chaining.t ............. ok
t/define.t ............... ok
t/inheritance.t .......... ok
t/main.t ................. ok
t/mock_strict.t .......... ok
t/mockmodule.t ........... ok
t/pod.t .................. ok
t/pod_coverage.t ......... ok
t/prototype.t ............ ok
t/redefine.t ............. ok
t/strict_scoped_files.t .. ok
All tests successful.
Files=11, Tests=104,  2 wallclock secs ( 0.06 usr  0.03 sys +  1.05 cusr  0.22 csys =  1.36 CPU)
Result: PASS

------------------------------
PREREQUISITES
------------------------------

Prerequisite modules loaded:

requires:

    Module         Need  Have      
    -------------- ----- ----------
    Carp           0     1.50      
    perl           5.006 5.032000  
    Scalar::Util   0     1.55      
    SUPER          1.20  1.20190531

build_requires:

    Module         Need  Have      
    -------------- ----- ----------
    Test::More     0.88  1.302183  
    Test::Warnings 0     0.030     

configure_requires:

    Module         Need  Have      
    -------------- ----- ----------
    Module::Build  0.38  0.4231    


------------------------------
ENVIRONMENT AND OTHER CONTEXT
------------------------------

Environment variables:

    LANG = en_US.UTF-8
    LC_ALL = en_US.UTF-8
    LC_CTYPE = UTF-8
    PATH = /usr/local/bin:/usr/bin:/bin
    PERL5LIB = 
    PERL5OPT = 
    PERL5_CPANPLUS_IS_RUNNING = 1927
    PERL5_CPAN_IS_RUNNING = 1927
    PERL_USE_UNSAFE_INC = 1
    SHELL = /bin/sh
    TERM = xterm-256color

Perl special variables (and OS-specific diagnostics, for MSWin32):

    $^X = /usr/local/bin/perl
    $UID/$EUID = 0 / 0
    $GID = 0 0 1 2 3 4 5 8 9 12 20 29 61 80 702 701 33
    $EGID = 0 0 1 2 3 4 5 8 9 12 20 29 61 80 702 701 33

Perl module toolchain versions installed:

    Module              Have    
    ------------------- --------
    CPAN                2.28    
    CPAN::Meta          2.150010
    Cwd                 3.78    
    ExtUtils::CBuilder  0.280235
    ExtUtils::Command   7.58    
    ExtUtils::Install   2.20    
    ExtUtils::MakeMaker 7.58    
    ExtUtils::Manifest  1.72    
    ExtUtils::ParseXS   3.40    
    File::Spec          3.78    
    JSON                4.02    
    JSON::PP            4.05    
    Module::Build       0.4231  
    Module::Signature   0.87    
    Parse::CPAN::Meta   2.150010
    Test::Harness       3.42    
    Test::More          1.302183
    YAML                1.30    
    YAML::Syck          n/a     
    version             0.9928  


--

Summary of my perl5 (revision 5 version 32 subversion 0) configuration:
   
  Platform:
    osname=darwin
    osvers=19.5.0
    archname=darwin-2level
    uname='darwin brooklyn.fritz.box 19.5.0 darwin kernel version 19.5.0: tue may 26 20:41:44 pdt 2020; root:xnu-6153.121.2~2release_x86_64 x86_64 '
    config_args='-des -Dinc_version_list=none'
    hint=recommended
    useposix=true
    d_sigaction=define
    useithreads=undef
    usemultiplicity=undef
    use64bitint=define
    use64bitall=define
    uselongdouble=undef
    usemymalloc=n
    default_inc_excludes_dot=define
    bincompat5005=undef
  Compiler:
    cc='cc'
    ccflags ='-fno-common -DPERL_DARWIN -mmacosx-version-min=10.15 -fno-strict-aliasing -pipe -fstack-protector-strong -I/usr/local/include -I/opt/local/include -DPERL_USE_SAFE_PUTENV'
    optimize='-O3'
    cppflags='-fno-common -DPERL_DARWIN -mmacosx-version-min=10.15 -fno-strict-aliasing -pipe -fstack-protector-strong -I/usr/local/include -I/opt/local/include'
    ccversion=''
    gccversion='4.2.1 Compatible Apple LLVM 11.0.0 (clang-1100.0.33.8)'
    gccosandvers=''
    intsize=4
    longsize=8
    ptrsize=8
    doublesize=8
    byteorder=12345678
    doublekind=3
    d_longlong=define
    longlongsize=8
    d_longdbl=define
    longdblsize=16
    longdblkind=3
    ivtype='long'
    ivsize=8
    nvtype='double'
    nvsize=8
    Off_t='off_t'
    lseeksize=8
    alignbytes=8
    prototype=define
  Linker and Libraries:
    ld='cc'
    ldflags =' -mmacosx-version-min=10.15 -fstack-protector-strong -L/usr/local/lib -L/opt/local/lib'
    libpth=/Applications/Xcode.app/Contents/Developer/Toolchains/XcodeDefault.xctoolchain/usr/lib/clang/11.0.0/lib /Applications/Xcode.app/Contents/Developer/Toolchains/XcodeDefault.xctoolchain/usr/lib /Applications/Xcode.app/Contents/Developer/Platforms/MacOSX.platform/Developer/SDKs/MacOSX.sdk/usr/lib /usr/local/lib /opt/local/lib /usr/lib
    libs=-lpthread -lgdbm -ldbm -ldl -lm -lutil -lc
    perllibs=-lpthread -ldl -lm -lutil -lc
    libc=
    so=dylib
    useshrplib=false
    libperl=libperl.a
    gnulibc_version=''
  Dynamic Linking:
    dlsrc=dl_dlopen.xs
    dlext=bundle
    d_dlsymun=undef
    ccdlflags=' '
    cccdlflags=' '
    lddlflags=' -mmacosx-version-min=10.15 -bundle -undefined dynamic_lookup -L/usr/local/lib -L/opt/local/lib -fstack-protector-strong'


Characteristics of this binary (from libperl): 
  Compile-time options:
    HAS_TIMES
    PERLIO_LAYERS
    PERL_COPY_ON_WRITE
    PERL_DONT_CREATE_GVSV
    PERL_MALLOC_WRAP
    PERL_OP_PARENT
    PERL_PRESERVE_IVUV
    PERL_USE_SAFE_PUTENV
    USE_64_BIT_ALL
    USE_64_BIT_INT
    USE_LARGE_FILES
    USE_LOCALE
    USE_LOCALE_COLLATE
    USE_LOCALE_CTYPE
    USE_LOCALE_NUMERIC
    USE_LOCALE_TIME
    USE_PERLIO
    USE_PERL_ATOF
  Built under darwin
  Compiled at Jul 11 2020 15:29:36
  %ENV:
    PERL5LIB=""
    PERL5OPT=""
    PERL5_CPANPLUS_IS_RUNNING="1927"
    PERL5_CPAN_IS_RUNNING="1927"
    PERL_USE_UNSAFE_INC="1"
  @INC:
    /usr/local/lib/perl5/site_perl/5.32.0/darwin-2level
    /usr/local/lib/perl5/site_perl/5.32.0
    /usr/local/lib/perl5/5.32.0/darwin-2level
    /usr/local/lib/perl5/5.32.0
    .