Git-Hooks v3.1.1 Perl 5 v5.18.4 amd64-freebsd

Status
Pass
From
Slaven Rezić
Dist
Git-Hooks v3.1.1
Platform
Perl 5 v5.18.4 amd64-freebsd
Date
2021-08-28 21:50:43
ID
fe6d69d6-0849-11ec-bf2d-0c261f24ea8f
This distribution has been tested as part of the CPAN Testers
project, supporting the Perl programming language.  See
http://wiki.cpantesters.org/ for more information or email
questions to cpan-testers-discuss@perl.org


--
Dear Gustavo Leite de Mendonca Chaves,

This is a computer-generated report for Git-Hooks-3.1.1
on perl 5.18.4, created by CPAN-Reporter-1.2018.

Thank you for uploading your work to CPAN.  Congratulations!
All tests were successful.

Sections of this report:

    * Tester comments
    * Program output
    * Prerequisites
    * Environment and other context

------------------------------
TESTER COMMENTS
------------------------------

Additional comments from tester:

none provided

------------------------------
PROGRAM OUTPUT
------------------------------

Output from '/usr/bin/make test':

PERL_DL_NONLAZY=1 "/usr/perl5.18.4p/bin/perl" "-MExtUtils::Command::MM" "-MTest::Harness" "-e" "undef *Test::Harness::Switches; test_harness(0, 'blib/lib', 'blib/arch')" t/*.t
t/00-load.t ................. ok
t/01-setup.t ................ ok
# git version 2.11.0
t/02-check-commit.t ......... ok
# git version 2.11.0
t/02-check-diff.t ........... ok
# git version 2.11.0
t/02-check-file.t ........... ok
t/02-check-jira.t ........... ok
t/02-check-log.t ............ ok
t/02-check-reference.t ...... ok
t/02-check-rewrite.t ........ ok
t/02-check-whitespace.t ..... ok
t/02-externals.t ............ ok
t/02-gerrit-change-id.t ..... ok
t/02-noplugin.t ............. ok
Couldn't require Email::Abstract::Courriel : Specification contains unknown keys: [isa] at /usr/perl5.18.4p/lib/site_perl/5.18.4/Courriel/Header.pm line 34.
Compilation failed in require at /usr/perl5.18.4p/lib/site_perl/5.18.4/Courriel/Headers.pm line 9.
BEGIN failed--compilation aborted at /usr/perl5.18.4p/lib/site_perl/5.18.4/Courriel/Headers.pm line 9.
Compilation failed in require at /usr/perl5.18.4p/lib/site_perl/5.18.4/Courriel.pm line 11.
BEGIN failed--compilation aborted at /usr/perl5.18.4p/lib/site_perl/5.18.4/Courriel.pm line 11.
Compilation failed in require at /usr/perl5.18.4p/lib/site_perl/5.18.4/Email/Abstract/Courriel.pm line 8.
BEGIN failed--compilation aborted at /usr/perl5.18.4p/lib/site_perl/5.18.4/Email/Abstract/Courriel.pm line 8.
Compilation failed in require at /usr/perl5.18.4p/lib/site_perl/5.18.4/Module/Runtime.pm line 314.
 at /usr/perl5.18.4p/lib/site_perl/5.18.4/Module/Pluggable.pm line 32.
t/02-notify.t ............... ok
# git version 2.11.0
t/02-prepare-log.t .......... ok
t/author-critic.t ........... skipped: these tests are for testing by the author
t/author-minimum-version.t .. skipped: these tests are for testing by the author
t/author-no-tabs.t .......... skipped: these tests are for testing by the author
t/author-pod-coverage.t ..... skipped: these tests are for testing by the author
t/author-pod-syntax.t ....... skipped: these tests are for testing by the author
t/author-portability.t ...... skipped: these tests are for testing by the author
t/release-kwalitee.t ........ skipped: these tests are for release candidate testing
t/release-unused-vars.t ..... skipped: these tests are for release candidate testing
All tests successful.
Files=23, Tests=239, 39 wallclock secs ( 0.00 usr  0.11 sys +  5.33 cusr 32.12 csys = 37.55 CPU)
Result: PASS

------------------------------
PREREQUISITES
------------------------------

Prerequisite modules loaded:

requires:

    Module                         Need  Have    
    ------------------------------ ----- --------
    Carp                           0     1.50    
    Email::Sender::Simple          0     2.500   
    Email::Simple                  0     2.216   
    Encode                         0     3.08    
    Exporter                       0     5.74    
    Git::Repository                0     1.325   
    Git::Repository::Log           0     1.314   
    Git::Repository::Plugin        0     1.325   
    IO::Interactive                0     1.022   
    List::MoreUtils                0     0.430   
    Log::Any                       0     1.709   
    parent                         0     0.238   
    Path::Tiny                     0.060 0.118   
    strict                         0     1.07    
    Test::More                     0     1.302183
    Text::Glob                     0     0.11    
    URI::Escape                    0     5.09    
    utf8                           0     1.10    
    warnings                       0     1.18    

build_requires:

    Module                         Need  Have    
    ------------------------------ ----- --------
    Config                         0     5.018004
    Email::Sender::Transport::Mbox 0     2.500   
    ExtUtils::MakeMaker            0     7.62    
    lib                            0     0.63    
    Path::Tiny                     0.060 0.118   
    Test::Requires::Git            0     1.008   

configure_requires:

    Module                         Need  Have    
    ------------------------------ ----- --------
    ExtUtils::MakeMaker            0     7.62    


------------------------------
ENVIRONMENT AND OTHER CONTEXT
------------------------------

Environment variables:

    LC_ALL = de_DE.ISO8859-1
    PATH = /usr/local/bin:/usr/bin:/bin:/usr/local/sbin:/usr/sbin:/sbin:/home/cpansand/bin/freebsd10.3:/home/cpansand/bin/sh:/home/cpansand/bin:/usr/games:/home/cpansand/devel:/home/eserte/src/srezic-misc/scripts
    PERL5LIB = 
    PERL5OPT = 
    PERL5_CPANPLUS_IS_RUNNING = 9382
    PERL5_CPAN_IS_RUNNING = 9382
    PERL5_CPAN_IS_RUNNING_IN_RECURSION = 4946,9382
    PERLDOC = -MPod::Perldoc::ToTextOverstrike
    PERL_BATCH = yes
    PERL_CANARY_STABILITY_NOPROMPT = 1
    PERL_CPAN_REPORTER_CONFIG = /var/tmp/cpansmoker-1023/2021082822/cpanreporter_000_config.ini
    PERL_EXTUTILS_AUTOINSTALL = --defaultdeps
    PERL_USE_UNSAFE_INC = 1
    SHELL = /usr/local/bin/zsh
    TERM = screen
    TMPDIR = /var/tmp/cpansmoker-1023/2021082822

Perl special variables (and OS-specific diagnostics, for MSWin32):

    $^X = /usr/perl5.18.4p/bin/perl
    $UID/$EUID = 1023 / 1023
    $GID = 1023 1023
    $EGID = 1023 1023

Perl module toolchain versions installed:

    Module              Have    
    ------------------- --------
    CPAN                2.28    
    CPAN::Meta          2.150010
    Cwd                 3.75    
    ExtUtils::CBuilder  0.280235
    ExtUtils::Command   7.62    
    ExtUtils::Install   2.20    
    ExtUtils::MakeMaker 7.62    
    ExtUtils::Manifest  1.70    
    ExtUtils::ParseXS   3.35    
    File::Spec          3.75    
    JSON                4.03    
    JSON::PP            4.05    
    Module::Build       0.4229  
    Module::Signature   0.87    
    Parse::CPAN::Meta   2.150010
    Test::Harness       3.42    
    Test::More          1.302183
    YAML                1.30    
    YAML::Syck          1.34    
    version             0.9928  


--

Summary of my perl5 (revision 5 version 18 subversion 4) configuration:
   
  Platform:
    osname=freebsd, osvers=10.1-release, archname=amd64-freebsd
    uname='freebsd cvrsnica-freebsd-101.herceg.de 10.1-release freebsd 10.1-release #0 r274401: tue nov 11 21:02:49 utc 2014 root@releng1.nyi.freebsd.org:usrobjusrsrcsysgeneric amd64 '
    config_args='-ds -e -Dprefix=/usr/perl5.18.4p'
    hint=recommended, useposix=true, d_sigaction=define
    useithreads=undef, usemultiplicity=undef
    useperlio=define, d_sfio=undef, uselargefiles=define, usesocks=undef
    use64bitint=define, use64bitall=define, uselongdouble=undef
    usemymalloc=n, bincompat5005=undef
  Compiler:
    cc='cc', ccflags ='-DHAS_FPSETMASK -DHAS_FLOATINGPOINT_H -fno-strict-aliasing -pipe -fstack-protector -I/usr/local/include',
    optimize='-O',
    cppflags='-DHAS_FPSETMASK -DHAS_FLOATINGPOINT_H -fno-strict-aliasing -pipe -fstack-protector -I/usr/local/include'
    ccversion='', gccversion='4.2.1 Compatible FreeBSD Clang 3.4.1 (tags/RELEASE_34/dot1-final 208032)', gccosandvers=''
    intsize=4, longsize=8, ptrsize=8, doublesize=8, byteorder=12345678
    d_longlong=define, longlongsize=8, d_longdbl=define, longdblsize=16
    ivtype='long', ivsize=8, nvtype='double', nvsize=8, Off_t='off_t', lseeksize=8
    alignbytes=8, prototype=define
  Linker and Libraries:
    ld='cc', ldflags ='-pthread -Wl,-E  -fstack-protector -L/usr/local/lib'
    libpth=/usr/lib /usr/local/lib
    libs=-lgdbm -lm -lcrypt -lutil -lc
    perllibs=-lm -lcrypt -lutil -lc
    libc=, so=so, useshrplib=false, libperl=libperl.a
    gnulibc_version=''
  Dynamic Linking:
    dlsrc=dl_dlopen.xs, dlext=so, d_dlsymun=undef, ccdlflags=' '
    cccdlflags='-DPIC -fPIC', lddlflags='-shared  -L/usr/local/lib -fstack-protector'


Characteristics of this binary (from libperl): 
  Compile-time options: HAS_TIMES PERLIO_LAYERS PERL_DONT_CREATE_GVSV
                        PERL_HASH_FUNC_ONE_AT_A_TIME_HARD PERL_MALLOC_WRAP
                        PERL_PRESERVE_IVUV PERL_SAWAMPERSAND USE_64_BIT_ALL
                        USE_64_BIT_INT USE_LARGE_FILES USE_LOCALE
                        USE_LOCALE_COLLATE USE_LOCALE_CTYPE
                        USE_LOCALE_NUMERIC USE_PERLIO USE_PERL_ATOF
  Built under freebsd
  Compiled at Apr  4 2015 13:03:15
  %ENV:
    PERL5LIB=""
    PERL5OPT=""
    PERL5_CPANPLUS_IS_RUNNING="9382"
    PERL5_CPAN_IS_RUNNING="9382"
    PERL5_CPAN_IS_RUNNING_IN_RECURSION="4946,9382"
    PERLDOC="-MPod::Perldoc::ToTextOverstrike"
    PERL_BATCH="yes"
    PERL_CANARY_STABILITY_NOPROMPT="1"
    PERL_CPAN_REPORTER_CONFIG="/var/tmp/cpansmoker-1023/2021082822/cpanreporter_000_config.ini"
    PERL_EXTUTILS_AUTOINSTALL="--defaultdeps"
    PERL_USE_UNSAFE_INC="1"
  @INC:
    /usr/perl5.18.4p/lib/site_perl/5.18.4/amd64-freebsd
    /usr/perl5.18.4p/lib/site_perl/5.18.4
    /usr/perl5.18.4p/lib/5.18.4/amd64-freebsd
    /usr/perl5.18.4p/lib/5.18.4
    .